BEGIN:VCALENDAR
VERSION:2.0
PRODID:-//New Braunfels Downtown - ECPv6.15.18//NONSGML v1.0//EN
CALSCALE:GREGORIAN
METHOD:PUBLISH
X-WR-CALNAME:New Braunfels Downtown
X-ORIGINAL-URL:https://downtownnewbraunfels.com
X-WR-CALDESC:Events for New Braunfels Downtown
REFRESH-INTERVAL;VALUE=DURATION:PT1H
X-Robots-Tag:noindex
X-PUBLISHED-TTL:PT1H
BEGIN:VTIMEZONE
TZID:America/Chicago
BEGIN:DAYLIGHT
TZOFFSETFROM:-0600
TZOFFSETTO:-0500
TZNAME:CDT
DTSTART:20170312T080000
END:DAYLIGHT
BEGIN:STANDARD
TZOFFSETFROM:-0500
TZOFFSETTO:-0600
TZNAME:CST
DTSTART:20171105T070000
END:STANDARD
BEGIN:DAYLIGHT
TZOFFSETFROM:-0600
TZOFFSETTO:-0500
TZNAME:CDT
DTSTART:20180311T080000
END:DAYLIGHT
BEGIN:STANDARD
TZOFFSETFROM:-0500
TZOFFSETTO:-0600
TZNAME:CST
DTSTART:20181104T070000
END:STANDARD
BEGIN:DAYLIGHT
TZOFFSETFROM:-0600
TZOFFSETTO:-0500
TZNAME:CDT
DTSTART:20190310T080000
END:DAYLIGHT
BEGIN:STANDARD
TZOFFSETFROM:-0500
TZOFFSETTO:-0600
TZNAME:CST
DTSTART:20191103T070000
END:STANDARD
END:VTIMEZONE
BEGIN:VEVENT
DTSTART;TZID=America/Chicago:20180626T140000
DTEND;TZID=America/Chicago:20180626T150000
DTSTAMP:20260419T160640
CREATED:20180626T162112Z
LAST-MODIFIED:20180626T162112Z
UID:1986-1530021600-1530025200@downtownnewbraunfels.com
SUMMARY:Kid's Comic Drawing Workshop
DESCRIPTION:The artist and writer Zip Alegria will be holding a workshop for kids June 26th\, 27th\, and 28th\, from 2 PM to 3 PM. For ages 8 to 14\, limited spots are available. \nEvery day\, students will learn a new aspect of comic book creating such as composition\, visual storytelling\, and lettering. With years of comic book and storyboard artwork\, Zip hopes to engage the students in a fun learning environment. By the end of the session\, if the student attended all three days\, each student will have a completed comic book page. \nWorkshop cost is 30 dollars and covers all materials needed and given during the workshop.
URL:https://downtownnewbraunfels.com/event/kids-comic-drawing-workshop/2018-06-26/
LOCATION:7 Monks Cafe\, 540 S Castell Ave\, New Braunfels\, TX\, 78130\, United States
ATTACH;FMTTYPE=image/jpeg:https://downtownnewbraunfels.com/wp-content/uploads/2018/06/kids-comic-workshop.jpg
GEO:29.6978905;-98.1199251
X-APPLE-STRUCTURED-LOCATION;VALUE=URI;X-ADDRESS=7 Monks Cafe 540 S Castell Ave New Braunfels TX 78130 United States;X-APPLE-RADIUS=500;X-TITLE=540 S Castell Ave:geo:-98.1199251,29.6978905
END:VEVENT
END:VCALENDAR