BEGIN:VCALENDAR
VERSION:2.0
PRODID:-//New Braunfels Downtown - ECPv6.15.18//NONSGML v1.0//EN
CALSCALE:GREGORIAN
METHOD:PUBLISH
X-WR-CALNAME:New Braunfels Downtown
X-ORIGINAL-URL:https://downtownnewbraunfels.com
X-WR-CALDESC:Events for New Braunfels Downtown
REFRESH-INTERVAL;VALUE=DURATION:PT1H
X-Robots-Tag:noindex
X-PUBLISHED-TTL:PT1H
BEGIN:VTIMEZONE
TZID:America/Chicago
BEGIN:DAYLIGHT
TZOFFSETFROM:-0600
TZOFFSETTO:-0500
TZNAME:CDT
DTSTART:20230312T080000
END:DAYLIGHT
BEGIN:STANDARD
TZOFFSETFROM:-0500
TZOFFSETTO:-0600
TZNAME:CST
DTSTART:20231105T070000
END:STANDARD
BEGIN:DAYLIGHT
TZOFFSETFROM:-0600
TZOFFSETTO:-0500
TZNAME:CDT
DTSTART:20240310T080000
END:DAYLIGHT
BEGIN:STANDARD
TZOFFSETFROM:-0500
TZOFFSETTO:-0600
TZNAME:CST
DTSTART:20241103T070000
END:STANDARD
BEGIN:DAYLIGHT
TZOFFSETFROM:-0600
TZOFFSETTO:-0500
TZNAME:CDT
DTSTART:20250309T080000
END:DAYLIGHT
BEGIN:STANDARD
TZOFFSETFROM:-0500
TZOFFSETTO:-0600
TZNAME:CST
DTSTART:20251102T070000
END:STANDARD
END:VTIMEZONE
BEGIN:VEVENT
DTSTART;TZID=America/Chicago:20240727T100000
DTEND;TZID=America/Chicago:20240727T170000
DTSTAMP:20260424T062304
CREATED:20240719T152506Z
LAST-MODIFIED:20240719T152853Z
UID:5393-1722074400-1722099600@downtownnewbraunfels.com
SUMMARY:Quilt Fest 2024
DESCRIPTION:Excitement is building as the New Braunfels Area Quilt Guild is busy making final preparations for their much-anticipated QuiltFest 2024\, which will take place at the New Braunfels Civic/Convention Center on Friday\, July 26th and Saturday\, July 27th\, from 10:00 AM to 5:00 PM. \nFounded in 1982\, the New Braunfels Area Quilt Guild is home to a group of 174 local quilters who meet monthly and participate in community service projects such as Story Book Quilts\, Quilts for Those in Need\, Habitat for Humanity\, and Hope Hospice.  Through their work\, the New Braunfels Area Quilt Guild hopes to share an appreciation for the art of quilting\, improve education on quilting techniques among the quilting community and the public\, and expand knowledge of the historical significance of quilting as not only a necessity but an art form that is woven into the very fibers of our history. \nQuiltFest 2024 is the Guild’s largest fundraising event.  This year’s theme is “Peace\, Love\, and Flower Power”.  Held biennially\, QuiltFest 2024 will offer over 180 quilts on display for the public.  Quilts are entered and judged in categories divided by size\, technique\, theme\, group\, and more.  A stunning Guild donation raffle quilt will also be display\, and tickets will be available for purchase at the show. \nIn addition to viewing these breathtaking works of local textile art\, QuiltFest 2024 offers the opportunity to shop with vendors who will be set up to offer a variety of creative products and services to quilters and the community.  Vendors will also offer demonstrations on the ballroom stage throughout the two-day event. \nThe New Braunfels Quilt Guild will be offering a boutique of handmade items and quilts for sale\, as well as an Emporium\, which is a popular thrift store-type environment that offers quilting fabric\, notions\, and much more.  On the Ballroom stage\, the Guild will have scheduled antique bed turnings.  Bed turnings allow guests to immerse themselves in the stories of historical quilts and teachings of construction and materials used.  Each bed turning will showcase different quilts. \nBe sure to visit the Guild’s groovy photo booth located in the Exhibit Hall for a quick selfie or photo with friends\, and grab something to eat and a beverage at the snack bar\, which is hosted this year by the North Shore United Methodist Women and United Methodist Men of Canyon Lake.  Profits from the snack bar will be donated to local missions focused on the needs of the entire family. \nQuiltFest 2024 admission tickets are $10 per person\, and children 10 and under enter free.  The New Braunfels Civic/Convention Center is located at 375 South Castell Avenue.  If you are interested in purchasing donation raffle quilt tickets\, they are available at the event for $1 per ticket or $5 for 6 tickets. \nThe New Braunfels Area Quilt Guild would like to personally invite community members to come out and enjoy a family-friendly day of locally crafted quilts and fun.  We hope to see you there! \nFor more information on the event\, please email nbaqgpublicity@gmail.com or visit our website at www.newbraunfelsareaquiltguild.org.
URL:https://downtownnewbraunfels.com/event/quilt-fest2024/2024-07-27/
LOCATION:New Braunfels Civic/Convention Center\, 375 South Castell Avenue\, New Braunfels\, TX\, 78130\, United States
ATTACH;FMTTYPE=image/jpeg:https://downtownnewbraunfels.com/wp-content/uploads/2024/07/FB-flyer-for-Quilt-Fest-1.jpg
GEO:29.700189;-98.121653
X-APPLE-STRUCTURED-LOCATION;VALUE=URI;X-ADDRESS=New Braunfels Civic/Convention Center 375 South Castell Avenue New Braunfels TX 78130 United States;X-APPLE-RADIUS=500;X-TITLE=375 South Castell Avenue:geo:-98.121653,29.700189
END:VEVENT
BEGIN:VEVENT
DTSTART;TZID=America/Chicago:20240726T100000
DTEND;TZID=America/Chicago:20240726T170000
DTSTAMP:20260424T062305
CREATED:20240719T152506Z
LAST-MODIFIED:20240719T152853Z
UID:5390-1721988000-1722013200@downtownnewbraunfels.com
SUMMARY:Quilt Fest 2024
DESCRIPTION:Excitement is building as the New Braunfels Area Quilt Guild is busy making final preparations for their much-anticipated QuiltFest 2024\, which will take place at the New Braunfels Civic/Convention Center on Friday\, July 26th and Saturday\, July 27th\, from 10:00 AM to 5:00 PM. \nFounded in 1982\, the New Braunfels Area Quilt Guild is home to a group of 174 local quilters who meet monthly and participate in community service projects such as Story Book Quilts\, Quilts for Those in Need\, Habitat for Humanity\, and Hope Hospice.  Through their work\, the New Braunfels Area Quilt Guild hopes to share an appreciation for the art of quilting\, improve education on quilting techniques among the quilting community and the public\, and expand knowledge of the historical significance of quilting as not only a necessity but an art form that is woven into the very fibers of our history. \nQuiltFest 2024 is the Guild’s largest fundraising event.  This year’s theme is “Peace\, Love\, and Flower Power”.  Held biennially\, QuiltFest 2024 will offer over 180 quilts on display for the public.  Quilts are entered and judged in categories divided by size\, technique\, theme\, group\, and more.  A stunning Guild donation raffle quilt will also be display\, and tickets will be available for purchase at the show. \nIn addition to viewing these breathtaking works of local textile art\, QuiltFest 2024 offers the opportunity to shop with vendors who will be set up to offer a variety of creative products and services to quilters and the community.  Vendors will also offer demonstrations on the ballroom stage throughout the two-day event. \nThe New Braunfels Quilt Guild will be offering a boutique of handmade items and quilts for sale\, as well as an Emporium\, which is a popular thrift store-type environment that offers quilting fabric\, notions\, and much more.  On the Ballroom stage\, the Guild will have scheduled antique bed turnings.  Bed turnings allow guests to immerse themselves in the stories of historical quilts and teachings of construction and materials used.  Each bed turning will showcase different quilts. \nBe sure to visit the Guild’s groovy photo booth located in the Exhibit Hall for a quick selfie or photo with friends\, and grab something to eat and a beverage at the snack bar\, which is hosted this year by the North Shore United Methodist Women and United Methodist Men of Canyon Lake.  Profits from the snack bar will be donated to local missions focused on the needs of the entire family. \nQuiltFest 2024 admission tickets are $10 per person\, and children 10 and under enter free.  The New Braunfels Civic/Convention Center is located at 375 South Castell Avenue.  If you are interested in purchasing donation raffle quilt tickets\, they are available at the event for $1 per ticket or $5 for 6 tickets. \nThe New Braunfels Area Quilt Guild would like to personally invite community members to come out and enjoy a family-friendly day of locally crafted quilts and fun.  We hope to see you there! \nFor more information on the event\, please email nbaqgpublicity@gmail.com or visit our website at www.newbraunfelsareaquiltguild.org.
URL:https://downtownnewbraunfels.com/event/quilt-fest2024/2024-07-26/
LOCATION:New Braunfels Civic/Convention Center\, 375 South Castell Avenue\, New Braunfels\, TX\, 78130\, United States
ATTACH;FMTTYPE=image/jpeg:https://downtownnewbraunfels.com/wp-content/uploads/2024/07/FB-flyer-for-Quilt-Fest-1.jpg
GEO:29.700189;-98.121653
X-APPLE-STRUCTURED-LOCATION;VALUE=URI;X-ADDRESS=New Braunfels Civic/Convention Center 375 South Castell Avenue New Braunfels TX 78130 United States;X-APPLE-RADIUS=500;X-TITLE=375 South Castell Avenue:geo:-98.121653,29.700189
END:VEVENT
END:VCALENDAR