BEGIN:VCALENDAR
VERSION:2.0
PRODID:-//New Braunfels Downtown - ECPv6.15.18//NONSGML v1.0//EN
CALSCALE:GREGORIAN
METHOD:PUBLISH
X-WR-CALNAME:New Braunfels Downtown
X-ORIGINAL-URL:https://downtownnewbraunfels.com
X-WR-CALDESC:Events for New Braunfels Downtown
REFRESH-INTERVAL;VALUE=DURATION:PT1H
X-Robots-Tag:noindex
X-PUBLISHED-TTL:PT1H
BEGIN:VTIMEZONE
TZID:America/Chicago
BEGIN:DAYLIGHT
TZOFFSETFROM:-0600
TZOFFSETTO:-0500
TZNAME:CDT
DTSTART:20240310T080000
END:DAYLIGHT
BEGIN:STANDARD
TZOFFSETFROM:-0500
TZOFFSETTO:-0600
TZNAME:CST
DTSTART:20241103T070000
END:STANDARD
BEGIN:DAYLIGHT
TZOFFSETFROM:-0600
TZOFFSETTO:-0500
TZNAME:CDT
DTSTART:20250309T080000
END:DAYLIGHT
BEGIN:STANDARD
TZOFFSETFROM:-0500
TZOFFSETTO:-0600
TZNAME:CST
DTSTART:20251102T070000
END:STANDARD
BEGIN:DAYLIGHT
TZOFFSETFROM:-0600
TZOFFSETTO:-0500
TZNAME:CDT
DTSTART:20260308T080000
END:DAYLIGHT
BEGIN:STANDARD
TZOFFSETFROM:-0500
TZOFFSETTO:-0600
TZNAME:CST
DTSTART:20261101T070000
END:STANDARD
END:VTIMEZONE
BEGIN:VEVENT
DTSTART;TZID=America/Chicago:20250306T100000
DTEND;TZID=America/Chicago:20250327T160000
DTSTAMP:20260424T050320
CREATED:20250322T143918Z
LAST-MODIFIED:20250322T143918Z
UID:6685-1741255200-1743091200@downtownnewbraunfels.com
SUMMARY:Important Spanish Colonial Paintings and Ancient Asian Art
DESCRIPTION:This Free Exhibition features beautifully framed Spanish colonial paintings (17-19th c.)\, original Japanese anime cels\, ancient Chinese bronzes (circa 1000 B.C.)\, and Han Dynasty ceramics.
URL:https://downtownnewbraunfels.com/event/important-spanish-colonial-paintings-and-ancient-asian-art/
LOCATION:Meadowlark Garden and Gallery\, 210 W Mill Street\, New Braunfels\, TX\, 78130\, United States
CATEGORIES:Arts & Culture
ATTACH;FMTTYPE=image/png:https://downtownnewbraunfels.com/wp-content/uploads/2025/03/Exhibtion_Post.png
GEO:29.7026691;-98.1270075
X-APPLE-STRUCTURED-LOCATION;VALUE=URI;X-ADDRESS=Meadowlark Garden and Gallery 210 W Mill Street New Braunfels TX 78130 United States;X-APPLE-RADIUS=500;X-TITLE=210 W Mill Street:geo:-98.1270075,29.7026691
END:VEVENT
BEGIN:VEVENT
DTSTART;TZID=America/Chicago:20250307T170000
DTEND;TZID=America/Chicago:20250307T200000
DTSTAMP:20260424T050320
CREATED:20250108T161116Z
LAST-MODIFIED:20250108T161116Z
UID:6221-1741366800-1741377600@downtownnewbraunfels.com
SUMMARY:First Friday
DESCRIPTION:Join us for First Friday in Downtown New Braunfels! Enjoy late-night shopping\, free beverage samples and fantastic prizes and giveaways! \nJoin us at the three official Downtown prize stops\, where you can sample adult beverages\, get your prize card stamped\, and be entered in our drawing for a First Friday Downtown Prize Package.
URL:https://downtownnewbraunfels.com/event/first-friday-3/
LOCATION:Downtown New Braunfels\, 470 Main Plaza\, New Braunfels\, TX\, 78130\, United States
CATEGORIES:Community,Featured,Festival
ATTACH;FMTTYPE=image/jpeg:https://downtownnewbraunfels.com/wp-content/uploads/2025/01/FF_Logo_2023.jpg
GEO:29.7028203;-98.1250624
X-APPLE-STRUCTURED-LOCATION;VALUE=URI;X-ADDRESS=Downtown New Braunfels 470 Main Plaza New Braunfels TX 78130 United States;X-APPLE-RADIUS=500;X-TITLE=470 Main Plaza:geo:-98.1250624,29.7028203
END:VEVENT
BEGIN:VEVENT
DTSTART;TZID=America/Chicago:20250307T180000
DTEND;TZID=America/Chicago:20250307T210000
DTSTAMP:20260424T050320
CREATED:20250213T141532Z
LAST-MODIFIED:20250213T141532Z
UID:6488-1741370400-1741381200@downtownnewbraunfels.com
SUMMARY:Trey Gonzalez Band
DESCRIPTION:​There’s a lot more than what meets the eye with Country Artist Trey Gonzalez. From his worn hat and boots\, dark brown eyes\, and light-hearted smile\, you would never think a deep sense of ambition was burning in this young cowboy’s heart. Born and raised in San Antonio\, Texas\, Trey grew up listening to country music in an ’01 Ford F-150 where he sang along to the likes of George Strait and Alan Jackson. As time would pass\, he began to enjoy the tones of Eric Church\, Easton Corbin\, Luke Bryan\, and Cody Johnson.
URL:https://downtownnewbraunfels.com/event/trey-gonzalez-band-2/
LOCATION:Krause’s Cafe\, 148 S. Castell Ave\, New Braunfels\, TX\, 78130
CATEGORIES:Live Music
ATTACH;FMTTYPE=image/jpeg:https://downtownnewbraunfels.com/wp-content/uploads/2025/02/1-Trey-Gonzalez-rec.jpg
GEO:29.7012853;-98.1250235
X-APPLE-STRUCTURED-LOCATION;VALUE=URI;X-ADDRESS=Krause’s Cafe 148 S. Castell Ave New Braunfels TX 78130;X-APPLE-RADIUS=500;X-TITLE=148 S. Castell Ave:geo:-98.1250235,29.7012853
END:VEVENT
BEGIN:VEVENT
DTSTART;TZID=America/Chicago:20250307T193000
DTEND;TZID=America/Chicago:20250307T213000
DTSTAMP:20260424T050320
CREATED:20241220T225339Z
LAST-MODIFIED:20241220T225339Z
UID:6135-1741375800-1741383000@downtownnewbraunfels.com
SUMMARY:ATLANTA RHYTHM SECTION
DESCRIPTION:You are sure to enjoy an unforgettable night with Atlanta Rhythm Section on March 7th! This band is one of America’s favorite classic rock / soft rock stations on Spotify! Originally formed in 1970 by some of the best studio musicians from Atlanta\, ARS rose to fame with their breakthrough hit “So Into You” and the platinum album Champagne Jam\, featuring the chart-topping single “Imaginary Lover.” Known for their smooth blend of Southern rock and pop\, the band has a timeless sound that has captivated audiences for decades. Inducted into the Georgia Music Hall of Fame\, ARS continues to perform their iconic hits and showcase the musical brilliance that defined a beloved era. Don’t miss this chance to experience the legendary Atlanta Rhythm Section live on the Brauntex stage!
URL:https://downtownnewbraunfels.com/event/atlanta-rhythm-section/
LOCATION:The Brauntex Theatre\, 290 W San Antonio St\, New Braunfels\, 78130\, United States
CATEGORIES:Live Music
ATTACH;FMTTYPE=image/jpeg:https://downtownnewbraunfels.com/wp-content/uploads/2024/12/2024-2025-Season_Social_ARS-scaled.jpg
GEO:29.7013707;-98.1265595
X-APPLE-STRUCTURED-LOCATION;VALUE=URI;X-ADDRESS=The Brauntex Theatre 290 W San Antonio St New Braunfels 78130 United States;X-APPLE-RADIUS=500;X-TITLE=290 W San Antonio St:geo:-98.1265595,29.7013707
END:VEVENT
END:VCALENDAR