BEGIN:VCALENDAR
VERSION:2.0
PRODID:-//New Braunfels Downtown - ECPv6.15.18//NONSGML v1.0//EN
CALSCALE:GREGORIAN
METHOD:PUBLISH
X-ORIGINAL-URL:https://downtownnewbraunfels.com
X-WR-CALDESC:Events for New Braunfels Downtown
REFRESH-INTERVAL;VALUE=DURATION:PT1H
X-Robots-Tag:noindex
X-PUBLISHED-TTL:PT1H
BEGIN:VTIMEZONE
TZID:America/Chicago
BEGIN:DAYLIGHT
TZOFFSETFROM:-0600
TZOFFSETTO:-0500
TZNAME:CDT
DTSTART:20240310T080000
END:DAYLIGHT
BEGIN:STANDARD
TZOFFSETFROM:-0500
TZOFFSETTO:-0600
TZNAME:CST
DTSTART:20241103T070000
END:STANDARD
BEGIN:DAYLIGHT
TZOFFSETFROM:-0600
TZOFFSETTO:-0500
TZNAME:CDT
DTSTART:20250309T080000
END:DAYLIGHT
BEGIN:STANDARD
TZOFFSETFROM:-0500
TZOFFSETTO:-0600
TZNAME:CST
DTSTART:20251102T070000
END:STANDARD
BEGIN:DAYLIGHT
TZOFFSETFROM:-0600
TZOFFSETTO:-0500
TZNAME:CDT
DTSTART:20260308T080000
END:DAYLIGHT
BEGIN:STANDARD
TZOFFSETFROM:-0500
TZOFFSETTO:-0600
TZNAME:CST
DTSTART:20261101T070000
END:STANDARD
END:VTIMEZONE
BEGIN:VEVENT
DTSTART;TZID=America/Chicago:20250306T100000
DTEND;TZID=America/Chicago:20250327T160000
DTSTAMP:20260421T061207
CREATED:20250322T143918Z
LAST-MODIFIED:20250322T143918Z
UID:6685-1741255200-1743091200@downtownnewbraunfels.com
SUMMARY:Important Spanish Colonial Paintings and Ancient Asian Art
DESCRIPTION:This Free Exhibition features beautifully framed Spanish colonial paintings (17-19th c.)\, original Japanese anime cels\, ancient Chinese bronzes (circa 1000 B.C.)\, and Han Dynasty ceramics.
URL:https://downtownnewbraunfels.com/event/important-spanish-colonial-paintings-and-ancient-asian-art/
LOCATION:Meadowlark Garden and Gallery\, 210 W Mill Street\, New Braunfels\, TX\, 78130\, United States
CATEGORIES:Arts & Culture
ATTACH;FMTTYPE=image/png:https://downtownnewbraunfels.com/wp-content/uploads/2025/03/Exhibtion_Post.png
GEO:29.7026691;-98.1270075
X-APPLE-STRUCTURED-LOCATION;VALUE=URI;X-ADDRESS=Meadowlark Garden and Gallery 210 W Mill Street New Braunfels TX 78130 United States;X-APPLE-RADIUS=500;X-TITLE=210 W Mill Street:geo:-98.1270075,29.7026691
END:VEVENT
BEGIN:VEVENT
DTSTART;TZID=America/Chicago:20250321T180000
DTEND;TZID=America/Chicago:20250321T210000
DTSTAMP:20260421T061207
CREATED:20250217T201228Z
LAST-MODIFIED:20250217T201228Z
UID:6520-1742580000-1742590800@downtownnewbraunfels.com
SUMMARY:Gus Miller & The Buzz Killers
DESCRIPTION:American Roots Music from Austin\, Texas The Gus Miller has been described as “a laid back Outlaw Hippie Country vibe\, rooted in place and attitude” by LA On Lock\, drawing influence from the Cosmic Country sounds of the early ‘70s (Gram Parsons\, Willie Nelson\, Jerry Jeff Walker). “[His style] really flows in the flavor of some tight vintage outlaw country\,” Independent Music Review wrote\, while a recent interview with Music Mecca praises Gus’ music as “reminiscent of country classics from eras of the past”. At 27 years young\, Miller has had the opportunity to share bills with big names like Ray Wylie Hubbard\, The Wood Brothers\, Jason Boland\, and many more. Some of his accolades include being a winning finalist in the Kerrville Folk Festival’s university songwriting competition and being named “Artist of the Month’ by the Austin Music Foundation\, both of which he achieved while earning his degree at The University of Texas in Austin. His debut EP\, released on 11/12/2020\, has drawn praise from Country and American Roots music fans and critics alike. With a full-length record on the way\, you can expect more from Miller in the near future.
URL:https://downtownnewbraunfels.com/event/gus-miller-the-buzz-killers-2/
LOCATION:Krause’s Cafe\, 148 S. Castell Ave\, New Braunfels\, TX\, 78130
CATEGORIES:Live Music
ATTACH;FMTTYPE=image/jpeg:https://downtownnewbraunfels.com/wp-content/uploads/2025/02/1-gus-miller-band-rec.jpg
GEO:29.7012853;-98.1250235
X-APPLE-STRUCTURED-LOCATION;VALUE=URI;X-ADDRESS=Krause’s Cafe 148 S. Castell Ave New Braunfels TX 78130;X-APPLE-RADIUS=500;X-TITLE=148 S. Castell Ave:geo:-98.1250235,29.7012853
END:VEVENT
END:VCALENDAR