BEGIN:VCALENDAR
VERSION:2.0
PRODID:-//New Braunfels Downtown - ECPv6.15.18//NONSGML v1.0//EN
CALSCALE:GREGORIAN
METHOD:PUBLISH
X-ORIGINAL-URL:https://downtownnewbraunfels.com
X-WR-CALDESC:Events for New Braunfels Downtown
REFRESH-INTERVAL;VALUE=DURATION:PT1H
X-Robots-Tag:noindex
X-PUBLISHED-TTL:PT1H
BEGIN:VTIMEZONE
TZID:America/Chicago
BEGIN:DAYLIGHT
TZOFFSETFROM:-0600
TZOFFSETTO:-0500
TZNAME:CDT
DTSTART:20240310T080000
END:DAYLIGHT
BEGIN:STANDARD
TZOFFSETFROM:-0500
TZOFFSETTO:-0600
TZNAME:CST
DTSTART:20241103T070000
END:STANDARD
BEGIN:DAYLIGHT
TZOFFSETFROM:-0600
TZOFFSETTO:-0500
TZNAME:CDT
DTSTART:20250309T080000
END:DAYLIGHT
BEGIN:STANDARD
TZOFFSETFROM:-0500
TZOFFSETTO:-0600
TZNAME:CST
DTSTART:20251102T070000
END:STANDARD
BEGIN:DAYLIGHT
TZOFFSETFROM:-0600
TZOFFSETTO:-0500
TZNAME:CDT
DTSTART:20260308T080000
END:DAYLIGHT
BEGIN:STANDARD
TZOFFSETFROM:-0500
TZOFFSETTO:-0600
TZNAME:CST
DTSTART:20261101T070000
END:STANDARD
END:VTIMEZONE
BEGIN:VEVENT
DTSTART;TZID=America/Chicago:20250815T183000
DTEND;TZID=America/Chicago:20250815T213000
DTSTAMP:20260425T113943
CREATED:20250812T160644Z
LAST-MODIFIED:20250812T160644Z
UID:7345-1755282600-1755293400@downtownnewbraunfels.com
SUMMARY:Classic Rewind
DESCRIPTION:Classic Rewind began performing together in early 2022 as the backup band for RAW “The Band in SA” when one or more of the principal players in RAW were unavailable and the other band members were still available to perform. Classic Rewind features Homer Gutierrez on guitar and vocals\, Phil Hearn on bass and vocals and Alan Bush on Drums. Homer was a working musician in the Dallas Fort Worth area before moving to San Antonio; Phil has performed with a multitude of bands in and around the San Antonio and Houston areas as a Texan born resident of Houston before moving to San Antonio; Alan is a San Antonio transplant from the Midwest via Los Angeles where he worked with a myriad of recording musicians\, including Kenny Loggins\, The Motels\, Pat Metheny\, Tom Scott\, Gene Simmons of KISS and Rick Nelson among many others. The genre of music of pop classic rock music spans the gamut from the 60’s through turn of the 21st century hits. The band has a large repertoire\, a large following and tries to accommodate most requests.
URL:https://downtownnewbraunfels.com/event/classic-rewind-7/
LOCATION:Krause’s Cafe\, 148 S. Castell Ave\, New Braunfels\, TX\, 78130
CATEGORIES:Live Music
ATTACH;FMTTYPE=image/jpeg:https://downtownnewbraunfels.com/wp-content/uploads/2025/07/1-Classic-Rewind.jpg
GEO:29.7012853;-98.1250235
X-APPLE-STRUCTURED-LOCATION;VALUE=URI;X-ADDRESS=Krause’s Cafe 148 S. Castell Ave New Braunfels TX 78130;X-APPLE-RADIUS=500;X-TITLE=148 S. Castell Ave:geo:-98.1250235,29.7012853
END:VEVENT
BEGIN:VEVENT
DTSTART;TZID=America/Chicago:20250815T190000
DTEND;TZID=America/Chicago:20250815T220000
DTSTAMP:20260425T113943
CREATED:20250812T164514Z
LAST-MODIFIED:20250812T164514Z
UID:7387-1755284400-1755295200@downtownnewbraunfels.com
SUMMARY:FOOVANA TRIBUTE BAND: FOO FIGHTERS & NIRVANA
DESCRIPTION:FOOVANA Tribute – A Night of Foo Fighters & Nirvana \nDate: Friday\, August 15th \nTime: 7 PM – 10 PM \nLocation: Faust Brewing Company\, 499 S. Castell Ave.\, New Braunfels\, TX \nTwo iconic bands. One epic night.Get ready for a full-throttle tribute to FOO FIGHTERS and NIRVANA—an explosive blend of gritty grunge and hard-hitting alt-rock that’ll echo through Downtown New Braunfels! \nLive Music – A powerhouse performance featuring the hits that shaped a generation \nTickets Required – $10 online | $15 at the door \nReserve a Table – Lock in your spot and rock out in comfort🤘 Wear your band tees\, flannel\, and bring that 90s energy! \nThis is more than a tribute—it’s a sonic revival. Let’s scream\, sing\, and relive the raw power of Foovana.Prost! 🍻 \n#FoovanaTribute #FooFightersNirvanaNight #FaustBrewingCompany #LiveMusicNB #sipsavorsocialize #NewBraunfelsEvents
URL:https://downtownnewbraunfels.com/event/foovana-tribute-band-foo-fighters-nirvana/
LOCATION:Faust Brewing Company\, 499 S Castell Ave\, New Braunfels\, TX\, 78130\, United States
CATEGORIES:Family Friendly,Featured,Festival,Live Music,Nightlife
ATTACH;FMTTYPE=image/jpeg:https://downtownnewbraunfels.com/wp-content/uploads/2025/07/Foovana-scaled.jpg
GEO:29.6986971;-98.1203304
X-APPLE-STRUCTURED-LOCATION;VALUE=URI;X-ADDRESS=Faust Brewing Company 499 S Castell Ave New Braunfels TX 78130 United States;X-APPLE-RADIUS=500;X-TITLE=499 S Castell Ave:geo:-98.1203304,29.6986971
END:VEVENT
BEGIN:VEVENT
DTSTART;TZID=America/Chicago:20250815T193000
DTEND;TZID=America/Chicago:20250815T193000
DTSTAMP:20260425T113943
CREATED:20250206T162023Z
LAST-MODIFIED:20250206T162023Z
UID:6403-1755286200-1755286200@downtownnewbraunfels.com
SUMMARY:Parallel Lives at Circle Arts Theatre
DESCRIPTION:Parallel Lives\n2 women playing 40 characters in 2 hours. Get ready for chaos! The dynamic duo will play Supreme Beings making plans for mankind\, teenagers on a date\, sisters at their grandmother’s funeral\, a man and a woman in a country-western bar\, a couple of hippies\, and so much more. You never know who you’ll see on the stage as the audience is whisked through the outrageous struggles of modern life. Ages 18+ \nAugust 15th- CHAMPAGNE OPENING- Join us after the show for food\, drinks and a meet and greet with the cast. \nAugust 16th- PAY WHAT YOU CAN- All tickets at the door will be available on a pay-what-you-can basis. Pre-purchases will be full price and flex passes will work as usual
URL:https://downtownnewbraunfels.com/event/parallel-lives-at-circle-arts-theatre/
LOCATION:Circle Arts Theatre\, 124 Elizabeth Street\, New Braunfels\, Texas\, 78130
CATEGORIES:Theater
ATTACH;FMTTYPE=image/jpeg:https://downtownnewbraunfels.com/wp-content/uploads/2025/02/Parallel-Lives-Logo-980x980-1.jpg
GEO:29.7079031;-98.1314236
X-APPLE-STRUCTURED-LOCATION;VALUE=URI;X-ADDRESS=Circle Arts Theatre 124 Elizabeth Street New Braunfels Texas 78130;X-APPLE-RADIUS=500;X-TITLE=124 Elizabeth Street:geo:-98.1314236,29.7079031
END:VEVENT
END:VCALENDAR