BEGIN:VCALENDAR
VERSION:2.0
PRODID:-//New Braunfels Downtown - ECPv6.15.18//NONSGML v1.0//EN
CALSCALE:GREGORIAN
METHOD:PUBLISH
X-WR-CALNAME:New Braunfels Downtown
X-ORIGINAL-URL:https://downtownnewbraunfels.com
X-WR-CALDESC:Events for New Braunfels Downtown
REFRESH-INTERVAL;VALUE=DURATION:PT1H
X-Robots-Tag:noindex
X-PUBLISHED-TTL:PT1H
BEGIN:VTIMEZONE
TZID:America/Chicago
BEGIN:DAYLIGHT
TZOFFSETFROM:-0600
TZOFFSETTO:-0500
TZNAME:CDT
DTSTART:20240310T080000
END:DAYLIGHT
BEGIN:STANDARD
TZOFFSETFROM:-0500
TZOFFSETTO:-0600
TZNAME:CST
DTSTART:20241103T070000
END:STANDARD
BEGIN:DAYLIGHT
TZOFFSETFROM:-0600
TZOFFSETTO:-0500
TZNAME:CDT
DTSTART:20250309T080000
END:DAYLIGHT
BEGIN:STANDARD
TZOFFSETFROM:-0500
TZOFFSETTO:-0600
TZNAME:CST
DTSTART:20251102T070000
END:STANDARD
BEGIN:DAYLIGHT
TZOFFSETFROM:-0600
TZOFFSETTO:-0500
TZNAME:CDT
DTSTART:20260308T080000
END:DAYLIGHT
BEGIN:STANDARD
TZOFFSETFROM:-0500
TZOFFSETTO:-0600
TZNAME:CST
DTSTART:20261101T070000
END:STANDARD
END:VTIMEZONE
BEGIN:VEVENT
DTSTART;TZID=America/Chicago:20250816T100000
DTEND;TZID=America/Chicago:20250816T130000
DTSTAMP:20260425T101408
CREATED:20250812T160803Z
LAST-MODIFIED:20250812T160803Z
UID:7349-1755338400-1755349200@downtownnewbraunfels.com
SUMMARY:Keith Kallina Duo
DESCRIPTION:Based in the Texas Hill Country\, Keith Michael Kallina\, was raised in the tradition of small-town Texas life. Music was always present in the home\, and healthy dose of classic rock from his father and country from his mother made for a variety of influences onto his musical palette. Leaving the comfort and security of his hometown at 18\, Keith indulged in satisfying a strong sense of wanderlust that pulled him around the country. Coast to coast and all the way up to the northern American border\, he explored his freedom\, as well as his senses\, all in a search for direction that would ultimately come in the form of playing music. In the years that followed\, no audience was too small or too far away. Before long\, Keith had built a reputation along his circuit as a talented and hardworking songwriter. But as long stretches of time on the road began to take its toll\, Keith fell victim to some of the same pitfalls as many of his hero’s before him. In 2015\, Keith stumbled into the realization that the only way to continue to pursue his passions in life would be through sobriety\, and to date has not had a drink since.
URL:https://downtownnewbraunfels.com/event/keith-kallina-duo-2/
LOCATION:Krause’s Cafe\, 148 S. Castell Ave\, New Braunfels\, TX\, 78130
CATEGORIES:Live Music
ATTACH;FMTTYPE=image/jpeg:https://downtownnewbraunfels.com/wp-content/uploads/2025/07/1-Keith-Kallina.jpg
GEO:29.7012853;-98.1250235
X-APPLE-STRUCTURED-LOCATION;VALUE=URI;X-ADDRESS=Krause’s Cafe 148 S. Castell Ave New Braunfels TX 78130;X-APPLE-RADIUS=500;X-TITLE=148 S. Castell Ave:geo:-98.1250235,29.7012853
END:VEVENT
BEGIN:VEVENT
DTSTART;TZID=America/Chicago:20250816T140000
DTEND;TZID=America/Chicago:20250816T170000
DTSTAMP:20260425T101408
CREATED:20250812T160855Z
LAST-MODIFIED:20250812T160855Z
UID:7347-1755352800-1755363600@downtownnewbraunfels.com
SUMMARY:Harter Brothers
DESCRIPTION:Known for their dynamic performances\, The Harter Brothers delivers a rich blend of standard blues\, blues rock\, and touches of Americana and Texas country. Their sound captures the spirit of traditional blues while infusing it with a modern edge\, making them a standout act on the local and regional music scenes.
URL:https://downtownnewbraunfels.com/event/harter-brothers/
LOCATION:Krause’s Cafe\, 148 S. Castell Ave\, New Braunfels\, TX\, 78130
CATEGORIES:Live Music
ATTACH;FMTTYPE=image/jpeg:https://downtownnewbraunfels.com/wp-content/uploads/2025/07/1-Keith-Harter.jpg
GEO:29.7012853;-98.1250235
X-APPLE-STRUCTURED-LOCATION;VALUE=URI;X-ADDRESS=Krause’s Cafe 148 S. Castell Ave New Braunfels TX 78130;X-APPLE-RADIUS=500;X-TITLE=148 S. Castell Ave:geo:-98.1250235,29.7012853
END:VEVENT
BEGIN:VEVENT
DTSTART;TZID=America/Chicago:20250816T183000
DTEND;TZID=America/Chicago:20250816T213000
DTSTAMP:20260425T101408
CREATED:20250812T160957Z
LAST-MODIFIED:20250812T160957Z
UID:7353-1755369000-1755379800@downtownnewbraunfels.com
SUMMARY:Yesenia & The Groove Doctors
DESCRIPTION:We’re back! Join your favorite party band\, Yesenia and the Groove Doctors\, and dance all night to hits from Motown to now. It’s time for your medication and the only prescription is more Groove Doctors music!
URL:https://downtownnewbraunfels.com/event/yesenia-the-groove-doctors-10/
LOCATION:Krause’s Cafe\, 148 S. Castell Ave\, New Braunfels\, TX\, 78130
CATEGORIES:Live Music
ATTACH;FMTTYPE=image/jpeg:https://downtownnewbraunfels.com/wp-content/uploads/2025/07/1-Yesenia.jpg
GEO:29.7012853;-98.1250235
X-APPLE-STRUCTURED-LOCATION;VALUE=URI;X-ADDRESS=Krause’s Cafe 148 S. Castell Ave New Braunfels TX 78130;X-APPLE-RADIUS=500;X-TITLE=148 S. Castell Ave:geo:-98.1250235,29.7012853
END:VEVENT
END:VCALENDAR