BEGIN:VCALENDAR
VERSION:2.0
PRODID:-//New Braunfels Downtown - ECPv6.15.18//NONSGML v1.0//EN
CALSCALE:GREGORIAN
METHOD:PUBLISH
X-ORIGINAL-URL:https://downtownnewbraunfels.com
X-WR-CALDESC:Events for New Braunfels Downtown
REFRESH-INTERVAL;VALUE=DURATION:PT1H
X-Robots-Tag:noindex
X-PUBLISHED-TTL:PT1H
BEGIN:VTIMEZONE
TZID:America/Chicago
BEGIN:DAYLIGHT
TZOFFSETFROM:-0600
TZOFFSETTO:-0500
TZNAME:CDT
DTSTART:20240310T080000
END:DAYLIGHT
BEGIN:STANDARD
TZOFFSETFROM:-0500
TZOFFSETTO:-0600
TZNAME:CST
DTSTART:20241103T070000
END:STANDARD
BEGIN:DAYLIGHT
TZOFFSETFROM:-0600
TZOFFSETTO:-0500
TZNAME:CDT
DTSTART:20250309T080000
END:DAYLIGHT
BEGIN:STANDARD
TZOFFSETFROM:-0500
TZOFFSETTO:-0600
TZNAME:CST
DTSTART:20251102T070000
END:STANDARD
BEGIN:DAYLIGHT
TZOFFSETFROM:-0600
TZOFFSETTO:-0500
TZNAME:CDT
DTSTART:20260308T080000
END:DAYLIGHT
BEGIN:STANDARD
TZOFFSETFROM:-0500
TZOFFSETTO:-0600
TZNAME:CST
DTSTART:20261101T070000
END:STANDARD
END:VTIMEZONE
BEGIN:VEVENT
DTSTART;TZID=America/Chicago:20250830T100000
DTEND;TZID=America/Chicago:20250830T130000
DTSTAMP:20260425T113934
CREATED:20250812T162738Z
LAST-MODIFIED:20250812T162738Z
UID:7448-1756548000-1756558800@downtownnewbraunfels.com
SUMMARY:Hunter Davis
DESCRIPTION:On March 2\, 2020\, Hunter Davis had just quit his bartending job to focus on music — with a new album produced by Wilco’s Ken Coomer and shows opening for legends like Aretha Franklin. Hours later\, a tornado destroyed his Nashville apartment\, leaving him with nothing but his guitar and songs. “It gave me a new perspective\,” he says. “Music was all I had left.”​ Raised on the Texas Gulf Coast\, Hunter grew up surrounded by sports\, music\, and storytelling. He earned a Division 1 football scholarship but left the game after an injury to chase his true passion: songwriting. Influenced by artists like Jackson Browne and Jason Isbell\, his Americana sound blends raw honesty with Southern roots. With help from top musicians\, he’s built a career on resilience\, melody\, and heart.
URL:https://downtownnewbraunfels.com/event/hunter-davis/
LOCATION:Krause’s Cafe\, 148 S. Castell Ave\, New Braunfels\, TX\, 78130
CATEGORIES:Live Music
ATTACH;FMTTYPE=image/jpeg:https://downtownnewbraunfels.com/wp-content/uploads/2025/08/Hunter-Davis.jpg
GEO:29.7012853;-98.1250235
X-APPLE-STRUCTURED-LOCATION;VALUE=URI;X-ADDRESS=Krause’s Cafe 148 S. Castell Ave New Braunfels TX 78130;X-APPLE-RADIUS=500;X-TITLE=148 S. Castell Ave:geo:-98.1250235,29.7012853
END:VEVENT
BEGIN:VEVENT
DTSTART;TZID=America/Chicago:20250830T140000
DTEND;TZID=America/Chicago:20250830T170000
DTSTAMP:20260425T113934
CREATED:20250812T162838Z
LAST-MODIFIED:20250812T162838Z
UID:7397-1756562400-1756573200@downtownnewbraunfels.com
SUMMARY:Luke Leverett
DESCRIPTION:Luke Leverett’s troubadour stylings span folk-rock and soft rock from many decades\, featuring his trademark guitar virtuosity and strong tenor vocals\, bringing it all together with his onstage energy and passion for his craft.
URL:https://downtownnewbraunfels.com/event/luke-leverett-3/
LOCATION:Krause’s Cafe\, 148 S. Castell Ave\, New Braunfels\, TX\, 78130
CATEGORIES:Live Music
ATTACH;FMTTYPE=image/jpeg:https://downtownnewbraunfels.com/wp-content/uploads/2025/07/1-Luke-Leverett.jpg
GEO:29.7012853;-98.1250235
X-APPLE-STRUCTURED-LOCATION;VALUE=URI;X-ADDRESS=Krause’s Cafe 148 S. Castell Ave New Braunfels TX 78130;X-APPLE-RADIUS=500;X-TITLE=148 S. Castell Ave:geo:-98.1250235,29.7012853
END:VEVENT
BEGIN:VEVENT
DTSTART;TZID=America/Chicago:20250830T183000
DTEND;TZID=America/Chicago:20250830T213000
DTSTAMP:20260425T113934
CREATED:20250812T162931Z
LAST-MODIFIED:20250812T162931Z
UID:7435-1756578600-1756589400@downtownnewbraunfels.com
SUMMARY:MC & The Mystyx
DESCRIPTION:A band of Texans\, influenced by the sounds of south Texas\, MC & the Mystyx can play it all – from Blues to Rock and Americana\, and have their own spin on Texas music from the region. The band introduces you to a unique presentation of songs. Their artistic musical interpretations and arrangements captivate and connect audiences to the fire and soul of each song.
URL:https://downtownnewbraunfels.com/event/mc-the-mystyx/
LOCATION:Krause’s Cafe\, 148 S. Castell Ave\, New Braunfels\, TX\, 78130
CATEGORIES:Live Music
ATTACH;FMTTYPE=image/jpeg:https://downtownnewbraunfels.com/wp-content/uploads/2025/07/1-Mandatory-Merle-1.jpg
GEO:29.7012853;-98.1250235
X-APPLE-STRUCTURED-LOCATION;VALUE=URI;X-ADDRESS=Krause’s Cafe 148 S. Castell Ave New Braunfels TX 78130;X-APPLE-RADIUS=500;X-TITLE=148 S. Castell Ave:geo:-98.1250235,29.7012853
END:VEVENT
END:VCALENDAR