BEGIN:VCALENDAR
VERSION:2.0
PRODID:-//New Braunfels Downtown - ECPv6.15.18//NONSGML v1.0//EN
CALSCALE:GREGORIAN
METHOD:PUBLISH
X-ORIGINAL-URL:https://downtownnewbraunfels.com
X-WR-CALDESC:Events for New Braunfels Downtown
REFRESH-INTERVAL;VALUE=DURATION:PT1H
X-Robots-Tag:noindex
X-PUBLISHED-TTL:PT1H
BEGIN:VTIMEZONE
TZID:America/Chicago
BEGIN:DAYLIGHT
TZOFFSETFROM:-0600
TZOFFSETTO:-0500
TZNAME:CDT
DTSTART:20240310T080000
END:DAYLIGHT
BEGIN:STANDARD
TZOFFSETFROM:-0500
TZOFFSETTO:-0600
TZNAME:CST
DTSTART:20241103T070000
END:STANDARD
BEGIN:DAYLIGHT
TZOFFSETFROM:-0600
TZOFFSETTO:-0500
TZNAME:CDT
DTSTART:20250309T080000
END:DAYLIGHT
BEGIN:STANDARD
TZOFFSETFROM:-0500
TZOFFSETTO:-0600
TZNAME:CST
DTSTART:20251102T070000
END:STANDARD
BEGIN:DAYLIGHT
TZOFFSETFROM:-0600
TZOFFSETTO:-0500
TZNAME:CDT
DTSTART:20260308T080000
END:DAYLIGHT
BEGIN:STANDARD
TZOFFSETFROM:-0500
TZOFFSETTO:-0600
TZNAME:CST
DTSTART:20261101T070000
END:STANDARD
END:VTIMEZONE
BEGIN:VEVENT
DTSTART;TZID=America/Chicago:20250809T100000
DTEND;TZID=America/Chicago:20250809T200000
DTSTAMP:20260422T082137
CREATED:20250624T234315Z
LAST-MODIFIED:20250624T234315Z
UID:7231-1754733600-1754769600@downtownnewbraunfels.com
SUMMARY:Float In the Comal
DESCRIPTION:About the event \nThe Kylie Rose Foundation helps provide financial assistance for funeral costs of children. Join us for our first annual foundation day at the river. Hang out in the in the water or grab a tube and float the comal. A portion of proceeds will be donated back to the foundation. Pre purchase tickets and more directly on the float in website www.floatintx.com \n\n\nFloat In the Comal\n\n\nAug 09\, 2025\, 10:00 AM – 8:00 PM\nNew Braunfels\, 462 E Mill St\, New Braunfels\, TX 78130\, USA\n\n\nJoin us for a fun day on the river!
URL:https://downtownnewbraunfels.com/event/float-in-the-comal/
LOCATION:Float In\, 462 E. Mill St.\, New Braunfels\, TX\, 78130\, United States
CATEGORIES:Family Friendly,Live Music,Non-Profit Fundraiser,Sports & Recreation
ATTACH;FMTTYPE=image/png:https://downtownnewbraunfels.com/wp-content/uploads/2025/06/Untitled-1.png
GEO:29.7066537;-98.1228689
X-APPLE-STRUCTURED-LOCATION;VALUE=URI;X-ADDRESS=Float In 462 E. Mill St. New Braunfels TX 78130 United States;X-APPLE-RADIUS=500;X-TITLE=462 E. Mill St.:geo:-98.1228689,29.7066537
END:VEVENT
BEGIN:VEVENT
DTSTART;TZID=America/Chicago:20250612T173000
DTEND;TZID=America/Chicago:20250612T190000
DTSTAMP:20260422T082137
CREATED:20250430T163516Z
LAST-MODIFIED:20250430T163516Z
UID:6854-1749749400-1749754800@downtownnewbraunfels.com
SUMMARY:Flow & Know Yoga: Spring Fed Pool-Landa Park
DESCRIPTION:Join the Sophienburg Museum & Archives in celebrating New Braunfels history at the Flow & Know event held the second Thursday of the month September 2024 through June 2025. Enjoy a one-hour yoga class held at 10 significant historical sites\, then sit back and relax and partake in a beverage while listening to short history lessons on the birth and growth of this fair city. \nThursday\, June 12\, 2025 — 5:30-6:30 p.m. Yoga — 6:30-7 p.m. History Showcase\nSpring Fed Pool-Landa Park\, 350 Aquatic Circle\, New Braunfels\, TX 78130 \nTickets for the next class are available at the link below or $15 cash at the door. \nTickets
URL:https://downtownnewbraunfels.com/event/flow-know-yoga-spring-fed-pool-landa-park/
LOCATION:Landa Park\, 164 Landa Park Dr\, New Braunfels\, Texas\, 78130
CATEGORIES:Arts & Culture,Community,Sports & Recreation
ATTACH;FMTTYPE=image/png:https://downtownnewbraunfels.com/wp-content/uploads/2025/04/Flow-Know-Yoga-small-1.png
ORGANIZER;CN="Sophienburg Museum & Archives":MAILTO:401 W Coll St
GEO:29.7074327;-98.131765
X-APPLE-STRUCTURED-LOCATION;VALUE=URI;X-ADDRESS=Landa Park 164 Landa Park Dr New Braunfels Texas 78130;X-APPLE-RADIUS=500;X-TITLE=164 Landa Park Dr:geo:-98.131765,29.7074327
END:VEVENT
BEGIN:VEVENT
DTSTART;TZID=America/Chicago:20250508T173000
DTEND;TZID=America/Chicago:20250508T190000
DTSTAMP:20260422T082137
CREATED:20250424T192610Z
LAST-MODIFIED:20250424T192610Z
UID:6815-1746725400-1746730800@downtownnewbraunfels.com
SUMMARY:Flow & Know Yoga: The Other Place
DESCRIPTION:Join the Sophienburg Museum & Archives in celebrating New Braunfels history at the Flow & Know event held the second Thursday of the month September 2024 through June 2025. Enjoy a one-hour yoga class held at 10 significant historical sites\, then sit back and relax and partake in a beverage while listening to short history lessons on the birth and growth of this fair city. \nThursday\, May 8\, 2025 — 5:30-6:30 p.m. Yoga — 6:30-7 p.m. History Showcase\nThe Other Place\, 385 Other Place Drive\, New Braunfels\, TX 78130\n(Follow the iron fence down to the river.) \nTickets for the next class are available at the link below or $15 cash at the door. \n\nTICKETS\n\n 
URL:https://downtownnewbraunfels.com/event/flow-know-yoga-the-other-place/
LOCATION:The Other Place\, 385 Other Place Dr.\, New Braunfels\, TX\, 78130\, United States
CATEGORIES:Arts & Culture,Community,Sports & Recreation
ATTACH;FMTTYPE=image/png:https://downtownnewbraunfels.com/wp-content/uploads/2025/04/Flow-Know-Yoga-small.png
ORGANIZER;CN="Sophienburg Museum & Archives":MAILTO:401 W Coll St
GEO:29.7020061;-98.1184106
X-APPLE-STRUCTURED-LOCATION;VALUE=URI;X-ADDRESS=The Other Place 385 Other Place Dr. New Braunfels TX 78130 United States;X-APPLE-RADIUS=500;X-TITLE=385 Other Place Dr.:geo:-98.1184106,29.7020061
END:VEVENT
BEGIN:VEVENT
DTSTART;TZID=America/Chicago:20250412T100000
DTEND;TZID=America/Chicago:20250413T160000
DTSTAMP:20260422T082137
CREATED:20250310T161549Z
LAST-MODIFIED:20250310T161549Z
UID:6603-1744452000-1744560000@downtownnewbraunfels.com
SUMMARY:New Braunfels Jamboree Train Show
DESCRIPTION:Come explore the New Braunfels Jamboree Train Show featuring over 60 vendors and model railroad layouts in multiple scales.  We also have a Junior Engineers model layout where kids can run the train.  There’s something for everyone\, whether you’re a new rail fan or an experienced model railroader.  All proceeds benefit the New Braunfels Railroad Museum.
URL:https://downtownnewbraunfels.com/event/new-braunfels-jamboree-train-show/
LOCATION:New Braunfels Civic/Convention Center\, 375 South Castell Avenue\, New Braunfels\, TX\, 78130\, United States
CATEGORIES:Family Friendly,Non-Profit Fundraiser,Sports & Recreation
ATTACH;FMTTYPE=image/jpeg:https://downtownnewbraunfels.com/wp-content/uploads/2025/03/Model-scaled.jpg
ORGANIZER;CN="New Braunfels Railroad Museum":MAILTO:INFO@NEWBRAUNFELSRAILROADMUSEUM.ORG
GEO:29.700189;-98.121653
X-APPLE-STRUCTURED-LOCATION;VALUE=URI;X-ADDRESS=New Braunfels Civic/Convention Center 375 South Castell Avenue New Braunfels TX 78130 United States;X-APPLE-RADIUS=500;X-TITLE=375 South Castell Avenue:geo:-98.121653,29.700189
END:VEVENT
END:VCALENDAR