BEGIN:VCALENDAR
VERSION:2.0
PRODID:-//New Braunfels Downtown - ECPv6.15.18//NONSGML v1.0//EN
CALSCALE:GREGORIAN
METHOD:PUBLISH
X-ORIGINAL-URL:https://downtownnewbraunfels.com
X-WR-CALDESC:Events for New Braunfels Downtown
REFRESH-INTERVAL;VALUE=DURATION:PT1H
X-Robots-Tag:noindex
X-PUBLISHED-TTL:PT1H
BEGIN:VTIMEZONE
TZID:America/Chicago
BEGIN:DAYLIGHT
TZOFFSETFROM:-0600
TZOFFSETTO:-0500
TZNAME:CDT
DTSTART:20250309T080000
END:DAYLIGHT
BEGIN:STANDARD
TZOFFSETFROM:-0500
TZOFFSETTO:-0600
TZNAME:CST
DTSTART:20251102T070000
END:STANDARD
BEGIN:DAYLIGHT
TZOFFSETFROM:-0600
TZOFFSETTO:-0500
TZNAME:CDT
DTSTART:20260308T080000
END:DAYLIGHT
BEGIN:STANDARD
TZOFFSETFROM:-0500
TZOFFSETTO:-0600
TZNAME:CST
DTSTART:20261101T070000
END:STANDARD
BEGIN:DAYLIGHT
TZOFFSETFROM:-0600
TZOFFSETTO:-0500
TZNAME:CDT
DTSTART:20270314T080000
END:DAYLIGHT
BEGIN:STANDARD
TZOFFSETFROM:-0500
TZOFFSETTO:-0600
TZNAME:CST
DTSTART:20271107T070000
END:STANDARD
END:VTIMEZONE
BEGIN:VEVENT
DTSTART;TZID=America/Chicago:20260516T113000
DTEND;TZID=America/Chicago:20260516T143000
DTSTAMP:20260421T101553
CREATED:20260409T193403Z
LAST-MODIFIED:20260409T193403Z
UID:8793-1778931000-1778941800@downtownnewbraunfels.com
SUMMARY:Colton's Kin
DESCRIPTION:Colton’s Kin is an acoustic duo built of a loving couple\, Justin and Emily Upshaw. They have so much love for each other and their 3 boys\, Colton\, Hunter\, and Wyatt. We are truly blessed to play music together and how often we do. The songs we choose range from the 50’s to today’s music. Most of them are #1 hits\, so you’ll probably know most of them! Come on out and enjoy the show!
URL:https://downtownnewbraunfels.com/event/coltons-kin-11/
LOCATION:Krause’s Cafe\, 148 S. Castell Ave\, New Braunfels\, TX\, 78130
CATEGORIES:Live Music
ATTACH;FMTTYPE=image/jpeg:https://downtownnewbraunfels.com/wp-content/uploads/2026/04/1-Coltons-Kin.jpg
GEO:29.7012853;-98.1250235
X-APPLE-STRUCTURED-LOCATION;VALUE=URI;X-ADDRESS=Krause’s Cafe 148 S. Castell Ave New Braunfels TX 78130;X-APPLE-RADIUS=500;X-TITLE=148 S. Castell Ave:geo:-98.1250235,29.7012853
END:VEVENT
BEGIN:VEVENT
DTSTART;TZID=America/Chicago:20260517T110000
DTEND;TZID=America/Chicago:20260517T140000
DTSTAMP:20260421T101553
CREATED:20260410T225037Z
LAST-MODIFIED:20260410T225037Z
UID:8818-1779015600-1779026400@downtownnewbraunfels.com
SUMMARY:Harfmann Duo
DESCRIPTION:Walt Harfmann\, born in St. Louis\, Missouri\, on the mostly German “south side”. He has played on stage many times with Grammy winner “America’s Polka King” Frank Yankovic\, Grammy winner “Canada’s Polka King” Walter Ostanek\, as well as many Polka leaders in the USA over the years. His music includes German\, Austrian\, Czech\, Slovenian\, Croatian\, Swiss\, Polkas and Waltzes\, Kolos\, Boarischers\, etc! Having traveled extensively in Europe many times he has added many historic European songs to his list!
URL:https://downtownnewbraunfels.com/event/harfmann-duo-19/
LOCATION:Krause’s Cafe\, 148 S. Castell Ave\, New Braunfels\, TX\, 78130
CATEGORIES:Live Music
ATTACH;FMTTYPE=image/jpeg:https://downtownnewbraunfels.com/wp-content/uploads/2026/04/1-W-Harfmann-Duo.jpg
GEO:29.7012853;-98.1250235
X-APPLE-STRUCTURED-LOCATION;VALUE=URI;X-ADDRESS=Krause’s Cafe 148 S. Castell Ave New Braunfels TX 78130;X-APPLE-RADIUS=500;X-TITLE=148 S. Castell Ave:geo:-98.1250235,29.7012853
END:VEVENT
BEGIN:VEVENT
DTSTART;TZID=America/Chicago:20260521T180000
DTEND;TZID=America/Chicago:20260521T190000
DTSTAMP:20260421T101553
CREATED:20260407T183138Z
LAST-MODIFIED:20260407T183138Z
UID:8721-1779386400-1779390000@downtownnewbraunfels.com
SUMMARY:Yoga @ The Sophie - Third Thursday
DESCRIPTION:Introducing Yoga @ The Sophie – Our Newest Community Program For more than nine decades\, The Sophienburg Museum & Archives has brought people together through meaningful programs\, cultural experiences\, and community‑building events. \nWe’re excited to continue that tradition with the launch of our newest offering: Yoga @ The Sophie. Yoga @ The Sophie invites participants of all levels\, beginners welcome\, to enjoy a relaxing\, all‑levels yoga class held on the beautiful museum grounds.
URL:https://downtownnewbraunfels.com/event/yoga-the-sophie-third-thursday/
LOCATION:Emmie Seele Faust Library @ The Sophienburg Museum &  Archives\, 401 W. Coll\, New Braunfels\, TX\, 78130\, United States
CATEGORIES:Community,History,Non-Profit Fundraiser,Other
ATTACH;FMTTYPE=image/png:https://downtownnewbraunfels.com/wp-content/uploads/2026/04/Yoga.image_-1.png
ORGANIZER;CN="Sophienburg Museum & Archives":MAILTO:401 W Coll St
END:VEVENT
BEGIN:VEVENT
DTSTART;TZID=America/Chicago:20260523T180000
DTEND;TZID=America/Chicago:20260523T210000
DTSTAMP:20260421T101553
CREATED:20260410T224900Z
LAST-MODIFIED:20260410T224900Z
UID:8820-1779559200-1779570000@downtownnewbraunfels.com
SUMMARY:DepartureATX
DESCRIPTION:DepartureATX is a Texas-sized tribute band dedicated to the music of Journey and other favorite artists of the Arena Rock era. The seeds were planted in 2010\, when long-time friends Joel Godson (Bass/Backing Vocal) and Jesse Monaghan (Lead Guitar) were looking to form a Journey tribute band and teamed up with various players for a few years until finally connecting with cover scene veterans\, Mark Ramsey (Keys/backing vocal) and Scott Olsen (Drums/backing vocal). Ramsey reached out to a friend\, Ryan Holley (Lead Vocal)\, and DepartureATX was formed. Since its debut in 2015\, the Austin TX-based band has gained a wide and loyal fan base and now regularly travels throughout the state\, performing on large stages in big cities and iconic\, smaller venues. DepartureATX puts on a high energy rock show\, the way it was intended. Each member of the band holds an impressive musical resume\, from being classically trained to opening for major talent. It’s no surprise then\, that when performing Journey hits\, DepartureATX is known for attention to detail\, but also for adding individual elements of live musical intensity. Audiences will hear not only the best Journey tribute band\, but also other favorite songs from the Arena Rock era’s biggest names to round off a truly unforgettable\, live music experience.
URL:https://downtownnewbraunfels.com/event/departureatx/
LOCATION:Krause’s Cafe\, 148 S. Castell Ave\, New Braunfels\, TX\, 78130
CATEGORIES:Live Music
ATTACH;FMTTYPE=image/jpeg:https://downtownnewbraunfels.com/wp-content/uploads/2026/04/1-Departure-ATX-2.jpg
GEO:29.7012853;-98.1250235
X-APPLE-STRUCTURED-LOCATION;VALUE=URI;X-ADDRESS=Krause’s Cafe 148 S. Castell Ave New Braunfels TX 78130;X-APPLE-RADIUS=500;X-TITLE=148 S. Castell Ave:geo:-98.1250235,29.7012853
END:VEVENT
BEGIN:VEVENT
DTSTART;TZID=America/Chicago:20260527T180000
DTEND;TZID=America/Chicago:20260527T210000
DTSTAMP:20260421T101553
CREATED:20260420T150905Z
LAST-MODIFIED:20260420T150905Z
UID:8909-1779904800-1779915600@downtownnewbraunfels.com
SUMMARY:Yodel Blitz
DESCRIPTION:Do you like to have fun? …. So does Yodel Blitz! Yodel Blitz is a hilarious\, German\, folk-music based musical group that is ready to bring you beer-drinking\, polka-dancing\, yodel-blitzing fun in the German style. With decades of combined performance experience (but who’s counting?)\, Yodel Blitz leads their audiences willingly on a musical journey. They will have the crowd dancing\, clapping and singing along in no time. Not a singer or dancer? No problem…just sit back and be entertained by the stellar performances on unusual folk instruments like the alphorn\, Austrian cowbells and saw. In honor of our namesake\, all this is topped off with lightning fast yodeling in 3-part harmony! This group provides quality\, fun\, German folk music for any event. Yodel Blitz features yodeling (as the name implies) along with 3-part harmonies\, accordion\, clarinet\, bass\, brass\, alphorn and cowbells. Come sing\, dance & yodel along to this fun musical group. They guarantee a beer-drinking\, yodel-blitzing good time!
URL:https://downtownnewbraunfels.com/event/yodel-blitz-14/
LOCATION:Krause’s Cafe\, 148 S. Castell Ave\, New Braunfels\, TX\, 78130
ATTACH;FMTTYPE=image/jpeg:https://downtownnewbraunfels.com/wp-content/uploads/2026/04/1-Yodel-Blitz.jpg
GEO:29.7012853;-98.1250235
X-APPLE-STRUCTURED-LOCATION;VALUE=URI;X-ADDRESS=Krause’s Cafe 148 S. Castell Ave New Braunfels TX 78130;X-APPLE-RADIUS=500;X-TITLE=148 S. Castell Ave:geo:-98.1250235,29.7012853
END:VEVENT
BEGIN:VEVENT
DTSTART;TZID=America/Chicago:20260528T180000
DTEND;TZID=America/Chicago:20260528T210000
DTSTAMP:20260421T101553
CREATED:20260420T145934Z
LAST-MODIFIED:20260420T145934Z
UID:8913-1779991200-1780002000@downtownnewbraunfels.com
SUMMARY:Elysha LeMaster
DESCRIPTION:Elysha LeMaster\, a powerhouse singer-songwriter from New Braunfels\, has been captivating audiences across the country with her dynamic voice and engaging stage presence. From country to rock\, pop to classics\, she effortlessly blends genres with a sound all her own. Whether she’s performing her original songs or putting her unique spin on covers\, Elysha’s vocal range never fails to impress. With new music on the horizon\, she’s ready to take her music to even greater heights. Keep an eye out—Elysha is just getting started!
URL:https://downtownnewbraunfels.com/event/elysha-lemaster-8/
LOCATION:Krause’s Cafe\, 148 S. Castell Ave\, New Braunfels\, TX\, 78130
ATTACH;FMTTYPE=image/jpeg:https://downtownnewbraunfels.com/wp-content/uploads/2026/04/1-Elysha-LeMaster.jpg
GEO:29.7012853;-98.1250235
X-APPLE-STRUCTURED-LOCATION;VALUE=URI;X-ADDRESS=Krause’s Cafe 148 S. Castell Ave New Braunfels TX 78130;X-APPLE-RADIUS=500;X-TITLE=148 S. Castell Ave:geo:-98.1250235,29.7012853
END:VEVENT
BEGIN:VEVENT
DTSTART;TZID=America/Chicago:20260530T180000
DTEND;TZID=America/Chicago:20260530T220000
DTSTAMP:20260421T101553
CREATED:20260420T151440Z
LAST-MODIFIED:20260420T151440Z
UID:9015-1780164000-1780178400@downtownnewbraunfels.com
SUMMARY:Trey Gonzalez Band
DESCRIPTION:​There’s a lot more than what meets the eye with Country Artist Trey Gonzalez. From his worn hat and boots\, dark brown eyes\, and light-hearted smile\, you would never think a deep sense of ambition was burning in this young cowboy’s heart. Born and raised in San Antonio\, Texas\, Trey grew up listening to country music in an ’01 Ford F-150 where he sang along to the likes of George Strait and Alan Jackson. As time would pass\, he began to enjoy the tones of Eric Church\, Easton Corbin\, Luke Bryan\, and Cody Johnson.
URL:https://downtownnewbraunfels.com/event/trey-gonzalez-band-5/
LOCATION:Krause’s Cafe\, 148 S. Castell Ave\, New Braunfels\, TX\, 78130
ATTACH;FMTTYPE=image/jpeg:https://downtownnewbraunfels.com/wp-content/uploads/2026/04/1-Trey-Gonzalez-1.jpg
GEO:29.7012853;-98.1250235
X-APPLE-STRUCTURED-LOCATION;VALUE=URI;X-ADDRESS=Krause’s Cafe 148 S. Castell Ave New Braunfels TX 78130;X-APPLE-RADIUS=500;X-TITLE=148 S. Castell Ave:geo:-98.1250235,29.7012853
END:VEVENT
BEGIN:VEVENT
DTSTART;TZID=America/Chicago:20260531T110000
DTEND;TZID=America/Chicago:20260531T140000
DTSTAMP:20260421T101553
CREATED:20260420T151009Z
LAST-MODIFIED:20260420T151009Z
UID:9021-1780225200-1780236000@downtownnewbraunfels.com
SUMMARY:Cactus Country
DESCRIPTION:Performing country & variety music including today’s hits\, traditional country\, classic rock and oldies\, Cactus Country Band can satisfy a wide range of audiences. Don’t miss this awesome band and their fiddling sensation\, Regina Matthews.
URL:https://downtownnewbraunfels.com/event/cactus-country-8/
LOCATION:Krause’s Cafe\, 148 S. Castell Ave\, New Braunfels\, TX\, 78130
ATTACH;FMTTYPE=image/jpeg:https://downtownnewbraunfels.com/wp-content/uploads/2026/04/1-cactus-country.jpg
GEO:29.7012853;-98.1250235
X-APPLE-STRUCTURED-LOCATION;VALUE=URI;X-ADDRESS=Krause’s Cafe 148 S. Castell Ave New Braunfels TX 78130;X-APPLE-RADIUS=500;X-TITLE=148 S. Castell Ave:geo:-98.1250235,29.7012853
END:VEVENT
BEGIN:VEVENT
DTSTART;TZID=America/Chicago:20260926T193000
DTEND;TZID=America/Chicago:20260926T213000
DTSTAMP:20260421T101553
CREATED:20250917T171454Z
LAST-MODIFIED:20250917T171454Z
UID:7758-1790451000-1790458200@downtownnewbraunfels.com
SUMMARY:DONNY EDWARDS - TRIBUTE TO "THE KING"
DESCRIPTION:Donny Edwards is an internationally acclaimed\, multi-award-winning Elvis tribute artist. Known for his remarkable authenticity\, Edwards brings to life each era of Elvis Presley’s career\, from the rock ‘n’ roll hits of the 1950s to the iconic Las Vegas performances of the 1970s. As the only tribute artist granted permission by Elvis Presley Enterprises to perform at Graceland\, his captivating performances have dazzled audiences worldwide. His humility\, charm\, and southern manner\, coupled with his uncanny sound and appearance\, will make you feel as if you are watching “The King” himself.
URL:https://downtownnewbraunfels.com/event/donny-edwards-tribute-to-the-king-2/
LOCATION:The Brauntex Theatre\, 290 W San Antonio St\, New Braunfels\, 78130\, United States
CATEGORIES:Live Music
ATTACH;FMTTYPE=image/jpeg:https://downtownnewbraunfels.com/wp-content/uploads/2025/09/OFFICIAL-DONNY-EDWARDS-PROMO-otix2.jpg
GEO:29.7013707;-98.1265595
X-APPLE-STRUCTURED-LOCATION;VALUE=URI;X-ADDRESS=The Brauntex Theatre 290 W San Antonio St New Braunfels 78130 United States;X-APPLE-RADIUS=500;X-TITLE=290 W San Antonio St:geo:-98.1265595,29.7013707
END:VEVENT
END:VCALENDAR