BEGIN:VCALENDAR
VERSION:2.0
PRODID:-//New Braunfels Downtown - ECPv6.15.18//NONSGML v1.0//EN
CALSCALE:GREGORIAN
METHOD:PUBLISH
X-WR-CALNAME:New Braunfels Downtown
X-ORIGINAL-URL:https://downtownnewbraunfels.com
X-WR-CALDESC:Events for New Braunfels Downtown
REFRESH-INTERVAL;VALUE=DURATION:PT1H
X-Robots-Tag:noindex
X-PUBLISHED-TTL:PT1H
BEGIN:VTIMEZONE
TZID:America/Chicago
BEGIN:DAYLIGHT
TZOFFSETFROM:-0600
TZOFFSETTO:-0500
TZNAME:CDT
DTSTART:20240310T080000
END:DAYLIGHT
BEGIN:STANDARD
TZOFFSETFROM:-0500
TZOFFSETTO:-0600
TZNAME:CST
DTSTART:20241103T070000
END:STANDARD
BEGIN:DAYLIGHT
TZOFFSETFROM:-0600
TZOFFSETTO:-0500
TZNAME:CDT
DTSTART:20250309T080000
END:DAYLIGHT
BEGIN:STANDARD
TZOFFSETFROM:-0500
TZOFFSETTO:-0600
TZNAME:CST
DTSTART:20251102T070000
END:STANDARD
BEGIN:DAYLIGHT
TZOFFSETFROM:-0600
TZOFFSETTO:-0500
TZNAME:CDT
DTSTART:20260308T080000
END:DAYLIGHT
BEGIN:STANDARD
TZOFFSETFROM:-0500
TZOFFSETTO:-0600
TZNAME:CST
DTSTART:20261101T070000
END:STANDARD
END:VTIMEZONE
BEGIN:VEVENT
DTSTART;TZID=America/Chicago:20250811T083000
DTEND;TZID=America/Chicago:20250811T100000
DTSTAMP:20260425T113842
CREATED:20250625T190926Z
LAST-MODIFIED:20250625T190926Z
UID:7274-1754901000-1754906400@downtownnewbraunfels.com
SUMMARY:Tejas River Club on the Comal River
DESCRIPTION:A Day @ Tejas River Club\n\n\n\n\n\nWeekdays only. \n8:00 AM \nGates open. Get barefoot. \nBreathe. Journal. Just be. \n8:30 AM \nMovement begins. Take class or not! \nFlow on the deck\, overlooking the river.9:30 AM \nRiver plunge time. \nJump in\, float\, connect\, chill.10:00 AM \nTop deck stays FREE all day! \nWiFi\, breakfast\, community\, or solitude. \nAfter 10:00 AM \nFloat In kicks off the show. \n$14.99 to stay and spend the day with them down the stairs! Otherwise top deck is FREE!
URL:https://downtownnewbraunfels.com/event/tejas-river-club-on-the-comal-river/2025-08-11/
LOCATION:Float In\, 462 E. Mill St.\, New Braunfels\, TX\, 78130\, United States
ATTACH;FMTTYPE=image/png:https://downtownnewbraunfels.com/wp-content/uploads/2025/06/Untitled.png
ORGANIZER;CN="Tejas River Club":MAILTO:hello@tejasriverclub.com
GEO:29.7066537;-98.1228689
X-APPLE-STRUCTURED-LOCATION;VALUE=URI;X-ADDRESS=Float In 462 E. Mill St. New Braunfels TX 78130 United States;X-APPLE-RADIUS=500;X-TITLE=462 E. Mill St.:geo:-98.1228689,29.7066537
END:VEVENT
BEGIN:VEVENT
DTSTART;TZID=America/Chicago:20250812T083000
DTEND;TZID=America/Chicago:20250812T100000
DTSTAMP:20260425T113842
CREATED:20250625T190926Z
LAST-MODIFIED:20250625T190926Z
UID:7275-1754987400-1754992800@downtownnewbraunfels.com
SUMMARY:Tejas River Club on the Comal River
DESCRIPTION:A Day @ Tejas River Club\n\n\n\n\n\nWeekdays only. \n8:00 AM \nGates open. Get barefoot. \nBreathe. Journal. Just be. \n8:30 AM \nMovement begins. Take class or not! \nFlow on the deck\, overlooking the river.9:30 AM \nRiver plunge time. \nJump in\, float\, connect\, chill.10:00 AM \nTop deck stays FREE all day! \nWiFi\, breakfast\, community\, or solitude. \nAfter 10:00 AM \nFloat In kicks off the show. \n$14.99 to stay and spend the day with them down the stairs! Otherwise top deck is FREE!
URL:https://downtownnewbraunfels.com/event/tejas-river-club-on-the-comal-river/2025-08-12/
LOCATION:Float In\, 462 E. Mill St.\, New Braunfels\, TX\, 78130\, United States
ATTACH;FMTTYPE=image/png:https://downtownnewbraunfels.com/wp-content/uploads/2025/06/Untitled.png
ORGANIZER;CN="Tejas River Club":MAILTO:hello@tejasriverclub.com
GEO:29.7066537;-98.1228689
X-APPLE-STRUCTURED-LOCATION;VALUE=URI;X-ADDRESS=Float In 462 E. Mill St. New Braunfels TX 78130 United States;X-APPLE-RADIUS=500;X-TITLE=462 E. Mill St.:geo:-98.1228689,29.7066537
END:VEVENT
BEGIN:VEVENT
DTSTART;TZID=America/Chicago:20250813T083000
DTEND;TZID=America/Chicago:20250813T100000
DTSTAMP:20260425T113842
CREATED:20250625T190926Z
LAST-MODIFIED:20250625T190926Z
UID:7276-1755073800-1755079200@downtownnewbraunfels.com
SUMMARY:Tejas River Club on the Comal River
DESCRIPTION:A Day @ Tejas River Club\n\n\n\n\n\nWeekdays only. \n8:00 AM \nGates open. Get barefoot. \nBreathe. Journal. Just be. \n8:30 AM \nMovement begins. Take class or not! \nFlow on the deck\, overlooking the river.9:30 AM \nRiver plunge time. \nJump in\, float\, connect\, chill.10:00 AM \nTop deck stays FREE all day! \nWiFi\, breakfast\, community\, or solitude. \nAfter 10:00 AM \nFloat In kicks off the show. \n$14.99 to stay and spend the day with them down the stairs! Otherwise top deck is FREE!
URL:https://downtownnewbraunfels.com/event/tejas-river-club-on-the-comal-river/2025-08-13/
LOCATION:Float In\, 462 E. Mill St.\, New Braunfels\, TX\, 78130\, United States
ATTACH;FMTTYPE=image/png:https://downtownnewbraunfels.com/wp-content/uploads/2025/06/Untitled.png
ORGANIZER;CN="Tejas River Club":MAILTO:hello@tejasriverclub.com
GEO:29.7066537;-98.1228689
X-APPLE-STRUCTURED-LOCATION;VALUE=URI;X-ADDRESS=Float In 462 E. Mill St. New Braunfels TX 78130 United States;X-APPLE-RADIUS=500;X-TITLE=462 E. Mill St.:geo:-98.1228689,29.7066537
END:VEVENT
BEGIN:VEVENT
DTSTART;TZID=America/Chicago:20250813T180000
DTEND;TZID=America/Chicago:20250813T210000
DTSTAMP:20260425T113842
CREATED:20250812T160235Z
LAST-MODIFIED:20250812T160235Z
UID:7337-1755108000-1755118800@downtownnewbraunfels.com
SUMMARY:Lederhosen Junkies
DESCRIPTION:The 2020 Big Squeeze Polka State Champion\, Isaak Klaus was born with a pretzel in one hand and a sausage-on-a-stick in the other. His love for polka music began from listening to his dad’s collection of polka CD’s and from watching all of the awesome bands at Wurstfest. The frontman for The Lederhosen Junkies\, Isaak\, has played at many festivals across Texas including the Tomball German Heritage Fest\, the Fredericksburg Oktoberfest\, the New Braunfels Christkindlmarkt\, and the New Braunfels Wurstfest. His zany outlook on life\, mixed with his unusual knowledge of historical facts\, and his love for all things German makes him one of the most interesting men in the world. With his easy going attitude and his irresistible charm\, his clean cut appearance gives the Junkies a resemblance of respectability.
URL:https://downtownnewbraunfels.com/event/lederhosen-junkies-11/
LOCATION:Krause’s Cafe\, 148 S. Castell Ave\, New Braunfels\, TX\, 78130
CATEGORIES:Live Music
ATTACH;FMTTYPE=image/jpeg:https://downtownnewbraunfels.com/wp-content/uploads/2025/07/1-lederhosen-new.jpg
GEO:29.7012853;-98.1250235
X-APPLE-STRUCTURED-LOCATION;VALUE=URI;X-ADDRESS=Krause’s Cafe 148 S. Castell Ave New Braunfels TX 78130;X-APPLE-RADIUS=500;X-TITLE=148 S. Castell Ave:geo:-98.1250235,29.7012853
END:VEVENT
BEGIN:VEVENT
DTSTART;TZID=America/Chicago:20250814T083000
DTEND;TZID=America/Chicago:20250814T100000
DTSTAMP:20260425T113842
CREATED:20250625T190926Z
LAST-MODIFIED:20250625T190926Z
UID:7277-1755160200-1755165600@downtownnewbraunfels.com
SUMMARY:Tejas River Club on the Comal River
DESCRIPTION:A Day @ Tejas River Club\n\n\n\n\n\nWeekdays only. \n8:00 AM \nGates open. Get barefoot. \nBreathe. Journal. Just be. \n8:30 AM \nMovement begins. Take class or not! \nFlow on the deck\, overlooking the river.9:30 AM \nRiver plunge time. \nJump in\, float\, connect\, chill.10:00 AM \nTop deck stays FREE all day! \nWiFi\, breakfast\, community\, or solitude. \nAfter 10:00 AM \nFloat In kicks off the show. \n$14.99 to stay and spend the day with them down the stairs! Otherwise top deck is FREE!
URL:https://downtownnewbraunfels.com/event/tejas-river-club-on-the-comal-river/2025-08-14/
LOCATION:Float In\, 462 E. Mill St.\, New Braunfels\, TX\, 78130\, United States
ATTACH;FMTTYPE=image/png:https://downtownnewbraunfels.com/wp-content/uploads/2025/06/Untitled.png
ORGANIZER;CN="Tejas River Club":MAILTO:hello@tejasriverclub.com
GEO:29.7066537;-98.1228689
X-APPLE-STRUCTURED-LOCATION;VALUE=URI;X-ADDRESS=Float In 462 E. Mill St. New Braunfels TX 78130 United States;X-APPLE-RADIUS=500;X-TITLE=462 E. Mill St.:geo:-98.1228689,29.7066537
END:VEVENT
BEGIN:VEVENT
DTSTART;TZID=America/Chicago:20250814T180000
DTEND;TZID=America/Chicago:20250814T210000
DTSTAMP:20260425T113842
CREATED:20250812T160428Z
LAST-MODIFIED:20250812T160428Z
UID:7351-1755194400-1755205200@downtownnewbraunfels.com
SUMMARY:The Percolators
DESCRIPTION:The Percolators are a Texas Hill Country Band playing the hits in R&B\, Classic Rock\, Honky Tonk\, Traditional\, C&W and Swing in various venues in the area.
URL:https://downtownnewbraunfels.com/event/the-percolators-4/
LOCATION:Krause’s Cafe\, 148 S. Castell Ave\, New Braunfels\, TX\, 78130
CATEGORIES:Live Music
ATTACH;FMTTYPE=image/jpeg:https://downtownnewbraunfels.com/wp-content/uploads/2025/07/1-percolators-new.jpg
GEO:29.7012853;-98.1250235
X-APPLE-STRUCTURED-LOCATION;VALUE=URI;X-ADDRESS=Krause’s Cafe 148 S. Castell Ave New Braunfels TX 78130;X-APPLE-RADIUS=500;X-TITLE=148 S. Castell Ave:geo:-98.1250235,29.7012853
END:VEVENT
BEGIN:VEVENT
DTSTART;TZID=America/Chicago:20250815T083000
DTEND;TZID=America/Chicago:20250815T100000
DTSTAMP:20260425T113842
CREATED:20250625T190926Z
LAST-MODIFIED:20250625T190926Z
UID:7278-1755246600-1755252000@downtownnewbraunfels.com
SUMMARY:Tejas River Club on the Comal River
DESCRIPTION:A Day @ Tejas River Club\n\n\n\n\n\nWeekdays only. \n8:00 AM \nGates open. Get barefoot. \nBreathe. Journal. Just be. \n8:30 AM \nMovement begins. Take class or not! \nFlow on the deck\, overlooking the river.9:30 AM \nRiver plunge time. \nJump in\, float\, connect\, chill.10:00 AM \nTop deck stays FREE all day! \nWiFi\, breakfast\, community\, or solitude. \nAfter 10:00 AM \nFloat In kicks off the show. \n$14.99 to stay and spend the day with them down the stairs! Otherwise top deck is FREE!
URL:https://downtownnewbraunfels.com/event/tejas-river-club-on-the-comal-river/2025-08-15/
LOCATION:Float In\, 462 E. Mill St.\, New Braunfels\, TX\, 78130\, United States
ATTACH;FMTTYPE=image/png:https://downtownnewbraunfels.com/wp-content/uploads/2025/06/Untitled.png
ORGANIZER;CN="Tejas River Club":MAILTO:hello@tejasriverclub.com
GEO:29.7066537;-98.1228689
X-APPLE-STRUCTURED-LOCATION;VALUE=URI;X-ADDRESS=Float In 462 E. Mill St. New Braunfels TX 78130 United States;X-APPLE-RADIUS=500;X-TITLE=462 E. Mill St.:geo:-98.1228689,29.7066537
END:VEVENT
BEGIN:VEVENT
DTSTART;TZID=America/Chicago:20250815T183000
DTEND;TZID=America/Chicago:20250815T213000
DTSTAMP:20260425T113842
CREATED:20250812T160644Z
LAST-MODIFIED:20250812T160644Z
UID:7345-1755282600-1755293400@downtownnewbraunfels.com
SUMMARY:Classic Rewind
DESCRIPTION:Classic Rewind began performing together in early 2022 as the backup band for RAW “The Band in SA” when one or more of the principal players in RAW were unavailable and the other band members were still available to perform. Classic Rewind features Homer Gutierrez on guitar and vocals\, Phil Hearn on bass and vocals and Alan Bush on Drums. Homer was a working musician in the Dallas Fort Worth area before moving to San Antonio; Phil has performed with a multitude of bands in and around the San Antonio and Houston areas as a Texan born resident of Houston before moving to San Antonio; Alan is a San Antonio transplant from the Midwest via Los Angeles where he worked with a myriad of recording musicians\, including Kenny Loggins\, The Motels\, Pat Metheny\, Tom Scott\, Gene Simmons of KISS and Rick Nelson among many others. The genre of music of pop classic rock music spans the gamut from the 60’s through turn of the 21st century hits. The band has a large repertoire\, a large following and tries to accommodate most requests.
URL:https://downtownnewbraunfels.com/event/classic-rewind-7/
LOCATION:Krause’s Cafe\, 148 S. Castell Ave\, New Braunfels\, TX\, 78130
CATEGORIES:Live Music
ATTACH;FMTTYPE=image/jpeg:https://downtownnewbraunfels.com/wp-content/uploads/2025/07/1-Classic-Rewind.jpg
GEO:29.7012853;-98.1250235
X-APPLE-STRUCTURED-LOCATION;VALUE=URI;X-ADDRESS=Krause’s Cafe 148 S. Castell Ave New Braunfels TX 78130;X-APPLE-RADIUS=500;X-TITLE=148 S. Castell Ave:geo:-98.1250235,29.7012853
END:VEVENT
BEGIN:VEVENT
DTSTART;TZID=America/Chicago:20250815T190000
DTEND;TZID=America/Chicago:20250815T220000
DTSTAMP:20260425T113842
CREATED:20250812T164514Z
LAST-MODIFIED:20250812T164514Z
UID:7387-1755284400-1755295200@downtownnewbraunfels.com
SUMMARY:FOOVANA TRIBUTE BAND: FOO FIGHTERS & NIRVANA
DESCRIPTION:FOOVANA Tribute – A Night of Foo Fighters & Nirvana \nDate: Friday\, August 15th \nTime: 7 PM – 10 PM \nLocation: Faust Brewing Company\, 499 S. Castell Ave.\, New Braunfels\, TX \nTwo iconic bands. One epic night.Get ready for a full-throttle tribute to FOO FIGHTERS and NIRVANA—an explosive blend of gritty grunge and hard-hitting alt-rock that’ll echo through Downtown New Braunfels! \nLive Music – A powerhouse performance featuring the hits that shaped a generation \nTickets Required – $10 online | $15 at the door \nReserve a Table – Lock in your spot and rock out in comfort🤘 Wear your band tees\, flannel\, and bring that 90s energy! \nThis is more than a tribute—it’s a sonic revival. Let’s scream\, sing\, and relive the raw power of Foovana.Prost! 🍻 \n#FoovanaTribute #FooFightersNirvanaNight #FaustBrewingCompany #LiveMusicNB #sipsavorsocialize #NewBraunfelsEvents
URL:https://downtownnewbraunfels.com/event/foovana-tribute-band-foo-fighters-nirvana/
LOCATION:Faust Brewing Company\, 499 S Castell Ave\, New Braunfels\, TX\, 78130\, United States
CATEGORIES:Family Friendly,Featured,Festival,Live Music,Nightlife
ATTACH;FMTTYPE=image/jpeg:https://downtownnewbraunfels.com/wp-content/uploads/2025/07/Foovana-scaled.jpg
GEO:29.6986971;-98.1203304
X-APPLE-STRUCTURED-LOCATION;VALUE=URI;X-ADDRESS=Faust Brewing Company 499 S Castell Ave New Braunfels TX 78130 United States;X-APPLE-RADIUS=500;X-TITLE=499 S Castell Ave:geo:-98.1203304,29.6986971
END:VEVENT
BEGIN:VEVENT
DTSTART;TZID=America/Chicago:20250815T193000
DTEND;TZID=America/Chicago:20250815T193000
DTSTAMP:20260425T113842
CREATED:20250206T162023Z
LAST-MODIFIED:20250206T162023Z
UID:6403-1755286200-1755286200@downtownnewbraunfels.com
SUMMARY:Parallel Lives at Circle Arts Theatre
DESCRIPTION:Parallel Lives\n2 women playing 40 characters in 2 hours. Get ready for chaos! The dynamic duo will play Supreme Beings making plans for mankind\, teenagers on a date\, sisters at their grandmother’s funeral\, a man and a woman in a country-western bar\, a couple of hippies\, and so much more. You never know who you’ll see on the stage as the audience is whisked through the outrageous struggles of modern life. Ages 18+ \nAugust 15th- CHAMPAGNE OPENING- Join us after the show for food\, drinks and a meet and greet with the cast. \nAugust 16th- PAY WHAT YOU CAN- All tickets at the door will be available on a pay-what-you-can basis. Pre-purchases will be full price and flex passes will work as usual
URL:https://downtownnewbraunfels.com/event/parallel-lives-at-circle-arts-theatre/
LOCATION:Circle Arts Theatre\, 124 Elizabeth Street\, New Braunfels\, Texas\, 78130
CATEGORIES:Theater
ATTACH;FMTTYPE=image/jpeg:https://downtownnewbraunfels.com/wp-content/uploads/2025/02/Parallel-Lives-Logo-980x980-1.jpg
GEO:29.7079031;-98.1314236
X-APPLE-STRUCTURED-LOCATION;VALUE=URI;X-ADDRESS=Circle Arts Theatre 124 Elizabeth Street New Braunfels Texas 78130;X-APPLE-RADIUS=500;X-TITLE=124 Elizabeth Street:geo:-98.1314236,29.7079031
END:VEVENT
BEGIN:VEVENT
DTSTART;TZID=America/Chicago:20250816T100000
DTEND;TZID=America/Chicago:20250816T130000
DTSTAMP:20260425T113842
CREATED:20250812T160803Z
LAST-MODIFIED:20250812T160803Z
UID:7349-1755338400-1755349200@downtownnewbraunfels.com
SUMMARY:Keith Kallina Duo
DESCRIPTION:Based in the Texas Hill Country\, Keith Michael Kallina\, was raised in the tradition of small-town Texas life. Music was always present in the home\, and healthy dose of classic rock from his father and country from his mother made for a variety of influences onto his musical palette. Leaving the comfort and security of his hometown at 18\, Keith indulged in satisfying a strong sense of wanderlust that pulled him around the country. Coast to coast and all the way up to the northern American border\, he explored his freedom\, as well as his senses\, all in a search for direction that would ultimately come in the form of playing music. In the years that followed\, no audience was too small or too far away. Before long\, Keith had built a reputation along his circuit as a talented and hardworking songwriter. But as long stretches of time on the road began to take its toll\, Keith fell victim to some of the same pitfalls as many of his hero’s before him. In 2015\, Keith stumbled into the realization that the only way to continue to pursue his passions in life would be through sobriety\, and to date has not had a drink since.
URL:https://downtownnewbraunfels.com/event/keith-kallina-duo-2/
LOCATION:Krause’s Cafe\, 148 S. Castell Ave\, New Braunfels\, TX\, 78130
CATEGORIES:Live Music
ATTACH;FMTTYPE=image/jpeg:https://downtownnewbraunfels.com/wp-content/uploads/2025/07/1-Keith-Kallina.jpg
GEO:29.7012853;-98.1250235
X-APPLE-STRUCTURED-LOCATION;VALUE=URI;X-ADDRESS=Krause’s Cafe 148 S. Castell Ave New Braunfels TX 78130;X-APPLE-RADIUS=500;X-TITLE=148 S. Castell Ave:geo:-98.1250235,29.7012853
END:VEVENT
BEGIN:VEVENT
DTSTART;TZID=America/Chicago:20250816T140000
DTEND;TZID=America/Chicago:20250816T170000
DTSTAMP:20260425T113842
CREATED:20250812T160855Z
LAST-MODIFIED:20250812T160855Z
UID:7347-1755352800-1755363600@downtownnewbraunfels.com
SUMMARY:Harter Brothers
DESCRIPTION:Known for their dynamic performances\, The Harter Brothers delivers a rich blend of standard blues\, blues rock\, and touches of Americana and Texas country. Their sound captures the spirit of traditional blues while infusing it with a modern edge\, making them a standout act on the local and regional music scenes.
URL:https://downtownnewbraunfels.com/event/harter-brothers/
LOCATION:Krause’s Cafe\, 148 S. Castell Ave\, New Braunfels\, TX\, 78130
CATEGORIES:Live Music
ATTACH;FMTTYPE=image/jpeg:https://downtownnewbraunfels.com/wp-content/uploads/2025/07/1-Keith-Harter.jpg
GEO:29.7012853;-98.1250235
X-APPLE-STRUCTURED-LOCATION;VALUE=URI;X-ADDRESS=Krause’s Cafe 148 S. Castell Ave New Braunfels TX 78130;X-APPLE-RADIUS=500;X-TITLE=148 S. Castell Ave:geo:-98.1250235,29.7012853
END:VEVENT
BEGIN:VEVENT
DTSTART;TZID=America/Chicago:20250816T183000
DTEND;TZID=America/Chicago:20250816T213000
DTSTAMP:20260425T113842
CREATED:20250812T160957Z
LAST-MODIFIED:20250812T160957Z
UID:7353-1755369000-1755379800@downtownnewbraunfels.com
SUMMARY:Yesenia & The Groove Doctors
DESCRIPTION:We’re back! Join your favorite party band\, Yesenia and the Groove Doctors\, and dance all night to hits from Motown to now. It’s time for your medication and the only prescription is more Groove Doctors music!
URL:https://downtownnewbraunfels.com/event/yesenia-the-groove-doctors-10/
LOCATION:Krause’s Cafe\, 148 S. Castell Ave\, New Braunfels\, TX\, 78130
CATEGORIES:Live Music
ATTACH;FMTTYPE=image/jpeg:https://downtownnewbraunfels.com/wp-content/uploads/2025/07/1-Yesenia.jpg
GEO:29.7012853;-98.1250235
X-APPLE-STRUCTURED-LOCATION;VALUE=URI;X-ADDRESS=Krause’s Cafe 148 S. Castell Ave New Braunfels TX 78130;X-APPLE-RADIUS=500;X-TITLE=148 S. Castell Ave:geo:-98.1250235,29.7012853
END:VEVENT
BEGIN:VEVENT
DTSTART;TZID=America/Chicago:20250816T193000
DTEND;TZID=America/Chicago:20250816T193000
DTSTAMP:20260425T113842
CREATED:20250206T162023Z
LAST-MODIFIED:20250206T162023Z
UID:6405-1755372600-1755372600@downtownnewbraunfels.com
SUMMARY:Parallel Lives at Circle Arts Theatre
DESCRIPTION:Parallel Lives\n2 women playing 40 characters in 2 hours. Get ready for chaos! The dynamic duo will play Supreme Beings making plans for mankind\, teenagers on a date\, sisters at their grandmother’s funeral\, a man and a woman in a country-western bar\, a couple of hippies\, and so much more. You never know who you’ll see on the stage as the audience is whisked through the outrageous struggles of modern life. Ages 18+ \nAugust 15th- CHAMPAGNE OPENING- Join us after the show for food\, drinks and a meet and greet with the cast. \nAugust 16th- PAY WHAT YOU CAN- All tickets at the door will be available on a pay-what-you-can basis. Pre-purchases will be full price and flex passes will work as usual
URL:https://downtownnewbraunfels.com/event/parallel-lives-at-circle-arts-theatre/2025-08-16/
LOCATION:Circle Arts Theatre\, 124 Elizabeth Street\, New Braunfels\, Texas\, 78130
CATEGORIES:Theater
ATTACH;FMTTYPE=image/jpeg:https://downtownnewbraunfels.com/wp-content/uploads/2025/02/Parallel-Lives-Logo-980x980-1.jpg
GEO:29.7079031;-98.1314236
X-APPLE-STRUCTURED-LOCATION;VALUE=URI;X-ADDRESS=Circle Arts Theatre 124 Elizabeth Street New Braunfels Texas 78130;X-APPLE-RADIUS=500;X-TITLE=124 Elizabeth Street:geo:-98.1314236,29.7079031
END:VEVENT
END:VCALENDAR