BEGIN:VCALENDAR
VERSION:2.0
PRODID:-//New Braunfels Downtown - ECPv6.15.18//NONSGML v1.0//EN
CALSCALE:GREGORIAN
METHOD:PUBLISH
X-ORIGINAL-URL:https://downtownnewbraunfels.com
X-WR-CALDESC:Events for New Braunfels Downtown
REFRESH-INTERVAL;VALUE=DURATION:PT1H
X-Robots-Tag:noindex
X-PUBLISHED-TTL:PT1H
BEGIN:VTIMEZONE
TZID:America/Chicago
BEGIN:DAYLIGHT
TZOFFSETFROM:-0600
TZOFFSETTO:-0500
TZNAME:CDT
DTSTART:20240310T080000
END:DAYLIGHT
BEGIN:STANDARD
TZOFFSETFROM:-0500
TZOFFSETTO:-0600
TZNAME:CST
DTSTART:20241103T070000
END:STANDARD
BEGIN:DAYLIGHT
TZOFFSETFROM:-0600
TZOFFSETTO:-0500
TZNAME:CDT
DTSTART:20250309T080000
END:DAYLIGHT
BEGIN:STANDARD
TZOFFSETFROM:-0500
TZOFFSETTO:-0600
TZNAME:CST
DTSTART:20251102T070000
END:STANDARD
BEGIN:DAYLIGHT
TZOFFSETFROM:-0600
TZOFFSETTO:-0500
TZNAME:CDT
DTSTART:20260308T080000
END:DAYLIGHT
BEGIN:STANDARD
TZOFFSETFROM:-0500
TZOFFSETTO:-0600
TZNAME:CST
DTSTART:20261101T070000
END:STANDARD
END:VTIMEZONE
BEGIN:VEVENT
DTSTART;TZID=America/Chicago:20250817T140000
DTEND;TZID=America/Chicago:20250817T140000
DTSTAMP:20260425T101252
CREATED:20250206T162023Z
LAST-MODIFIED:20250206T162023Z
UID:6406-1755439200-1755439200@downtownnewbraunfels.com
SUMMARY:Parallel Lives at Circle Arts Theatre
DESCRIPTION:Parallel Lives\n2 women playing 40 characters in 2 hours. Get ready for chaos! The dynamic duo will play Supreme Beings making plans for mankind\, teenagers on a date\, sisters at their grandmother’s funeral\, a man and a woman in a country-western bar\, a couple of hippies\, and so much more. You never know who you’ll see on the stage as the audience is whisked through the outrageous struggles of modern life. Ages 18+ \nAugust 15th- CHAMPAGNE OPENING- Join us after the show for food\, drinks and a meet and greet with the cast. \nAugust 16th- PAY WHAT YOU CAN- All tickets at the door will be available on a pay-what-you-can basis. Pre-purchases will be full price and flex passes will work as usual
URL:https://downtownnewbraunfels.com/event/parallel-lives-at-circle-arts-theatre/2025-08-17/
LOCATION:Circle Arts Theatre\, 124 Elizabeth Street\, New Braunfels\, Texas\, 78130
CATEGORIES:Theater
ATTACH;FMTTYPE=image/jpeg:https://downtownnewbraunfels.com/wp-content/uploads/2025/02/Parallel-Lives-Logo-980x980-1.jpg
GEO:29.7079031;-98.1314236
X-APPLE-STRUCTURED-LOCATION;VALUE=URI;X-ADDRESS=Circle Arts Theatre 124 Elizabeth Street New Braunfels Texas 78130;X-APPLE-RADIUS=500;X-TITLE=124 Elizabeth Street:geo:-98.1314236,29.7079031
END:VEVENT
BEGIN:VEVENT
DTSTART;TZID=America/Chicago:20250817T150000
DTEND;TZID=America/Chicago:20250817T180000
DTSTAMP:20260425T101253
CREATED:20250812T161040Z
LAST-MODIFIED:20250812T161040Z
UID:7363-1755442800-1755453600@downtownnewbraunfels.com
SUMMARY:Bill Caisse
DESCRIPTION:Bill Caisse has loved working full-time in the music industry for many years. He not only plays guitar and sings with a beautiful soulful voice\, he writes unique songs and helps produce their music for other artists. He has taught many students how to play guitar\, drums and voice lessons. He’s had the opportunity to play with local artists such as Chilton Vance\, Rick Rice\, Robert Demel\, among many others. While living in Nashville for many years\, he played in the Eddie Rabbitt’s band. There are local musicians who frequently hire him to be their sound engineer since he has a degree and is so adept at it.
URL:https://downtownnewbraunfels.com/event/bill-caisse-8/
LOCATION:Krause’s Cafe\, 148 S. Castell Ave\, New Braunfels\, TX\, 78130
CATEGORIES:Live Music
ATTACH;FMTTYPE=image/jpeg:https://downtownnewbraunfels.com/wp-content/uploads/2025/07/1-Kade-New-1.jpg
GEO:29.7012853;-98.1250235
X-APPLE-STRUCTURED-LOCATION;VALUE=URI;X-ADDRESS=Krause’s Cafe 148 S. Castell Ave New Braunfels TX 78130;X-APPLE-RADIUS=500;X-TITLE=148 S. Castell Ave:geo:-98.1250235,29.7012853
END:VEVENT
BEGIN:VEVENT
DTSTART;TZID=America/Chicago:20250817T150000
DTEND;TZID=America/Chicago:20250817T180000
DTSTAMP:20260425T101253
CREATED:20250812T161122Z
LAST-MODIFIED:20250812T161122Z
UID:7361-1755442800-1755453600@downtownnewbraunfels.com
SUMMARY:Kade Isakson
DESCRIPTION:Americana to Grunge inspired music from the Rockies. Kade Isakson is a traveling one man band from Inkom\, Idaho. Driven by blues grooves\, hard rock and acoustic guitar. There’s a little bit of somethin’ to hear\, for everyone to enjoy!
URL:https://downtownnewbraunfels.com/event/kade-isakson-11/
LOCATION:Krause’s Cafe\, 148 S. Castell Ave\, New Braunfels\, TX\, 78130
CATEGORIES:Live Music
ATTACH;FMTTYPE=image/jpeg:https://downtownnewbraunfels.com/wp-content/uploads/2025/07/1-Kade-New.jpg
GEO:29.7012853;-98.1250235
X-APPLE-STRUCTURED-LOCATION;VALUE=URI;X-ADDRESS=Krause’s Cafe 148 S. Castell Ave New Braunfels TX 78130;X-APPLE-RADIUS=500;X-TITLE=148 S. Castell Ave:geo:-98.1250235,29.7012853
END:VEVENT
BEGIN:VEVENT
DTSTART;TZID=America/Chicago:20250818T083000
DTEND;TZID=America/Chicago:20250818T100000
DTSTAMP:20260425T101253
CREATED:20250625T190926Z
LAST-MODIFIED:20250625T190926Z
UID:7279-1755505800-1755511200@downtownnewbraunfels.com
SUMMARY:Tejas River Club on the Comal River
DESCRIPTION:A Day @ Tejas River Club\n\n\n\n\n\nWeekdays only. \n8:00 AM \nGates open. Get barefoot. \nBreathe. Journal. Just be. \n8:30 AM \nMovement begins. Take class or not! \nFlow on the deck\, overlooking the river.9:30 AM \nRiver plunge time. \nJump in\, float\, connect\, chill.10:00 AM \nTop deck stays FREE all day! \nWiFi\, breakfast\, community\, or solitude. \nAfter 10:00 AM \nFloat In kicks off the show. \n$14.99 to stay and spend the day with them down the stairs! Otherwise top deck is FREE!
URL:https://downtownnewbraunfels.com/event/tejas-river-club-on-the-comal-river/2025-08-18/
LOCATION:Float In\, 462 E. Mill St.\, New Braunfels\, TX\, 78130\, United States
ATTACH;FMTTYPE=image/png:https://downtownnewbraunfels.com/wp-content/uploads/2025/06/Untitled.png
ORGANIZER;CN="Tejas River Club":MAILTO:hello@tejasriverclub.com
GEO:29.7066537;-98.1228689
X-APPLE-STRUCTURED-LOCATION;VALUE=URI;X-ADDRESS=Float In 462 E. Mill St. New Braunfels TX 78130 United States;X-APPLE-RADIUS=500;X-TITLE=462 E. Mill St.:geo:-98.1228689,29.7066537
END:VEVENT
BEGIN:VEVENT
DTSTART;TZID=America/Chicago:20250818T090000
DTEND;TZID=America/Chicago:20250818T110000
DTSTAMP:20260425T101253
CREATED:20250812T170244Z
LAST-MODIFIED:20250812T170244Z
UID:7536-1755507600-1755514800@downtownnewbraunfels.com
SUMMARY:Back to School for Mom's (and Dad's)
DESCRIPTION:Drop off the kids and swing by Mill Street Art Gallery for a little grown-up treat! We’re celebrating back-to-school with\n\n\n“momosas”\nbrunch bites\, and\ncreativity.\n\n\nCome as you are…It’s your chance to relax\, connect\, and enjoy some well-deserved me time!
URL:https://downtownnewbraunfels.com/event/back-to-school-for-moms-and-dads/
LOCATION:Mill Street Art Gallery\, 387 W. Mill Street\, New Braunfels\, TX\, 78130\, United States
ATTACH;FMTTYPE=image/jpeg:https://downtownnewbraunfels.com/wp-content/uploads/2025/08/MSAG-FB-back-to-school-2-1.jpg
GEO:29.7009991;-98.1278501
X-APPLE-STRUCTURED-LOCATION;VALUE=URI;X-ADDRESS=Mill Street Art Gallery 387 W. Mill Street New Braunfels TX 78130 United States;X-APPLE-RADIUS=500;X-TITLE=387 W. Mill Street:geo:-98.1278501,29.7009991
END:VEVENT
BEGIN:VEVENT
DTSTART;TZID=America/Chicago:20250818T190000
DTEND;TZID=America/Chicago:20250818T210000
DTSTAMP:20260425T101253
CREATED:20250610T182033Z
LAST-MODIFIED:20250812T161537Z
UID:7140-1755543600-1755550800@downtownnewbraunfels.com
SUMMARY:Karaoke Night at Krause's
DESCRIPTION:Join us for family-friendly Karaoke Night in the Biergarten\, hosted by Heart of Texas Karaoke\, every 1st and 3rd Monday in July and August. All ages are welcome to take the stage and sing their favorite songs in a fun\, relaxed atmosphere. Enjoy great food\, cold drinks\, and a lively evening with friends and family. Karaoke kicks off at 6pm! Whether you’re a seasoned performer or just in it for the laughs\, come out and make some music with us.
URL:https://downtownnewbraunfels.com/event/karaoke-night-at-krauses/
LOCATION:Krause’s Cafe\, 148 S. Castell Ave\, New Braunfels\, TX\, 78130
CATEGORIES:Live Music
ATTACH;FMTTYPE=image/jpeg:https://downtownnewbraunfels.com/wp-content/uploads/2025/06/1-Karaoke-Night.jpg
GEO:29.7012853;-98.1250235
X-APPLE-STRUCTURED-LOCATION;VALUE=URI;X-ADDRESS=Krause’s Cafe 148 S. Castell Ave New Braunfels TX 78130;X-APPLE-RADIUS=500;X-TITLE=148 S. Castell Ave:geo:-98.1250235,29.7012853
END:VEVENT
BEGIN:VEVENT
DTSTART;TZID=America/Chicago:20250819T083000
DTEND;TZID=America/Chicago:20250819T100000
DTSTAMP:20260425T101253
CREATED:20250625T190926Z
LAST-MODIFIED:20250625T190926Z
UID:7280-1755592200-1755597600@downtownnewbraunfels.com
SUMMARY:Tejas River Club on the Comal River
DESCRIPTION:A Day @ Tejas River Club\n\n\n\n\n\nWeekdays only. \n8:00 AM \nGates open. Get barefoot. \nBreathe. Journal. Just be. \n8:30 AM \nMovement begins. Take class or not! \nFlow on the deck\, overlooking the river.9:30 AM \nRiver plunge time. \nJump in\, float\, connect\, chill.10:00 AM \nTop deck stays FREE all day! \nWiFi\, breakfast\, community\, or solitude. \nAfter 10:00 AM \nFloat In kicks off the show. \n$14.99 to stay and spend the day with them down the stairs! Otherwise top deck is FREE!
URL:https://downtownnewbraunfels.com/event/tejas-river-club-on-the-comal-river/2025-08-19/
LOCATION:Float In\, 462 E. Mill St.\, New Braunfels\, TX\, 78130\, United States
ATTACH;FMTTYPE=image/png:https://downtownnewbraunfels.com/wp-content/uploads/2025/06/Untitled.png
ORGANIZER;CN="Tejas River Club":MAILTO:hello@tejasriverclub.com
GEO:29.7066537;-98.1228689
X-APPLE-STRUCTURED-LOCATION;VALUE=URI;X-ADDRESS=Float In 462 E. Mill St. New Braunfels TX 78130 United States;X-APPLE-RADIUS=500;X-TITLE=462 E. Mill St.:geo:-98.1228689,29.7066537
END:VEVENT
BEGIN:VEVENT
DTSTART;TZID=America/Chicago:20250820T083000
DTEND;TZID=America/Chicago:20250820T100000
DTSTAMP:20260425T101253
CREATED:20250625T190926Z
LAST-MODIFIED:20250625T190926Z
UID:7281-1755678600-1755684000@downtownnewbraunfels.com
SUMMARY:Tejas River Club on the Comal River
DESCRIPTION:A Day @ Tejas River Club\n\n\n\n\n\nWeekdays only. \n8:00 AM \nGates open. Get barefoot. \nBreathe. Journal. Just be. \n8:30 AM \nMovement begins. Take class or not! \nFlow on the deck\, overlooking the river.9:30 AM \nRiver plunge time. \nJump in\, float\, connect\, chill.10:00 AM \nTop deck stays FREE all day! \nWiFi\, breakfast\, community\, or solitude. \nAfter 10:00 AM \nFloat In kicks off the show. \n$14.99 to stay and spend the day with them down the stairs! Otherwise top deck is FREE!
URL:https://downtownnewbraunfels.com/event/tejas-river-club-on-the-comal-river/2025-08-20/
LOCATION:Float In\, 462 E. Mill St.\, New Braunfels\, TX\, 78130\, United States
ATTACH;FMTTYPE=image/png:https://downtownnewbraunfels.com/wp-content/uploads/2025/06/Untitled.png
ORGANIZER;CN="Tejas River Club":MAILTO:hello@tejasriverclub.com
GEO:29.7066537;-98.1228689
X-APPLE-STRUCTURED-LOCATION;VALUE=URI;X-ADDRESS=Float In 462 E. Mill St. New Braunfels TX 78130 United States;X-APPLE-RADIUS=500;X-TITLE=462 E. Mill St.:geo:-98.1228689,29.7066537
END:VEVENT
BEGIN:VEVENT
DTSTART;TZID=America/Chicago:20250820T090000
DTEND;TZID=America/Chicago:20250820T103000
DTSTAMP:20260425T101253
CREATED:20250430T160832Z
LAST-MODIFIED:20250430T160832Z
UID:6846-1755680400-1755685800@downtownnewbraunfels.com
SUMMARY:Kaffeeklatsch
DESCRIPTION:Join us for a morning coffee break with a German twist.  Make new and meet old friends while creating a unique ornament.  Sip a cup of coffee and enjoy a sweet treat.  This month’s ornament will be a felted wool ball with embroidery ornament. \nDo all this at the historic Emmie Seele Faust Library at the Sophienburg Museum and Archives\, 401 W. Coll St.\, New Braunfels\, TX 78130. \n$10 per person \nReserve your spot by purchasing tickets online at:  Sophienburg Museum and Archives – Tickets
URL:https://downtownnewbraunfels.com/event/kaffeeklatsch-6/
LOCATION:Sophienburg Museum & Archives\, 401 W Coll St\, New Braunfels\, TX\, 78130\, United States
CATEGORIES:Arts & Culture,Community
ATTACH;FMTTYPE=image/png:https://downtownnewbraunfels.com/wp-content/uploads/2025/04/new-image-for-kaffeeklatsch-3.png
ORGANIZER;CN="Sophienburg Museum & Archives":MAILTO:401 W Coll St
GEO:29.6978209;-98.1241527
X-APPLE-STRUCTURED-LOCATION;VALUE=URI;X-ADDRESS=Sophienburg Museum & Archives 401 W Coll St New Braunfels TX 78130 United States;X-APPLE-RADIUS=500;X-TITLE=401 W Coll St:geo:-98.1241527,29.6978209
END:VEVENT
BEGIN:VEVENT
DTSTART;TZID=America/Chicago:20250820T180000
DTEND;TZID=America/Chicago:20250820T210000
DTSTAMP:20260425T101253
CREATED:20250812T161630Z
LAST-MODIFIED:20250812T161630Z
UID:7367-1755712800-1755723600@downtownnewbraunfels.com
SUMMARY:Yodel Blitz
DESCRIPTION:Do you like to have fun? …. So does Yodel Blitz! Yodel Blitz is a hilarious\, German\, folk-music based musical group that is ready to bring you beer-drinking\, polka-dancing\, yodel-blitzing fun in the German style. With decades of combined performance experience (but who’s counting?)\, Yodel Blitz leads their audiences willingly on a musical journey. They will have the crowd dancing\, clapping and singing along in no time. Not a singer or dancer? No problem…just sit back and be entertained by the stellar performances on unusual folk instruments like the alphorn\, Austrian cowbells and saw. In honor of our namesake\, all this is topped off with lightning fast yodeling in 3-part harmony! This group provides quality\, fun\, German folk music for any event. Yodel Blitz features yodeling (as the name implies) along with 3-part harmonies\, accordion\, clarinet\, bass\, brass\, alphorn and cowbells. Come sing\, dance & yodel along to this fun musical group. They guarantee a beer-drinking\, yodel-blitzing good time!
URL:https://downtownnewbraunfels.com/event/yodel-blitz-10/
LOCATION:Krause’s Cafe\, 148 S. Castell Ave\, New Braunfels\, TX\, 78130
CATEGORIES:Live Music
ATTACH;FMTTYPE=image/jpeg:https://downtownnewbraunfels.com/wp-content/uploads/2025/07/1-Yodel-Blitz.jpg
GEO:29.7012853;-98.1250235
X-APPLE-STRUCTURED-LOCATION;VALUE=URI;X-ADDRESS=Krause’s Cafe 148 S. Castell Ave New Braunfels TX 78130;X-APPLE-RADIUS=500;X-TITLE=148 S. Castell Ave:geo:-98.1250235,29.7012853
END:VEVENT
BEGIN:VEVENT
DTSTART;TZID=America/Chicago:20250821T083000
DTEND;TZID=America/Chicago:20250821T100000
DTSTAMP:20260425T101253
CREATED:20250625T190926Z
LAST-MODIFIED:20250625T190926Z
UID:7282-1755765000-1755770400@downtownnewbraunfels.com
SUMMARY:Tejas River Club on the Comal River
DESCRIPTION:A Day @ Tejas River Club\n\n\n\n\n\nWeekdays only. \n8:00 AM \nGates open. Get barefoot. \nBreathe. Journal. Just be. \n8:30 AM \nMovement begins. Take class or not! \nFlow on the deck\, overlooking the river.9:30 AM \nRiver plunge time. \nJump in\, float\, connect\, chill.10:00 AM \nTop deck stays FREE all day! \nWiFi\, breakfast\, community\, or solitude. \nAfter 10:00 AM \nFloat In kicks off the show. \n$14.99 to stay and spend the day with them down the stairs! Otherwise top deck is FREE!
URL:https://downtownnewbraunfels.com/event/tejas-river-club-on-the-comal-river/2025-08-21/
LOCATION:Float In\, 462 E. Mill St.\, New Braunfels\, TX\, 78130\, United States
ATTACH;FMTTYPE=image/png:https://downtownnewbraunfels.com/wp-content/uploads/2025/06/Untitled.png
ORGANIZER;CN="Tejas River Club":MAILTO:hello@tejasriverclub.com
GEO:29.7066537;-98.1228689
X-APPLE-STRUCTURED-LOCATION;VALUE=URI;X-ADDRESS=Float In 462 E. Mill St. New Braunfels TX 78130 United States;X-APPLE-RADIUS=500;X-TITLE=462 E. Mill St.:geo:-98.1228689,29.7066537
END:VEVENT
BEGIN:VEVENT
DTSTART;TZID=America/Chicago:20250821T180000
DTEND;TZID=America/Chicago:20250821T210000
DTSTAMP:20260425T101253
CREATED:20250812T161722Z
LAST-MODIFIED:20250812T161722Z
UID:7365-1755799200-1755810000@downtownnewbraunfels.com
SUMMARY:Madelyn Abrameit Band
DESCRIPTION:Madelyn Abrameit Band hails from Seguin\, Texas\, delivering a powerful mix of classic rock\, traditional country\, and modern country covers with a style all their own. Fronted by singer-songwriter Madelyn Abrameit\, the band also showcases original music\, including the fan-favorite EP Whiskey Wonders and her latest single Shattered\, both available on all major digital platforms.
URL:https://downtownnewbraunfels.com/event/madelyn-abrameit-band-3/
LOCATION:Krause’s Cafe\, 148 S. Castell Ave\, New Braunfels\, TX\, 78130
CATEGORIES:Live Music
ATTACH;FMTTYPE=image/jpeg:https://downtownnewbraunfels.com/wp-content/uploads/2025/07/1-Madelyn-Abrameit.jpg
GEO:29.7012853;-98.1250235
X-APPLE-STRUCTURED-LOCATION;VALUE=URI;X-ADDRESS=Krause’s Cafe 148 S. Castell Ave New Braunfels TX 78130;X-APPLE-RADIUS=500;X-TITLE=148 S. Castell Ave:geo:-98.1250235,29.7012853
END:VEVENT
BEGIN:VEVENT
DTSTART;TZID=America/Chicago:20250822T083000
DTEND;TZID=America/Chicago:20250822T100000
DTSTAMP:20260425T101253
CREATED:20250625T190926Z
LAST-MODIFIED:20250625T190926Z
UID:7283-1755851400-1755856800@downtownnewbraunfels.com
SUMMARY:Tejas River Club on the Comal River
DESCRIPTION:A Day @ Tejas River Club\n\n\n\n\n\nWeekdays only. \n8:00 AM \nGates open. Get barefoot. \nBreathe. Journal. Just be. \n8:30 AM \nMovement begins. Take class or not! \nFlow on the deck\, overlooking the river.9:30 AM \nRiver plunge time. \nJump in\, float\, connect\, chill.10:00 AM \nTop deck stays FREE all day! \nWiFi\, breakfast\, community\, or solitude. \nAfter 10:00 AM \nFloat In kicks off the show. \n$14.99 to stay and spend the day with them down the stairs! Otherwise top deck is FREE!
URL:https://downtownnewbraunfels.com/event/tejas-river-club-on-the-comal-river/2025-08-22/
LOCATION:Float In\, 462 E. Mill St.\, New Braunfels\, TX\, 78130\, United States
ATTACH;FMTTYPE=image/png:https://downtownnewbraunfels.com/wp-content/uploads/2025/06/Untitled.png
ORGANIZER;CN="Tejas River Club":MAILTO:hello@tejasriverclub.com
GEO:29.7066537;-98.1228689
X-APPLE-STRUCTURED-LOCATION;VALUE=URI;X-ADDRESS=Float In 462 E. Mill St. New Braunfels TX 78130 United States;X-APPLE-RADIUS=500;X-TITLE=462 E. Mill St.:geo:-98.1228689,29.7066537
END:VEVENT
BEGIN:VEVENT
DTSTART;TZID=America/Chicago:20250822T183000
DTEND;TZID=America/Chicago:20250822T213000
DTSTAMP:20260425T101253
CREATED:20250812T161804Z
LAST-MODIFIED:20250812T161804Z
UID:7373-1755887400-1755898200@downtownnewbraunfels.com
SUMMARY:Soul Sessions
DESCRIPTION:Soul Sessions is a unique group of Central Texas’ top R&B\, Soul and Funk musicians.
URL:https://downtownnewbraunfels.com/event/soul-sessions-7/
LOCATION:Krause’s Cafe\, 148 S. Castell Ave\, New Braunfels\, TX\, 78130
CATEGORIES:Live Music
ATTACH;FMTTYPE=image/jpeg:https://downtownnewbraunfels.com/wp-content/uploads/2025/07/1-Soul-sessions-updated.jpg
GEO:29.7012853;-98.1250235
X-APPLE-STRUCTURED-LOCATION;VALUE=URI;X-ADDRESS=Krause’s Cafe 148 S. Castell Ave New Braunfels TX 78130;X-APPLE-RADIUS=500;X-TITLE=148 S. Castell Ave:geo:-98.1250235,29.7012853
END:VEVENT
BEGIN:VEVENT
DTSTART;TZID=America/Chicago:20250822T193000
DTEND;TZID=America/Chicago:20250822T193000
DTSTAMP:20260425T101253
CREATED:20250206T162023Z
LAST-MODIFIED:20250206T162023Z
UID:6407-1755891000-1755891000@downtownnewbraunfels.com
SUMMARY:Parallel Lives at Circle Arts Theatre
DESCRIPTION:Parallel Lives\n2 women playing 40 characters in 2 hours. Get ready for chaos! The dynamic duo will play Supreme Beings making plans for mankind\, teenagers on a date\, sisters at their grandmother’s funeral\, a man and a woman in a country-western bar\, a couple of hippies\, and so much more. You never know who you’ll see on the stage as the audience is whisked through the outrageous struggles of modern life. Ages 18+ \nAugust 15th- CHAMPAGNE OPENING- Join us after the show for food\, drinks and a meet and greet with the cast. \nAugust 16th- PAY WHAT YOU CAN- All tickets at the door will be available on a pay-what-you-can basis. Pre-purchases will be full price and flex passes will work as usual
URL:https://downtownnewbraunfels.com/event/parallel-lives-at-circle-arts-theatre/2025-08-22/
LOCATION:Circle Arts Theatre\, 124 Elizabeth Street\, New Braunfels\, Texas\, 78130
CATEGORIES:Theater
ATTACH;FMTTYPE=image/jpeg:https://downtownnewbraunfels.com/wp-content/uploads/2025/02/Parallel-Lives-Logo-980x980-1.jpg
GEO:29.7079031;-98.1314236
X-APPLE-STRUCTURED-LOCATION;VALUE=URI;X-ADDRESS=Circle Arts Theatre 124 Elizabeth Street New Braunfels Texas 78130;X-APPLE-RADIUS=500;X-TITLE=124 Elizabeth Street:geo:-98.1314236,29.7079031
END:VEVENT
BEGIN:VEVENT
DTSTART;TZID=America/Chicago:20250823T100000
DTEND;TZID=America/Chicago:20250823T130000
DTSTAMP:20260425T101253
CREATED:20250812T161842Z
LAST-MODIFIED:20250812T161842Z
UID:7375-1755943200-1755954000@downtownnewbraunfels.com
SUMMARY:Tony Taylor
DESCRIPTION:Tony Taylor hails from Corsicana\, TX. A native of New Braunfels since 2010. A singer/songwriter and performer of what has come to be known as Americana Roots Music.
URL:https://downtownnewbraunfels.com/event/tony-taylor-12/
LOCATION:Krause’s Cafe\, 148 S. Castell Ave\, New Braunfels\, TX\, 78130
CATEGORIES:Live Music
ATTACH;FMTTYPE=image/jpeg:https://downtownnewbraunfels.com/wp-content/uploads/2025/07/1-tony-taylor.jpg
GEO:29.7012853;-98.1250235
X-APPLE-STRUCTURED-LOCATION;VALUE=URI;X-ADDRESS=Krause’s Cafe 148 S. Castell Ave New Braunfels TX 78130;X-APPLE-RADIUS=500;X-TITLE=148 S. Castell Ave:geo:-98.1250235,29.7012853
END:VEVENT
BEGIN:VEVENT
DTSTART;TZID=America/Chicago:20250823T140000
DTEND;TZID=America/Chicago:20250823T170000
DTSTAMP:20260425T101253
CREATED:20250812T162102Z
LAST-MODIFIED:20250812T162102Z
UID:7369-1755957600-1755968400@downtownnewbraunfels.com
SUMMARY:Colton's Kin
DESCRIPTION:Colton’s Kin is an acoustic duo built of a loving couple\, Justin and Emily Upshaw. They have so much love for each other and their 3 boys\, Colton\, Hunter\, and Wyatt. We are truly blessed to play music together and how often we do. The songs we choose range from the 50’s to today’s music. Most of them are #1 hits\, so you’ll probably know most of them! Come on out and enjoy the show!
URL:https://downtownnewbraunfels.com/event/coltons-kin-8/
LOCATION:Krause’s Cafe\, 148 S. Castell Ave\, New Braunfels\, TX\, 78130
CATEGORIES:Live Music
ATTACH;FMTTYPE=image/jpeg:https://downtownnewbraunfels.com/wp-content/uploads/2025/07/1-Coltons-Kin.jpg
GEO:29.7012853;-98.1250235
X-APPLE-STRUCTURED-LOCATION;VALUE=URI;X-ADDRESS=Krause’s Cafe 148 S. Castell Ave New Braunfels TX 78130;X-APPLE-RADIUS=500;X-TITLE=148 S. Castell Ave:geo:-98.1250235,29.7012853
END:VEVENT
BEGIN:VEVENT
DTSTART;TZID=America/Chicago:20250823T183000
DTEND;TZID=America/Chicago:20250823T210000
DTSTAMP:20260425T101253
CREATED:20250812T162159Z
LAST-MODIFIED:20250812T162159Z
UID:7371-1755973800-1755982800@downtownnewbraunfels.com
SUMMARY:San Antonio Transit
DESCRIPTION:San Antonio Transit\, A Chicago Tribute Band is a regional touring act performing throughout Texas cities such as San Antonio\, Houston\, Austin\, Dallas\, Marble Falls\, New Braunfels\, Laredo\, Eagle Pass\, Corpus Christi\, San Padre Island and El Paso. Five Decades of some of the most in demand professional musicians in San Antonio came together for the love of this iconic rock with horns sound. Let us transport you back to enjoy some of your all-time favorite songs. We are dedicated to bringing a crowd-pleasing experience to your audience.
URL:https://downtownnewbraunfels.com/event/san-antonio-transit/
LOCATION:Krause’s Cafe\, 148 S. Castell Ave\, New Braunfels\, TX\, 78130
CATEGORIES:Live Music
ATTACH;FMTTYPE=image/jpeg:https://downtownnewbraunfels.com/wp-content/uploads/2025/07/1-SA-Transit.jpg
GEO:29.7012853;-98.1250235
X-APPLE-STRUCTURED-LOCATION;VALUE=URI;X-ADDRESS=Krause’s Cafe 148 S. Castell Ave New Braunfels TX 78130;X-APPLE-RADIUS=500;X-TITLE=148 S. Castell Ave:geo:-98.1250235,29.7012853
END:VEVENT
BEGIN:VEVENT
DTSTART;TZID=America/Chicago:20250823T193000
DTEND;TZID=America/Chicago:20250823T193000
DTSTAMP:20260425T101253
CREATED:20250206T162023Z
LAST-MODIFIED:20250206T162023Z
UID:6408-1755977400-1755977400@downtownnewbraunfels.com
SUMMARY:Parallel Lives at Circle Arts Theatre
DESCRIPTION:Parallel Lives\n2 women playing 40 characters in 2 hours. Get ready for chaos! The dynamic duo will play Supreme Beings making plans for mankind\, teenagers on a date\, sisters at their grandmother’s funeral\, a man and a woman in a country-western bar\, a couple of hippies\, and so much more. You never know who you’ll see on the stage as the audience is whisked through the outrageous struggles of modern life. Ages 18+ \nAugust 15th- CHAMPAGNE OPENING- Join us after the show for food\, drinks and a meet and greet with the cast. \nAugust 16th- PAY WHAT YOU CAN- All tickets at the door will be available on a pay-what-you-can basis. Pre-purchases will be full price and flex passes will work as usual
URL:https://downtownnewbraunfels.com/event/parallel-lives-at-circle-arts-theatre/2025-08-23/
LOCATION:Circle Arts Theatre\, 124 Elizabeth Street\, New Braunfels\, Texas\, 78130
CATEGORIES:Theater
ATTACH;FMTTYPE=image/jpeg:https://downtownnewbraunfels.com/wp-content/uploads/2025/02/Parallel-Lives-Logo-980x980-1.jpg
GEO:29.7079031;-98.1314236
X-APPLE-STRUCTURED-LOCATION;VALUE=URI;X-ADDRESS=Circle Arts Theatre 124 Elizabeth Street New Braunfels Texas 78130;X-APPLE-RADIUS=500;X-TITLE=124 Elizabeth Street:geo:-98.1314236,29.7079031
END:VEVENT
END:VCALENDAR