BEGIN:VCALENDAR
VERSION:2.0
PRODID:-//New Braunfels Downtown - ECPv6.15.18//NONSGML v1.0//EN
CALSCALE:GREGORIAN
METHOD:PUBLISH
X-WR-CALNAME:New Braunfels Downtown
X-ORIGINAL-URL:https://downtownnewbraunfels.com
X-WR-CALDESC:Events for New Braunfels Downtown
REFRESH-INTERVAL;VALUE=DURATION:PT1H
X-Robots-Tag:noindex
X-PUBLISHED-TTL:PT1H
BEGIN:VTIMEZONE
TZID:America/Chicago
BEGIN:DAYLIGHT
TZOFFSETFROM:-0600
TZOFFSETTO:-0500
TZNAME:CDT
DTSTART:20240310T080000
END:DAYLIGHT
BEGIN:STANDARD
TZOFFSETFROM:-0500
TZOFFSETTO:-0600
TZNAME:CST
DTSTART:20241103T070000
END:STANDARD
BEGIN:DAYLIGHT
TZOFFSETFROM:-0600
TZOFFSETTO:-0500
TZNAME:CDT
DTSTART:20250309T080000
END:DAYLIGHT
BEGIN:STANDARD
TZOFFSETFROM:-0500
TZOFFSETTO:-0600
TZNAME:CST
DTSTART:20251102T070000
END:STANDARD
BEGIN:DAYLIGHT
TZOFFSETFROM:-0600
TZOFFSETTO:-0500
TZNAME:CDT
DTSTART:20260308T080000
END:DAYLIGHT
BEGIN:STANDARD
TZOFFSETFROM:-0500
TZOFFSETTO:-0600
TZNAME:CST
DTSTART:20261101T070000
END:STANDARD
END:VTIMEZONE
BEGIN:VEVENT
DTSTART;TZID=America/Chicago:20250824T110000
DTEND;TZID=America/Chicago:20250824T140000
DTSTAMP:20260425T053046
CREATED:20250812T162246Z
LAST-MODIFIED:20250812T162246Z
UID:7409-1756033200-1756044000@downtownnewbraunfels.com
SUMMARY:Taylor Campbell Band
DESCRIPTION:The Taylor Campbell Band are from San Antonio\, Texas. They play original and heartfelt Americana music. Whether they’re singing’ train songs\, pain songs or downright rockers\, TCB draws influence from the sounds of Appalachia and great storytellers like John Prine and Guy Clark\, but always sounds like TCB.
URL:https://downtownnewbraunfels.com/event/taylor-campbell-band-2/
LOCATION:Krause’s Cafe\, 148 S. Castell Ave\, New Braunfels\, TX\, 78130
CATEGORIES:Live Music
ATTACH;FMTTYPE=image/jpeg:https://downtownnewbraunfels.com/wp-content/uploads/2025/07/1-Taylor-Campbell.jpg
GEO:29.7012853;-98.1250235
X-APPLE-STRUCTURED-LOCATION;VALUE=URI;X-ADDRESS=Krause’s Cafe 148 S. Castell Ave New Braunfels TX 78130;X-APPLE-RADIUS=500;X-TITLE=148 S. Castell Ave:geo:-98.1250235,29.7012853
END:VEVENT
BEGIN:VEVENT
DTSTART;TZID=America/Chicago:20250824T140000
DTEND;TZID=America/Chicago:20250824T140000
DTSTAMP:20260425T053046
CREATED:20250206T162023Z
LAST-MODIFIED:20250206T162023Z
UID:6409-1756044000-1756044000@downtownnewbraunfels.com
SUMMARY:Parallel Lives at Circle Arts Theatre
DESCRIPTION:Parallel Lives\n2 women playing 40 characters in 2 hours. Get ready for chaos! The dynamic duo will play Supreme Beings making plans for mankind\, teenagers on a date\, sisters at their grandmother’s funeral\, a man and a woman in a country-western bar\, a couple of hippies\, and so much more. You never know who you’ll see on the stage as the audience is whisked through the outrageous struggles of modern life. Ages 18+ \nAugust 15th- CHAMPAGNE OPENING- Join us after the show for food\, drinks and a meet and greet with the cast. \nAugust 16th- PAY WHAT YOU CAN- All tickets at the door will be available on a pay-what-you-can basis. Pre-purchases will be full price and flex passes will work as usual
URL:https://downtownnewbraunfels.com/event/parallel-lives-at-circle-arts-theatre/2025-08-24/
LOCATION:Circle Arts Theatre\, 124 Elizabeth Street\, New Braunfels\, Texas\, 78130
CATEGORIES:Theater
ATTACH;FMTTYPE=image/jpeg:https://downtownnewbraunfels.com/wp-content/uploads/2025/02/Parallel-Lives-Logo-980x980-1.jpg
GEO:29.7079031;-98.1314236
X-APPLE-STRUCTURED-LOCATION;VALUE=URI;X-ADDRESS=Circle Arts Theatre 124 Elizabeth Street New Braunfels Texas 78130;X-APPLE-RADIUS=500;X-TITLE=124 Elizabeth Street:geo:-98.1314236,29.7079031
END:VEVENT
BEGIN:VEVENT
DTSTART;TZID=America/Chicago:20250824T150000
DTEND;TZID=America/Chicago:20250824T180000
DTSTAMP:20260425T053046
CREATED:20250812T162357Z
LAST-MODIFIED:20250812T162357Z
UID:7377-1756047600-1756058400@downtownnewbraunfels.com
SUMMARY:Trunk Monkeys
DESCRIPTION:Marc is originally from Chicago\, Illinois. Big fan of Eric Clapton\, Robben Ford\, a perpetual student and obsessed with perfect tone. A true San Antonio native. Skip’s passion developed early in life. His roots lay in Mow-town\, Muscle Shoals\, and Stax Records. Born and raised in San Antonio\, Carl has been playing drums since the early seventies. Carl has the humbling privilege of playing with the talents of San Antonio’s very influential musicians throughout the years and his talents and skill set continue today. Born in California and raised in Texas. As one of the founding members of “Trunk Monkey” Tom’s musical depth has been greatly enhanced by talented and experienced musicians in the band. Together they make Trunk Monkey
URL:https://downtownnewbraunfels.com/event/trunk-monkeys-3/
LOCATION:Krause’s Cafe\, 148 S. Castell Ave\, New Braunfels\, TX\, 78130
CATEGORIES:Live Music
ATTACH;FMTTYPE=image/jpeg:https://downtownnewbraunfels.com/wp-content/uploads/2025/07/1-trunk-monkey.jpg
GEO:29.7012853;-98.1250235
X-APPLE-STRUCTURED-LOCATION;VALUE=URI;X-ADDRESS=Krause’s Cafe 148 S. Castell Ave New Braunfels TX 78130;X-APPLE-RADIUS=500;X-TITLE=148 S. Castell Ave:geo:-98.1250235,29.7012853
END:VEVENT
BEGIN:VEVENT
DTSTART;TZID=America/Chicago:20250825T083000
DTEND;TZID=America/Chicago:20250825T100000
DTSTAMP:20260425T053046
CREATED:20250625T190926Z
LAST-MODIFIED:20250625T190926Z
UID:7284-1756110600-1756116000@downtownnewbraunfels.com
SUMMARY:Tejas River Club on the Comal River
DESCRIPTION:A Day @ Tejas River Club\n\n\n\n\n\nWeekdays only. \n8:00 AM \nGates open. Get barefoot. \nBreathe. Journal. Just be. \n8:30 AM \nMovement begins. Take class or not! \nFlow on the deck\, overlooking the river.9:30 AM \nRiver plunge time. \nJump in\, float\, connect\, chill.10:00 AM \nTop deck stays FREE all day! \nWiFi\, breakfast\, community\, or solitude. \nAfter 10:00 AM \nFloat In kicks off the show. \n$14.99 to stay and spend the day with them down the stairs! Otherwise top deck is FREE!
URL:https://downtownnewbraunfels.com/event/tejas-river-club-on-the-comal-river/2025-08-25/
LOCATION:Float In\, 462 E. Mill St.\, New Braunfels\, TX\, 78130\, United States
ATTACH;FMTTYPE=image/png:https://downtownnewbraunfels.com/wp-content/uploads/2025/06/Untitled.png
ORGANIZER;CN="Tejas River Club":MAILTO:hello@tejasriverclub.com
GEO:29.7066537;-98.1228689
X-APPLE-STRUCTURED-LOCATION;VALUE=URI;X-ADDRESS=Float In 462 E. Mill St. New Braunfels TX 78130 United States;X-APPLE-RADIUS=500;X-TITLE=462 E. Mill St.:geo:-98.1228689,29.7066537
END:VEVENT
BEGIN:VEVENT
DTSTART;TZID=America/Chicago:20250826T083000
DTEND;TZID=America/Chicago:20250826T100000
DTSTAMP:20260425T053046
CREATED:20250625T190926Z
LAST-MODIFIED:20250625T190926Z
UID:7285-1756197000-1756202400@downtownnewbraunfels.com
SUMMARY:Tejas River Club on the Comal River
DESCRIPTION:A Day @ Tejas River Club\n\n\n\n\n\nWeekdays only. \n8:00 AM \nGates open. Get barefoot. \nBreathe. Journal. Just be. \n8:30 AM \nMovement begins. Take class or not! \nFlow on the deck\, overlooking the river.9:30 AM \nRiver plunge time. \nJump in\, float\, connect\, chill.10:00 AM \nTop deck stays FREE all day! \nWiFi\, breakfast\, community\, or solitude. \nAfter 10:00 AM \nFloat In kicks off the show. \n$14.99 to stay and spend the day with them down the stairs! Otherwise top deck is FREE!
URL:https://downtownnewbraunfels.com/event/tejas-river-club-on-the-comal-river/2025-08-26/
LOCATION:Float In\, 462 E. Mill St.\, New Braunfels\, TX\, 78130\, United States
ATTACH;FMTTYPE=image/png:https://downtownnewbraunfels.com/wp-content/uploads/2025/06/Untitled.png
ORGANIZER;CN="Tejas River Club":MAILTO:hello@tejasriverclub.com
GEO:29.7066537;-98.1228689
X-APPLE-STRUCTURED-LOCATION;VALUE=URI;X-ADDRESS=Float In 462 E. Mill St. New Braunfels TX 78130 United States;X-APPLE-RADIUS=500;X-TITLE=462 E. Mill St.:geo:-98.1228689,29.7066537
END:VEVENT
BEGIN:VEVENT
DTSTART;TZID=America/Chicago:20250827T083000
DTEND;TZID=America/Chicago:20250827T100000
DTSTAMP:20260425T053047
CREATED:20250625T190926Z
LAST-MODIFIED:20250625T190926Z
UID:7286-1756283400-1756288800@downtownnewbraunfels.com
SUMMARY:Tejas River Club on the Comal River
DESCRIPTION:A Day @ Tejas River Club\n\n\n\n\n\nWeekdays only. \n8:00 AM \nGates open. Get barefoot. \nBreathe. Journal. Just be. \n8:30 AM \nMovement begins. Take class or not! \nFlow on the deck\, overlooking the river.9:30 AM \nRiver plunge time. \nJump in\, float\, connect\, chill.10:00 AM \nTop deck stays FREE all day! \nWiFi\, breakfast\, community\, or solitude. \nAfter 10:00 AM \nFloat In kicks off the show. \n$14.99 to stay and spend the day with them down the stairs! Otherwise top deck is FREE!
URL:https://downtownnewbraunfels.com/event/tejas-river-club-on-the-comal-river/2025-08-27/
LOCATION:Float In\, 462 E. Mill St.\, New Braunfels\, TX\, 78130\, United States
ATTACH;FMTTYPE=image/png:https://downtownnewbraunfels.com/wp-content/uploads/2025/06/Untitled.png
ORGANIZER;CN="Tejas River Club":MAILTO:hello@tejasriverclub.com
GEO:29.7066537;-98.1228689
X-APPLE-STRUCTURED-LOCATION;VALUE=URI;X-ADDRESS=Float In 462 E. Mill St. New Braunfels TX 78130 United States;X-APPLE-RADIUS=500;X-TITLE=462 E. Mill St.:geo:-98.1228689,29.7066537
END:VEVENT
BEGIN:VEVENT
DTSTART;TZID=America/Chicago:20250827T180000
DTEND;TZID=America/Chicago:20250827T210000
DTSTAMP:20260425T053047
CREATED:20250812T162502Z
LAST-MODIFIED:20250812T162502Z
UID:7391-1756317600-1756328400@downtownnewbraunfels.com
SUMMARY:San Antonio Dutchmen
DESCRIPTION:The San Antonio Dutchmen Polka band is also known as the San Antonio Combo and S.A. Country for the wide variety of music they play. The band plays for weddings\, anniversaries\, picnics\, Oktoberfest\, Wurstfest\, festivals and public dances all over South Texas. They specialize in South Texas Style German and Czech polkas and waltzes. The band members are all descendants of German immigrants that came to Texas in the 1800’s. They are multi-talented and can play a variety of instruments which gives them the ability to provide a variety of arrangements and sounds and also allows them to play some authentic Country and Western music as well.
URL:https://downtownnewbraunfels.com/event/san-antonio-dutchmen-6/
LOCATION:Krause’s Cafe\, 148 S. Castell Ave\, New Braunfels\, TX\, 78130
CATEGORIES:Live Music
ATTACH;FMTTYPE=image/jpeg:https://downtownnewbraunfels.com/wp-content/uploads/2025/07/1-SA-Dutchman-rec.jpg
GEO:29.7012853;-98.1250235
X-APPLE-STRUCTURED-LOCATION;VALUE=URI;X-ADDRESS=Krause’s Cafe 148 S. Castell Ave New Braunfels TX 78130;X-APPLE-RADIUS=500;X-TITLE=148 S. Castell Ave:geo:-98.1250235,29.7012853
END:VEVENT
BEGIN:VEVENT
DTSTART;TZID=America/Chicago:20250828T083000
DTEND;TZID=America/Chicago:20250828T100000
DTSTAMP:20260425T053047
CREATED:20250625T190926Z
LAST-MODIFIED:20250625T190926Z
UID:7287-1756369800-1756375200@downtownnewbraunfels.com
SUMMARY:Tejas River Club on the Comal River
DESCRIPTION:A Day @ Tejas River Club\n\n\n\n\n\nWeekdays only. \n8:00 AM \nGates open. Get barefoot. \nBreathe. Journal. Just be. \n8:30 AM \nMovement begins. Take class or not! \nFlow on the deck\, overlooking the river.9:30 AM \nRiver plunge time. \nJump in\, float\, connect\, chill.10:00 AM \nTop deck stays FREE all day! \nWiFi\, breakfast\, community\, or solitude. \nAfter 10:00 AM \nFloat In kicks off the show. \n$14.99 to stay and spend the day with them down the stairs! Otherwise top deck is FREE!
URL:https://downtownnewbraunfels.com/event/tejas-river-club-on-the-comal-river/2025-08-28/
LOCATION:Float In\, 462 E. Mill St.\, New Braunfels\, TX\, 78130\, United States
ATTACH;FMTTYPE=image/png:https://downtownnewbraunfels.com/wp-content/uploads/2025/06/Untitled.png
ORGANIZER;CN="Tejas River Club":MAILTO:hello@tejasriverclub.com
GEO:29.7066537;-98.1228689
X-APPLE-STRUCTURED-LOCATION;VALUE=URI;X-ADDRESS=Float In 462 E. Mill St. New Braunfels TX 78130 United States;X-APPLE-RADIUS=500;X-TITLE=462 E. Mill St.:geo:-98.1228689,29.7066537
END:VEVENT
BEGIN:VEVENT
DTSTART;TZID=America/Chicago:20250828T180000
DTEND;TZID=America/Chicago:20250828T210000
DTSTAMP:20260425T053047
CREATED:20250812T162548Z
LAST-MODIFIED:20250812T162548Z
UID:7393-1756404000-1756414800@downtownnewbraunfels.com
SUMMARY:Buffaloe & The Heard
DESCRIPTION:James Ray Buffaloe\, Jr hails from Bandera\, Texas. He currently resides in Austin\, Texas\, renowned as the live music capital of the world. His musical style is a compelling mix of Dave Matthews\, Tom Petty\, and Jams Brown\, characterized by powerful vocals and rhythmic guitar playing. Whether performing solo or with the full band\, his soulful voice and heartfelt performances leave a lasting impression.
URL:https://downtownnewbraunfels.com/event/buffaloe-the-heard-3/
LOCATION:Krause’s Cafe\, 148 S. Castell Ave\, New Braunfels\, TX\, 78130
CATEGORIES:Live Music
ATTACH;FMTTYPE=image/jpeg:https://downtownnewbraunfels.com/wp-content/uploads/2025/07/1-Buffalo-and-the-Heard.jpg
GEO:29.7012853;-98.1250235
X-APPLE-STRUCTURED-LOCATION;VALUE=URI;X-ADDRESS=Krause’s Cafe 148 S. Castell Ave New Braunfels TX 78130;X-APPLE-RADIUS=500;X-TITLE=148 S. Castell Ave:geo:-98.1250235,29.7012853
END:VEVENT
BEGIN:VEVENT
DTSTART;TZID=America/Chicago:20250829T083000
DTEND;TZID=America/Chicago:20250829T100000
DTSTAMP:20260425T053047
CREATED:20250625T190926Z
LAST-MODIFIED:20250625T190926Z
UID:7288-1756456200-1756461600@downtownnewbraunfels.com
SUMMARY:Tejas River Club on the Comal River
DESCRIPTION:A Day @ Tejas River Club\n\n\n\n\n\nWeekdays only. \n8:00 AM \nGates open. Get barefoot. \nBreathe. Journal. Just be. \n8:30 AM \nMovement begins. Take class or not! \nFlow on the deck\, overlooking the river.9:30 AM \nRiver plunge time. \nJump in\, float\, connect\, chill.10:00 AM \nTop deck stays FREE all day! \nWiFi\, breakfast\, community\, or solitude. \nAfter 10:00 AM \nFloat In kicks off the show. \n$14.99 to stay and spend the day with them down the stairs! Otherwise top deck is FREE!
URL:https://downtownnewbraunfels.com/event/tejas-river-club-on-the-comal-river/2025-08-29/
LOCATION:Float In\, 462 E. Mill St.\, New Braunfels\, TX\, 78130\, United States
ATTACH;FMTTYPE=image/png:https://downtownnewbraunfels.com/wp-content/uploads/2025/06/Untitled.png
ORGANIZER;CN="Tejas River Club":MAILTO:hello@tejasriverclub.com
GEO:29.7066537;-98.1228689
X-APPLE-STRUCTURED-LOCATION;VALUE=URI;X-ADDRESS=Float In 462 E. Mill St. New Braunfels TX 78130 United States;X-APPLE-RADIUS=500;X-TITLE=462 E. Mill St.:geo:-98.1228689,29.7066537
END:VEVENT
BEGIN:VEVENT
DTSTART;TZID=America/Chicago:20250829T183000
DTEND;TZID=America/Chicago:20250829T213000
DTSTAMP:20260425T053047
CREATED:20250812T162646Z
LAST-MODIFIED:20250812T162646Z
UID:7395-1756492200-1756503000@downtownnewbraunfels.com
SUMMARY:Tausha Jackson
DESCRIPTION:Tausha Jackson is a vocal powerhouse that was born to hold a microphone. Born in Longview\, TX\, her journey into the heart of rhythm and blues began in the echo of church halls\, where her powerful vocal range and natural audience captivating charisma were cultivated. From these humble beginnings\, Tausha’s explosive energy and impassioned performances have led to opportunities to work with several grammy award winning artists including securing her a spot to open for viral sensations The Hamiltones. The culmination of her hard work and talent was realized when she released her single Move With Desire\, that soarded to #1 on the iTunes charts. Currently\, Tausha continues to travel the globe taking her unique energy to the masses. Each performance being a testament to her passion and commitment to her craft\, leaving audiences in awe and anticipation of what’s to come.
URL:https://downtownnewbraunfels.com/event/tausha-jackson-4/
LOCATION:Krause’s Cafe\, 148 S. Castell Ave\, New Braunfels\, TX\, 78130
CATEGORIES:Live Music
ATTACH;FMTTYPE=image/jpeg:https://downtownnewbraunfels.com/wp-content/uploads/2025/07/1-Tausha-Jackson.jpg
GEO:29.7012853;-98.1250235
X-APPLE-STRUCTURED-LOCATION;VALUE=URI;X-ADDRESS=Krause’s Cafe 148 S. Castell Ave New Braunfels TX 78130;X-APPLE-RADIUS=500;X-TITLE=148 S. Castell Ave:geo:-98.1250235,29.7012853
END:VEVENT
BEGIN:VEVENT
DTSTART;TZID=America/Chicago:20250830T100000
DTEND;TZID=America/Chicago:20250830T130000
DTSTAMP:20260425T053047
CREATED:20250812T162738Z
LAST-MODIFIED:20250812T162738Z
UID:7448-1756548000-1756558800@downtownnewbraunfels.com
SUMMARY:Hunter Davis
DESCRIPTION:On March 2\, 2020\, Hunter Davis had just quit his bartending job to focus on music — with a new album produced by Wilco’s Ken Coomer and shows opening for legends like Aretha Franklin. Hours later\, a tornado destroyed his Nashville apartment\, leaving him with nothing but his guitar and songs. “It gave me a new perspective\,” he says. “Music was all I had left.”​ Raised on the Texas Gulf Coast\, Hunter grew up surrounded by sports\, music\, and storytelling. He earned a Division 1 football scholarship but left the game after an injury to chase his true passion: songwriting. Influenced by artists like Jackson Browne and Jason Isbell\, his Americana sound blends raw honesty with Southern roots. With help from top musicians\, he’s built a career on resilience\, melody\, and heart.
URL:https://downtownnewbraunfels.com/event/hunter-davis/
LOCATION:Krause’s Cafe\, 148 S. Castell Ave\, New Braunfels\, TX\, 78130
CATEGORIES:Live Music
ATTACH;FMTTYPE=image/jpeg:https://downtownnewbraunfels.com/wp-content/uploads/2025/08/Hunter-Davis.jpg
GEO:29.7012853;-98.1250235
X-APPLE-STRUCTURED-LOCATION;VALUE=URI;X-ADDRESS=Krause’s Cafe 148 S. Castell Ave New Braunfels TX 78130;X-APPLE-RADIUS=500;X-TITLE=148 S. Castell Ave:geo:-98.1250235,29.7012853
END:VEVENT
BEGIN:VEVENT
DTSTART;TZID=America/Chicago:20250830T140000
DTEND;TZID=America/Chicago:20250830T170000
DTSTAMP:20260425T053047
CREATED:20250812T162838Z
LAST-MODIFIED:20250812T162838Z
UID:7397-1756562400-1756573200@downtownnewbraunfels.com
SUMMARY:Luke Leverett
DESCRIPTION:Luke Leverett’s troubadour stylings span folk-rock and soft rock from many decades\, featuring his trademark guitar virtuosity and strong tenor vocals\, bringing it all together with his onstage energy and passion for his craft.
URL:https://downtownnewbraunfels.com/event/luke-leverett-3/
LOCATION:Krause’s Cafe\, 148 S. Castell Ave\, New Braunfels\, TX\, 78130
CATEGORIES:Live Music
ATTACH;FMTTYPE=image/jpeg:https://downtownnewbraunfels.com/wp-content/uploads/2025/07/1-Luke-Leverett.jpg
GEO:29.7012853;-98.1250235
X-APPLE-STRUCTURED-LOCATION;VALUE=URI;X-ADDRESS=Krause’s Cafe 148 S. Castell Ave New Braunfels TX 78130;X-APPLE-RADIUS=500;X-TITLE=148 S. Castell Ave:geo:-98.1250235,29.7012853
END:VEVENT
BEGIN:VEVENT
DTSTART;TZID=America/Chicago:20250830T183000
DTEND;TZID=America/Chicago:20250830T213000
DTSTAMP:20260425T053047
CREATED:20250812T162931Z
LAST-MODIFIED:20250812T162931Z
UID:7435-1756578600-1756589400@downtownnewbraunfels.com
SUMMARY:MC & The Mystyx
DESCRIPTION:A band of Texans\, influenced by the sounds of south Texas\, MC & the Mystyx can play it all – from Blues to Rock and Americana\, and have their own spin on Texas music from the region. The band introduces you to a unique presentation of songs. Their artistic musical interpretations and arrangements captivate and connect audiences to the fire and soul of each song.
URL:https://downtownnewbraunfels.com/event/mc-the-mystyx/
LOCATION:Krause’s Cafe\, 148 S. Castell Ave\, New Braunfels\, TX\, 78130
CATEGORIES:Live Music
ATTACH;FMTTYPE=image/jpeg:https://downtownnewbraunfels.com/wp-content/uploads/2025/07/1-Mandatory-Merle-1.jpg
GEO:29.7012853;-98.1250235
X-APPLE-STRUCTURED-LOCATION;VALUE=URI;X-ADDRESS=Krause’s Cafe 148 S. Castell Ave New Braunfels TX 78130;X-APPLE-RADIUS=500;X-TITLE=148 S. Castell Ave:geo:-98.1250235,29.7012853
END:VEVENT
END:VCALENDAR