BEGIN:VCALENDAR
VERSION:2.0
PRODID:-//New Braunfels Downtown - ECPv6.15.18//NONSGML v1.0//EN
CALSCALE:GREGORIAN
METHOD:PUBLISH
X-ORIGINAL-URL:https://downtownnewbraunfels.com
X-WR-CALDESC:Events for New Braunfels Downtown
REFRESH-INTERVAL;VALUE=DURATION:PT1H
X-Robots-Tag:noindex
X-PUBLISHED-TTL:PT1H
BEGIN:VTIMEZONE
TZID:America/Chicago
BEGIN:DAYLIGHT
TZOFFSETFROM:-0600
TZOFFSETTO:-0500
TZNAME:CDT
DTSTART:20240310T080000
END:DAYLIGHT
BEGIN:STANDARD
TZOFFSETFROM:-0500
TZOFFSETTO:-0600
TZNAME:CST
DTSTART:20241103T070000
END:STANDARD
BEGIN:DAYLIGHT
TZOFFSETFROM:-0600
TZOFFSETTO:-0500
TZNAME:CDT
DTSTART:20250309T080000
END:DAYLIGHT
BEGIN:STANDARD
TZOFFSETFROM:-0500
TZOFFSETTO:-0600
TZNAME:CST
DTSTART:20251102T070000
END:STANDARD
BEGIN:DAYLIGHT
TZOFFSETFROM:-0600
TZOFFSETTO:-0500
TZNAME:CDT
DTSTART:20260308T080000
END:DAYLIGHT
BEGIN:STANDARD
TZOFFSETFROM:-0500
TZOFFSETTO:-0600
TZNAME:CST
DTSTART:20261101T070000
END:STANDARD
END:VTIMEZONE
BEGIN:VEVENT
DTSTART;TZID=America/Chicago:20250831T150000
DTEND;TZID=America/Chicago:20250831T180000
DTSTAMP:20260423T013831
CREATED:20250812T163022Z
LAST-MODIFIED:20250812T163022Z
UID:7426-1756652400-1756663200@downtownnewbraunfels.com
SUMMARY:The Public Servants
DESCRIPTION:The Boys of TPS are a true tribute to all folks in public service. They started playing as a live acoustic band locally in early 2023\, as an outlet to relieving stress from the day to day grind. Now\, brothers-in-law and best of friends\, these dudes bring back the nostalgic tunes of Steve Miller & Tom Petty\, to Foo Fighters & Sublime.
URL:https://downtownnewbraunfels.com/event/the-public-servants/
LOCATION:Krause’s Cafe\, 148 S. Castell Ave\, New Braunfels\, TX\, 78130
CATEGORIES:Live Music
ATTACH;FMTTYPE=image/jpeg:https://downtownnewbraunfels.com/wp-content/uploads/2025/07/public-servants.jpg
GEO:29.7012853;-98.1250235
X-APPLE-STRUCTURED-LOCATION;VALUE=URI;X-ADDRESS=Krause’s Cafe 148 S. Castell Ave New Braunfels TX 78130;X-APPLE-RADIUS=500;X-TITLE=148 S. Castell Ave:geo:-98.1250235,29.7012853
END:VEVENT
BEGIN:VEVENT
DTSTART;TZID=America/Chicago:20250901T140000
DTEND;TZID=America/Chicago:20250901T170000
DTSTAMP:20260423T013831
CREATED:20250812T163119Z
LAST-MODIFIED:20250812T163119Z
UID:7428-1756735200-1756746000@downtownnewbraunfels.com
SUMMARY:Uncle Brent & The NoStone Duo
DESCRIPTION:Uncle Brent & the NoStone\, a Texan band fueled by their love for songwriting\, offering listeners a much-needed escape from life’s trials. The band provides a refuge where audiences can momentarily have a few drinks and share a few laughs. From their modest origins to their ongoing odyssey in the Texas music scene\, Uncle Brent & the NoStone embodies authenticity and connection\, extending an open invitation for all to embrace the joy and refuge that music offers.
URL:https://downtownnewbraunfels.com/event/uncle-brent-the-nostone-duo/
LOCATION:Krause’s Cafe\, 148 S. Castell Ave\, New Braunfels\, TX\, 78130
CATEGORIES:Live Music
ATTACH;FMTTYPE=image/jpeg:https://downtownnewbraunfels.com/wp-content/uploads/2025/07/1-Uncle-Brent.jpg
GEO:29.7012853;-98.1250235
X-APPLE-STRUCTURED-LOCATION;VALUE=URI;X-ADDRESS=Krause’s Cafe 148 S. Castell Ave New Braunfels TX 78130;X-APPLE-RADIUS=500;X-TITLE=148 S. Castell Ave:geo:-98.1250235,29.7012853
END:VEVENT
BEGIN:VEVENT
DTSTART;TZID=America/Chicago:20250901T180000
DTEND;TZID=America/Chicago:20250901T210000
DTSTAMP:20260423T013831
CREATED:20250812T161341Z
LAST-MODIFIED:20250812T161341Z
UID:7450-1756749600-1756760400@downtownnewbraunfels.com
SUMMARY:Karaoke Night at Krause's
DESCRIPTION:Join us for family-friendly Karaoke Night in the Biergarten\, hosted by Heart of Texas Karaoke. All ages are welcome to take the stage and sing their favorite songs in a fun\, relaxed atmosphere. Enjoy great food\, cold drinks\, and a lively evening with friends and family. Karaoke kicks off at 6pm! Whether you’re a seasoned performer or just in it for the laughs\, come out and make some music with us.
URL:https://downtownnewbraunfels.com/event/karaoke-night-at-krauses-2/
LOCATION:Krause’s Cafe\, 148 S. Castell Ave\, New Braunfels\, TX\, 78130
CATEGORIES:Family Friendly
ATTACH;FMTTYPE=image/jpeg:https://downtownnewbraunfels.com/wp-content/uploads/2025/08/1-karoke.jpg
GEO:29.7012853;-98.1250235
X-APPLE-STRUCTURED-LOCATION;VALUE=URI;X-ADDRESS=Krause’s Cafe 148 S. Castell Ave New Braunfels TX 78130;X-APPLE-RADIUS=500;X-TITLE=148 S. Castell Ave:geo:-98.1250235,29.7012853
END:VEVENT
BEGIN:VEVENT
DTSTART;TZID=America/Chicago:20250903T180000
DTEND;TZID=America/Chicago:20250903T210000
DTSTAMP:20260423T013831
CREATED:20250812T163253Z
LAST-MODIFIED:20250812T163253Z
UID:7441-1756922400-1756933200@downtownnewbraunfels.com
SUMMARY:Off The Grid
DESCRIPTION:A fun band playing a wide variety of music styles including country\, classic rock\, cajun\, zydeco\, German polkas and waltzes.
URL:https://downtownnewbraunfels.com/event/off-the-grid-11/
LOCATION:Krause’s Cafe\, 148 S. Castell Ave\, New Braunfels\, TX\, 78130
CATEGORIES:Live Music
ATTACH;FMTTYPE=image/jpeg:https://downtownnewbraunfels.com/wp-content/uploads/2025/07/1-off-the-grid-1.jpg
GEO:29.7012853;-98.1250235
X-APPLE-STRUCTURED-LOCATION;VALUE=URI;X-ADDRESS=Krause’s Cafe 148 S. Castell Ave New Braunfels TX 78130;X-APPLE-RADIUS=500;X-TITLE=148 S. Castell Ave:geo:-98.1250235,29.7012853
END:VEVENT
BEGIN:VEVENT
DTSTART;TZID=America/Chicago:20250905T170000
DTEND;TZID=America/Chicago:20250905T200000
DTSTAMP:20260423T013831
CREATED:20250108T161116Z
LAST-MODIFIED:20250108T161116Z
UID:6230-1757091600-1757102400@downtownnewbraunfels.com
SUMMARY:First Friday
DESCRIPTION:Join us for First Friday in Downtown New Braunfels! Enjoy late-night shopping\, free beverage samples and fantastic prizes and giveaways! \nJoin us at the three official Downtown prize stops\, where you can sample adult beverages\, get your prize card stamped\, and be entered in our drawing for a First Friday Downtown Prize Package.
URL:https://downtownnewbraunfels.com/event/first-friday-3/2025-09-05/
LOCATION:Downtown New Braunfels\, 470 Main Plaza\, New Braunfels\, TX\, 78130\, United States
CATEGORIES:Community,Featured,Festival
ATTACH;FMTTYPE=image/jpeg:https://downtownnewbraunfels.com/wp-content/uploads/2025/01/FF_Logo_2023.jpg
GEO:29.7028203;-98.1250624
X-APPLE-STRUCTURED-LOCATION;VALUE=URI;X-ADDRESS=Downtown New Braunfels 470 Main Plaza New Braunfels TX 78130 United States;X-APPLE-RADIUS=500;X-TITLE=470 Main Plaza:geo:-98.1250624,29.7028203
END:VEVENT
BEGIN:VEVENT
DTSTART;TZID=America/Chicago:20250905T180000
DTEND;TZID=America/Chicago:20250905T210000
DTSTAMP:20260423T013831
CREATED:20241228T164824Z
LAST-MODIFIED:20241228T164824Z
UID:6173-1757095200-1757106000@downtownnewbraunfels.com
SUMMARY:Art Haus
DESCRIPTION:The Greater New Braunfels Arts Council welcomes you to Art Haus\, a vibrant new monthly event celebrating local creativity and craftsmanship. Every First Friday of the month\, from 6-9 PM\, join us in the heart of downtown New Braunfels\, just off the Plaza at the NBU Courtyard\, for an unforgettable evening of art\, music\, and community. \nArt Haus will feature a curated selection of local vendors\, each showcasing their unique\, one-of-a-kind creations—from fine art to handmade jewelry\, pottery\, textiles\, and more. Whether you’re a seasoned art enthusiast or just looking for something special\, you’ll find something to admire and take home. \nOur first Art Haus of 2025 kicks off on Friday\, January 3rd. \nIt’s a perfect opportunity to enjoy the holiday spirit\, discover local talent\, and explore the downtown area in a fresh\, exciting way. \nMark your calendars—Art Haus will be a monthly celebration of local artistry that you won’t want to miss. We can’t wait to welcome you every First Friday of the month! \nArt Haus is free and open to the public.
URL:https://downtownnewbraunfels.com/event/art-haus/2025-09-05/
LOCATION:263 Main Plaza\, 263 Main Plaza\, New Braunfels\, TX\, 78130\, United States
CATEGORIES:Arts & Culture,Community,Family Friendly,Live Music
ATTACH;FMTTYPE=image/png:https://downtownnewbraunfels.com/wp-content/uploads/2024/12/scaled_768.png
GEO:29.7032958;-98.1238037
X-APPLE-STRUCTURED-LOCATION;VALUE=URI;X-ADDRESS=263 Main Plaza 263 Main Plaza New Braunfels TX 78130 United States;X-APPLE-RADIUS=500;X-TITLE=263 Main Plaza:geo:-98.1238037,29.7032958
END:VEVENT
BEGIN:VEVENT
DTSTART;TZID=America/Chicago:20250905T180000
DTEND;TZID=America/Chicago:20250905T210000
DTSTAMP:20260423T013831
CREATED:20250812T163336Z
LAST-MODIFIED:20250812T163336Z
UID:7439-1757095200-1757106000@downtownnewbraunfels.com
SUMMARY:Jesse Stratton Band
DESCRIPTION:Alternative Country & Americana. Homegrown hill country music. The Jesse Stratton Band plays Alternative Country / Americana all over the great state of Texas throughout the year\, with summertime tours to other parts of the country. The group has been named “Best Band in Hays County” and “Best Band in Wimberley” by regional publications and is a mainstay at many community events and festivals\, quickly becoming a staple in the Texas Hill Country music scene. The Jesse Stratton Band’s latest release was in October 2021\, an album titled “Family & Friends\,” which includes a number of songs that were inspired by Jesse’s children (Joshua and his three sisters). Although the two of them haven’t officially recorded in the studio together\, Jesse and Joshua are currently releasing videos from a live show they performed together this spring. Their Father & Son Show gives audiences all the heart and soul that live music longs for!
URL:https://downtownnewbraunfels.com/event/jesse-stratton-band-3/
LOCATION:Krause’s Cafe\, 148 S. Castell Ave\, New Braunfels\, TX\, 78130
CATEGORIES:Live Music
ATTACH;FMTTYPE=image/jpeg:https://downtownnewbraunfels.com/wp-content/uploads/2025/07/1-jesse-stratton-updated.jpg
GEO:29.7012853;-98.1250235
X-APPLE-STRUCTURED-LOCATION;VALUE=URI;X-ADDRESS=Krause’s Cafe 148 S. Castell Ave New Braunfels TX 78130;X-APPLE-RADIUS=500;X-TITLE=148 S. Castell Ave:geo:-98.1250235,29.7012853
END:VEVENT
BEGIN:VEVENT
DTSTART;TZID=America/Chicago:20250905T190000
DTEND;TZID=America/Chicago:20250905T220000
DTSTAMP:20260423T013831
CREATED:20250812T164828Z
LAST-MODIFIED:20250812T164828Z
UID:7389-1757098800-1757109600@downtownnewbraunfels.com
SUMMARY:SCORPIONS TRIBUTE: First Sting
DESCRIPTION:THE FIRST STING – A Night of Scorpions Rock \nDate: Friday\, September 5th \nTime: 7 PM – 10 PM \nLocation: Faust Brewing Company\, 499 S. Castell Ave.\, New Braunfels\, TX \nGet ready to rock like it’s 1984! THE FIRST STING brings the legendary sound of the Scorpions to life with electrifying precision and stage presence that’ll blow you away. \nLive Music – A high-voltage tribute packed with all the hits: “Rock You Like a Hurricane\,” “No One Like You\,” “Still Loving You\,” and more \nTickets Required – $10 online | $15 at the door \nReserve a Table – Grab your spot and settle in for a night of arena rock magic \nWear your leather\, bandanas\, and bring your headbanging spirit—this isn’t just a concert\, it’s a throwback to the golden era of hard rock. \nLet’s raise a glass\, crank up the amps\, and scream together—because the wind of change is blowing through New Braunfels! \n#FirstStingTribute #ScorpionsNight #FaustBrewingCompany #LiveMusicNB #RockYouLikeAHurricane #NewBraunfelsEvents #sipSavorSocialize
URL:https://downtownnewbraunfels.com/event/scorpions-tribute-first-sting/
LOCATION:Faust Brewing Company\, 499 S Castell Ave\, New Braunfels\, TX\, 78130\, United States
CATEGORIES:Family Friendly,Festival,Live Music,Nightlife
ATTACH;FMTTYPE=image/jpeg:https://downtownnewbraunfels.com/wp-content/uploads/2025/07/1c446215-359f-4963-b545-c44337df8c06.jpeg
GEO:29.6986971;-98.1203304
X-APPLE-STRUCTURED-LOCATION;VALUE=URI;X-ADDRESS=Faust Brewing Company 499 S Castell Ave New Braunfels TX 78130 United States;X-APPLE-RADIUS=500;X-TITLE=499 S Castell Ave:geo:-98.1203304,29.6986971
END:VEVENT
BEGIN:VEVENT
DTSTART;TZID=America/Chicago:20250906T100000
DTEND;TZID=America/Chicago:20250906T150000
DTSTAMP:20260423T013831
CREATED:20250904T013040Z
LAST-MODIFIED:20250904T013040Z
UID:7696-1757152800-1757170800@downtownnewbraunfels.com
SUMMARY:Fiesta Patria: La Calera
DESCRIPTION:Sophienburg Museum & Archives Presents Fiesta Patria \nPlease Join Us! \nIn Celebrating the Hispanic Heritage of Comal County \n  \n“La Calera” \nEl Pueblo Que Era • The Town That Was \n  \nSaturday\, September 6\, 2025\, 10AM – 3PM \n  \nSophienburg Museum \n401 W. Coll St. \nNew Braunfels\, TX 78130 \n  \nFood • Activities • Entertainment \n  \nFree Museum Admission
URL:https://downtownnewbraunfels.com/event/fiesta-patria-la-calera/
LOCATION:Sophienburg Museum & Archives\, 401 W Coll St\, New Braunfels\, TX\, 78130\, United States
CATEGORIES:Arts & Culture,Community,Family Friendly,Live Music
ATTACH;FMTTYPE=image/jpeg:https://downtownnewbraunfels.com/wp-content/uploads/2025/09/1000012494-1-scaled.jpg
ORGANIZER;CN="Sophienburg Museum & Archives":MAILTO:401 W Coll St
GEO:29.6978209;-98.1241527
X-APPLE-STRUCTURED-LOCATION;VALUE=URI;X-ADDRESS=Sophienburg Museum & Archives 401 W Coll St New Braunfels TX 78130 United States;X-APPLE-RADIUS=500;X-TITLE=401 W Coll St:geo:-98.1241527,29.6978209
END:VEVENT
BEGIN:VEVENT
DTSTART;TZID=America/Chicago:20250906T100000
DTEND;TZID=America/Chicago:20250906T150000
DTSTAMP:20260423T013831
CREATED:20250904T013143Z
LAST-MODIFIED:20250904T013143Z
UID:7694-1757152800-1757170800@downtownnewbraunfels.com
SUMMARY:Fiesta Patria: La Calera
DESCRIPTION:Sophienburg Museum & Archives Presents Fiesta Patria \nPlease Join Us! \nIn Celebrating the Hispanic Heritage of Comal County \n  \n“La Calera” \nEl Pueblo Que Era • The Town That Was \n  \nSaturday\, September 6\, 2025\, 10AM – 3PM \n  \nSophienburg Museum \n401 W. Coll St. \nNew Braunfels\, TX 78130 \n  \nFood • Activities • Entertainment \n  \nFree Museum Admission
URL:https://downtownnewbraunfels.com/event/fiesta-patria-la-calera-2/
LOCATION:Sophienburg Museum & Archives\, 401 W Coll St\, New Braunfels\, TX\, 78130\, United States
CATEGORIES:Arts & Culture,Community,Family Friendly,Live Music
ATTACH;FMTTYPE=image/jpeg:https://downtownnewbraunfels.com/wp-content/uploads/2025/09/1000012494-scaled.jpg
ORGANIZER;CN="Sophienburg Museum & Archives":MAILTO:401 W Coll St
GEO:29.6978209;-98.1241527
X-APPLE-STRUCTURED-LOCATION;VALUE=URI;X-ADDRESS=Sophienburg Museum & Archives 401 W Coll St New Braunfels TX 78130 United States;X-APPLE-RADIUS=500;X-TITLE=401 W Coll St:geo:-98.1241527,29.6978209
END:VEVENT
BEGIN:VEVENT
DTSTART;TZID=America/Chicago:20250906T110000
DTEND;TZID=America/Chicago:20250906T140000
DTSTAMP:20260423T013831
CREATED:20250826T001818Z
LAST-MODIFIED:20250826T235057Z
UID:7570-1757156400-1757167200@downtownnewbraunfels.com
SUMMARY:Saturday Live Music Line-Up at Faust Brewing Co.
DESCRIPTION:Every Saturday\, we bring you a double feature of incredible live music from local artists! Kick back in our biergarten\, sip on your favorite Faust brew\, and enjoy two sets of live performances—one in the afternoon and one in the evening. Each week brings a fresh lineup of talented musicians playing originals and covers across a variety of styles. \n📅 September Lineup \nSaturday\, September 6 \n\n\n11 AM – 2 PM: Marion Carillo- Solo Americana \n\n\n7 PM – 10 PM: Rio Tripiano – Covers & Originals \n\n\nSaturday\, September 20 \n\n\n11 AM – 2 PM: True Labowski – Blues & Jazz\, Covers & Originals \n\n\n7 PM – 10 PM: Bob Bass Band – Blues Rock Covers \n\n\nSaturday\, September 27 \n\n\n11 AM – 2 PM: Colton’s Kin – Popular Covers \n\n\n7 PM – 10 PM: Ace Pepper Group – Blues Rock & Hippie Covers \n\n\n✨ Always free\, always live\, and always local. \nCome early\, grab a table\, and enjoy a full day of great music\, food\, and brews at Faust Brewing Company. Prost! 🍻 \n#FaustBrewingCompany #LiveLocalMusic #FaustBrewCrew #SipSavorSocialize #DowntownNB #NewBraunfelsEvents
URL:https://downtownnewbraunfels.com/event/saturday-live-music-line-up-at-faust-brewing-co/
LOCATION:Faust Brewing Company\, 499 S Castell Ave\, New Braunfels\, TX\, 78130\, United States
CATEGORIES:Family Friendly,Festival,Live Music,Nightlife
ATTACH;FMTTYPE=image/jpeg:https://downtownnewbraunfels.com/wp-content/uploads/2025/08/UPCOMING-LIVE-MUSIC-SAT-SEPT.jpg.jpeg
GEO:29.6986971;-98.1203304
X-APPLE-STRUCTURED-LOCATION;VALUE=URI;X-ADDRESS=Faust Brewing Company 499 S Castell Ave New Braunfels TX 78130 United States;X-APPLE-RADIUS=500;X-TITLE=499 S Castell Ave:geo:-98.1203304,29.6986971
END:VEVENT
BEGIN:VEVENT
DTSTART;TZID=America/Chicago:20250906T113000
DTEND;TZID=America/Chicago:20250906T143000
DTSTAMP:20260423T013831
CREATED:20250812T163429Z
LAST-MODIFIED:20250812T163429Z
UID:7437-1757158200-1757169000@downtownnewbraunfels.com
SUMMARY:Bucksnort Boogie Boys
DESCRIPTION:Bucksnort Boogie Boys is an Americana Roots string band comprised of a hillbilly\, a big city refugee\, a lovebird wrangler\, and a metal artist. The “Boys” all share a love of great music\, whether they write the song or someone else did. The audience can expect to hear a mix of tunes from the band’s extensive catalog of original music\, along with some surprising selections from other artists that are sure to bring a smile!
URL:https://downtownnewbraunfels.com/event/bucksnort-boogie-boys-12/
LOCATION:Krause’s Cafe\, 148 S. Castell Ave\, New Braunfels\, TX\, 78130
CATEGORIES:Live Music
ATTACH;FMTTYPE=image/jpeg:https://downtownnewbraunfels.com/wp-content/uploads/2025/07/1-Bucksnort-Boogie-Boys.jpg
GEO:29.7012853;-98.1250235
X-APPLE-STRUCTURED-LOCATION;VALUE=URI;X-ADDRESS=Krause’s Cafe 148 S. Castell Ave New Braunfels TX 78130;X-APPLE-RADIUS=500;X-TITLE=148 S. Castell Ave:geo:-98.1250235,29.7012853
END:VEVENT
BEGIN:VEVENT
DTSTART;TZID=America/Chicago:20250906T180000
DTEND;TZID=America/Chicago:20250906T210000
DTSTAMP:20260423T013831
CREATED:20250825T154832Z
LAST-MODIFIED:20250825T154832Z
UID:7564-1757181600-1757192400@downtownnewbraunfels.com
SUMMARY:Jay Eric
DESCRIPTION:Jay Eric is the lead vocalist for the popular San Antonio area band Rumor Town. Jay’s bandmates include his brother Matt Pfannstiel on guitar\, his high school bandmate Bruce Schwartz on bass\, drummer John Thiem\, and\, when the opportunity presents itself\, George Strait’s steel guitarist Mike Daily.
URL:https://downtownnewbraunfels.com/event/jay-eric/
LOCATION:Krause’s Cafe\, 148 S. Castell Ave\, New Braunfels\, TX\, 78130
CATEGORIES:Live Music
ATTACH;FMTTYPE=image/jpeg:https://downtownnewbraunfels.com/wp-content/uploads/2025/08/jay-eric.jpg
GEO:29.7012853;-98.1250235
X-APPLE-STRUCTURED-LOCATION;VALUE=URI;X-ADDRESS=Krause’s Cafe 148 S. Castell Ave New Braunfels TX 78130;X-APPLE-RADIUS=500;X-TITLE=148 S. Castell Ave:geo:-98.1250235,29.7012853
END:VEVENT
END:VCALENDAR