BEGIN:VCALENDAR
VERSION:2.0
PRODID:-//New Braunfels Downtown - ECPv6.15.18//NONSGML v1.0//EN
CALSCALE:GREGORIAN
METHOD:PUBLISH
X-WR-CALNAME:New Braunfels Downtown
X-ORIGINAL-URL:https://downtownnewbraunfels.com
X-WR-CALDESC:Events for New Braunfels Downtown
REFRESH-INTERVAL;VALUE=DURATION:PT1H
X-Robots-Tag:noindex
X-PUBLISHED-TTL:PT1H
BEGIN:VTIMEZONE
TZID:America/Chicago
BEGIN:DAYLIGHT
TZOFFSETFROM:-0600
TZOFFSETTO:-0500
TZNAME:CDT
DTSTART:20240310T080000
END:DAYLIGHT
BEGIN:STANDARD
TZOFFSETFROM:-0500
TZOFFSETTO:-0600
TZNAME:CST
DTSTART:20241103T070000
END:STANDARD
BEGIN:DAYLIGHT
TZOFFSETFROM:-0600
TZOFFSETTO:-0500
TZNAME:CDT
DTSTART:20250309T080000
END:DAYLIGHT
BEGIN:STANDARD
TZOFFSETFROM:-0500
TZOFFSETTO:-0600
TZNAME:CST
DTSTART:20251102T070000
END:STANDARD
BEGIN:DAYLIGHT
TZOFFSETFROM:-0600
TZOFFSETTO:-0500
TZNAME:CDT
DTSTART:20260308T080000
END:DAYLIGHT
BEGIN:STANDARD
TZOFFSETFROM:-0500
TZOFFSETTO:-0600
TZNAME:CST
DTSTART:20261101T070000
END:STANDARD
END:VTIMEZONE
BEGIN:VEVENT
DTSTART;TZID=America/Chicago:20250928T110000
DTEND;TZID=America/Chicago:20250928T140000
DTSTAMP:20260422T052828
CREATED:20250901T171003Z
LAST-MODIFIED:20250901T171003Z
UID:7672-1759057200-1759068000@downtownnewbraunfels.com
SUMMARY:Ryan Waguespack
DESCRIPTION:Ryan Waguespack is a very proficient professional fingerstyle acoustic guitarist (and multi-instrumentalist) that has enjoyed a successful music career. Ryan’s versatility is quickly evident through his unique repertoire that showcases his influences and mastery of many styles of music; including: classical\, rock\, spanish guitar\, country\, jazz\, and popular music known by everybody. Ryan has performed publicly in all of the aforementioned genres\, and created a very deep catalog of music that you will not find anywhere else. Ryan can effortlessly switch from Bach to the Beatles\, Stevie Wonder to Metallica\, Billy Joel to Kool & the Gang\, Styx to Garth Brooks\, Clapton to Elvis\, and bust out a Bob Marley song that you wouldn’t think could be performed by a guitar soloist. Additionally\, Ryan has enjoyed success as a composer\, teacher\, producer\, and recorded several original albums. Ryan has played his own material in many jazz festivals\, and shared the bill with some of the biggest names in the guitar and jazz world.
URL:https://downtownnewbraunfels.com/event/ryan-waguespack-5/
LOCATION:Krause’s Cafe\, 148 S. Castell Ave\, New Braunfels\, TX\, 78130
CATEGORIES:Live Music
ATTACH;FMTTYPE=image/jpeg:https://downtownnewbraunfels.com/wp-content/uploads/2025/09/1-Ryan-W.jpg
GEO:29.7012853;-98.1250235
X-APPLE-STRUCTURED-LOCATION;VALUE=URI;X-ADDRESS=Krause’s Cafe 148 S. Castell Ave New Braunfels TX 78130;X-APPLE-RADIUS=500;X-TITLE=148 S. Castell Ave:geo:-98.1250235,29.7012853
END:VEVENT
BEGIN:VEVENT
DTSTART;TZID=America/Chicago:20250928T150000
DTEND;TZID=America/Chicago:20250928T180000
DTSTAMP:20260422T052828
CREATED:20250819T151500Z
LAST-MODIFIED:20250819T151500Z
UID:7550-1759071600-1759082400@downtownnewbraunfels.com
SUMMARY:Uncle Brent & The NoStone Duo
DESCRIPTION:Uncle Brent & the NoStone\, a Texan band fueled by their love for songwriting\, offering listeners a much-needed escape from life’s trials. The band provides a refuge where audiences can momentarily have a few drinks and share a few laughs. From their modest origins to their ongoing odyssey in the Texas music scene\, Uncle Brent & the NoStone embodies authenticity and connection\, extending an open invitation for all to embrace the joy and refuge that music offers.
URL:https://downtownnewbraunfels.com/event/uncle-brent-the-nostone-duo-2/
LOCATION:Krause’s Cafe\, 148 S. Castell Ave\, New Braunfels\, TX\, 78130
CATEGORIES:Live Music
ATTACH;FMTTYPE=image/jpeg:https://downtownnewbraunfels.com/wp-content/uploads/2025/08/1-Uncle-Brent.jpg
GEO:29.7012853;-98.1250235
X-APPLE-STRUCTURED-LOCATION;VALUE=URI;X-ADDRESS=Krause’s Cafe 148 S. Castell Ave New Braunfels TX 78130;X-APPLE-RADIUS=500;X-TITLE=148 S. Castell Ave:geo:-98.1250235,29.7012853
END:VEVENT
BEGIN:VEVENT
DTSTART;TZID=America/Chicago:20251001T180000
DTEND;TZID=America/Chicago:20251001T210000
DTSTAMP:20260422T052828
CREATED:20250901T171020Z
LAST-MODIFIED:20250901T171020Z
UID:7674-1759341600-1759352400@downtownnewbraunfels.com
SUMMARY:Off The Grid
DESCRIPTION:A fun band playing a wide variety of music styles including country\, classic rock\, cajun\, zydeco\, German polkas and waltzes.
URL:https://downtownnewbraunfels.com/event/off-the-grid-12/
LOCATION:Krause’s Cafe\, 148 S. Castell Ave\, New Braunfels\, TX\, 78130
CATEGORIES:Live Music
ATTACH;FMTTYPE=image/jpeg:https://downtownnewbraunfels.com/wp-content/uploads/2025/09/1-off-the-grid.jpg
GEO:29.7012853;-98.1250235
X-APPLE-STRUCTURED-LOCATION;VALUE=URI;X-ADDRESS=Krause’s Cafe 148 S. Castell Ave New Braunfels TX 78130;X-APPLE-RADIUS=500;X-TITLE=148 S. Castell Ave:geo:-98.1250235,29.7012853
END:VEVENT
BEGIN:VEVENT
DTSTART;TZID=America/Chicago:20251002T190000
DTEND;TZID=America/Chicago:20251002T190000
DTSTAMP:20260422T052828
CREATED:20250929T201927Z
LAST-MODIFIED:20250929T203636Z
UID:7836-1759431600-1759431600@downtownnewbraunfels.com
SUMMARY:New Braunfels Style Show: Fashion-Jewelry-Art
DESCRIPTION:The New Braunfels Style Show presents an exclusive four-day art and design show in the heart of downtown New Braunfels. Held in the historic 1850’s German limestone and wood Lark Mason Gallery\, the event showcases Hill Country Exhibitors and compelling Speakers. In addition to visiting us during the day\, Friday\, Saturday\, Sunday\, we hope you will join us for the opening wine reception on Thursday at 7PM and on Friday when we are an official stop for the New Braunfels Wein & Bier Stroll. \nEvent Schedule  \nThursday\, October 2nd | 7:00–8:30 PM  \nOpening Night Wine Reception with Karen Akkerman\, Cellist‍ \nFriday\, October 3rd | 10 AM – 8 PM  \n●12:00-1:00 Brenda Coffee presents her biographical book Maya Blue: A Memoir of Survival (register for VIP seat and box lunch) \n● 3:00-3:30 Melissa Wilson: The Sophienburg Today and Tomorrow: a Vision for New Braunfels  \n● 4:00-4:30 Chef Kelyn Egbuka: She Leads: Female Creative Entrepreneurs in New Braunfels  \n● 5:00-8:00 New Braunfels Wein & Bier Stroll official stop \nSaturday\, October 4th | 10 AM – 8 PM  \n● 11:00-12:30 The Tea Charmer’s High Tea\, Jayna Owens\, owner \n(limited seating\, click here to purchase ticket)  \n● 1:00-1:45 Swanee Browning of The Hills Wedding Guide: Where to Start when Planning Your Event  \n● 2:30-3:00 John Wickham\, The Prince Solms Inn: Creating a Serene Escape in New Braunfels  \n● 3:30-4:00 Stacey Dicke: The New Braunfels Youth Collaborative  \n● 4:30-5:00 Cowboys and Cadillacs: Creating The Perfect Mocktail  \n● 5:15-5:45 April Ryan\, 2Tarts: New Braunfels\, An Entrepreneurial City: The Story of 2Tarts  \n● 6:00-6:30 Jacob Huereca\, Connections: Strengthening Communities\, One Youth and One Family at a Time  \n● 5:00-8:00 Cowboys and Cadillacs – Cash Bar  \n‍AND  \n● 5:00 – 8:00 Karen Akkerman\, Cellist \n‍Sunday\, October 5th | Noon–5:00 PM  \n● 12:15–12:45 Brandon Deitert\, Blumenmeisters: Flowers for a Beautiful Arrangement  \n● 1:00–1:45 Steven Ratliff: Fashioned in Flavor: A Wine Tasting Experience  \n● 2:30–3:00 Nataliya Borener\, Drift Home & Interiors: An Artisanal Eye: Designing Interiors for New Braunfels  \n● 3:15–4:00 Cameron Corzine\, Cowboys & Cadillacs: Building Your Personal Brand  \n● 4:00–4:45 Lark Mason\, Preserving New Braunfels: New Braunfels: A Cultural Experience\, A Vision for Our Future  \n‍ \nWe hope you will join us each day!
URL:https://downtownnewbraunfels.com/event/new-braunfels-style-show-fashion-jewelry-art/2025-10-02/
LOCATION:Meadowlark Garden and Gallery\, 210 W Mill Street\, New Braunfels\, TX\, 78130\, United States
ATTACH;FMTTYPE=image/jpeg:https://downtownnewbraunfels.com/wp-content/uploads/2025/09/NB-Style-Show_Final.jpg
GEO:29.7026691;-98.1270075
X-APPLE-STRUCTURED-LOCATION;VALUE=URI;X-ADDRESS=Meadowlark Garden and Gallery 210 W Mill Street New Braunfels TX 78130 United States;X-APPLE-RADIUS=500;X-TITLE=210 W Mill Street:geo:-98.1270075,29.7026691
END:VEVENT
BEGIN:VEVENT
DTSTART;TZID=America/Chicago:20251003T100000
DTEND;TZID=America/Chicago:20251003T200000
DTSTAMP:20260422T052828
CREATED:20250929T201927Z
LAST-MODIFIED:20250929T203637Z
UID:7839-1759485600-1759521600@downtownnewbraunfels.com
SUMMARY:New Braunfels Style Show: Fashion-Jewelry-Art
DESCRIPTION:The New Braunfels Style Show presents an exclusive four-day art and design show in the heart of downtown New Braunfels. Held in the historic 1850’s German limestone and wood Lark Mason Gallery\, the event showcases Hill Country Exhibitors and compelling Speakers. In addition to visiting us during the day\, Friday\, Saturday\, Sunday\, we hope you will join us for the opening wine reception on Thursday at 7PM and on Friday when we are an official stop for the New Braunfels Wein & Bier Stroll. \nEvent Schedule  \nThursday\, October 2nd | 7:00–8:30 PM  \nOpening Night Wine Reception with Karen Akkerman\, Cellist‍ \nFriday\, October 3rd | 10 AM – 8 PM  \n●12:00-1:00 Brenda Coffee presents her biographical book Maya Blue: A Memoir of Survival (register for VIP seat and box lunch) \n● 3:00-3:30 Melissa Wilson: The Sophienburg Today and Tomorrow: a Vision for New Braunfels  \n● 4:00-4:30 Chef Kelyn Egbuka: She Leads: Female Creative Entrepreneurs in New Braunfels  \n● 5:00-8:00 New Braunfels Wein & Bier Stroll official stop \nSaturday\, October 4th | 10 AM – 8 PM  \n● 11:00-12:30 The Tea Charmer’s High Tea\, Jayna Owens\, owner \n(limited seating\, click here to purchase ticket)  \n● 1:00-1:45 Swanee Browning of The Hills Wedding Guide: Where to Start when Planning Your Event  \n● 2:30-3:00 John Wickham\, The Prince Solms Inn: Creating a Serene Escape in New Braunfels  \n● 3:30-4:00 Stacey Dicke: The New Braunfels Youth Collaborative  \n● 4:30-5:00 Cowboys and Cadillacs: Creating The Perfect Mocktail  \n● 5:15-5:45 April Ryan\, 2Tarts: New Braunfels\, An Entrepreneurial City: The Story of 2Tarts  \n● 6:00-6:30 Jacob Huereca\, Connections: Strengthening Communities\, One Youth and One Family at a Time  \n● 5:00-8:00 Cowboys and Cadillacs – Cash Bar  \n‍AND  \n● 5:00 – 8:00 Karen Akkerman\, Cellist \n‍Sunday\, October 5th | Noon–5:00 PM  \n● 12:15–12:45 Brandon Deitert\, Blumenmeisters: Flowers for a Beautiful Arrangement  \n● 1:00–1:45 Steven Ratliff: Fashioned in Flavor: A Wine Tasting Experience  \n● 2:30–3:00 Nataliya Borener\, Drift Home & Interiors: An Artisanal Eye: Designing Interiors for New Braunfels  \n● 3:15–4:00 Cameron Corzine\, Cowboys & Cadillacs: Building Your Personal Brand  \n● 4:00–4:45 Lark Mason\, Preserving New Braunfels: New Braunfels: A Cultural Experience\, A Vision for Our Future  \n‍ \nWe hope you will join us each day!
URL:https://downtownnewbraunfels.com/event/new-braunfels-style-show-fashion-jewelry-art/2025-10-03/
LOCATION:Meadowlark Garden and Gallery\, 210 W Mill Street\, New Braunfels\, TX\, 78130\, United States
ATTACH;FMTTYPE=image/jpeg:https://downtownnewbraunfels.com/wp-content/uploads/2025/09/NB-Style-Show_Final.jpg
GEO:29.7026691;-98.1270075
X-APPLE-STRUCTURED-LOCATION;VALUE=URI;X-ADDRESS=Meadowlark Garden and Gallery 210 W Mill Street New Braunfels TX 78130 United States;X-APPLE-RADIUS=500;X-TITLE=210 W Mill Street:geo:-98.1270075,29.7026691
END:VEVENT
BEGIN:VEVENT
DTSTART;TZID=America/Chicago:20251003T170000
DTEND;TZID=America/Chicago:20251003T200000
DTSTAMP:20260422T052828
CREATED:20250108T161116Z
LAST-MODIFIED:20250108T161116Z
UID:6231-1759510800-1759521600@downtownnewbraunfels.com
SUMMARY:First Friday
DESCRIPTION:Join us for First Friday in Downtown New Braunfels! Enjoy late-night shopping\, free beverage samples and fantastic prizes and giveaways! \nJoin us at the three official Downtown prize stops\, where you can sample adult beverages\, get your prize card stamped\, and be entered in our drawing for a First Friday Downtown Prize Package.
URL:https://downtownnewbraunfels.com/event/first-friday-3/2025-10-03/
LOCATION:Downtown New Braunfels\, 470 Main Plaza\, New Braunfels\, TX\, 78130\, United States
CATEGORIES:Community,Featured,Festival
ATTACH;FMTTYPE=image/jpeg:https://downtownnewbraunfels.com/wp-content/uploads/2025/01/FF_Logo_2023.jpg
GEO:29.7028203;-98.1250624
X-APPLE-STRUCTURED-LOCATION;VALUE=URI;X-ADDRESS=Downtown New Braunfels 470 Main Plaza New Braunfels TX 78130 United States;X-APPLE-RADIUS=500;X-TITLE=470 Main Plaza:geo:-98.1250624,29.7028203
END:VEVENT
BEGIN:VEVENT
DTSTART;TZID=America/Chicago:20251003T170000
DTEND;TZID=America/Chicago:20251003T200000
DTSTAMP:20260422T052828
CREATED:20250901T184216Z
LAST-MODIFIED:20250929T202742Z
UID:7682-1759510800-1759521600@downtownnewbraunfels.com
SUMMARY:2025 Wine & Bier Stroll
DESCRIPTION:The 2025 Wine & Bier Stroll will be Friday\, October 3\, from 5:00 – 8:00 pm\, as part of First Friday. This year you’ll have the opportunity to sample both beer and wine at several Downtown locations and have your Passport stamped to be entered for prizes. PLEASE NOTE:  You must purchase a wine or bier glass to participate in the Stroll\, and  you can sample wine or beer with either glass. There will be no free samples given away. \nWe’ll have fabulous prizes and gift cards to give away – to enter just have your passport stamped by a minimum number of wine stops. \nThe DTA commemorative wine or bier glass is $25.00 and includes a passport that can be used to enter the drawings. \nPre-order your glasses here and pick them up at the DTA booth on Main Plaza (near Moody Bank) \n \n  \n 
URL:https://downtownnewbraunfels.com/event/2023-wine-bier-stroll-2-2/
LOCATION:Downtown New Braunfels\, 470 Main Plaza\, New Braunfels\, TX\, 78130\, United States
CATEGORIES:Featured
ATTACH;FMTTYPE=image/png:https://downtownnewbraunfels.com/wp-content/uploads/2025/09/25-22155-2025_DTA_WBS_Logo_WhiteBorder.png
GEO:29.7028203;-98.1250624
X-APPLE-STRUCTURED-LOCATION;VALUE=URI;X-ADDRESS=Downtown New Braunfels 470 Main Plaza New Braunfels TX 78130 United States;X-APPLE-RADIUS=500;X-TITLE=470 Main Plaza:geo:-98.1250624,29.7028203
END:VEVENT
BEGIN:VEVENT
DTSTART;TZID=America/Chicago:20251003T180000
DTEND;TZID=America/Chicago:20251003T210000
DTSTAMP:20260422T052828
CREATED:20241228T164824Z
LAST-MODIFIED:20241228T164824Z
UID:6174-1759514400-1759525200@downtownnewbraunfels.com
SUMMARY:Art Haus
DESCRIPTION:The Greater New Braunfels Arts Council welcomes you to Art Haus\, a vibrant new monthly event celebrating local creativity and craftsmanship. Every First Friday of the month\, from 6-9 PM\, join us in the heart of downtown New Braunfels\, just off the Plaza at the NBU Courtyard\, for an unforgettable evening of art\, music\, and community. \nArt Haus will feature a curated selection of local vendors\, each showcasing their unique\, one-of-a-kind creations—from fine art to handmade jewelry\, pottery\, textiles\, and more. Whether you’re a seasoned art enthusiast or just looking for something special\, you’ll find something to admire and take home. \nOur first Art Haus of 2025 kicks off on Friday\, January 3rd. \nIt’s a perfect opportunity to enjoy the holiday spirit\, discover local talent\, and explore the downtown area in a fresh\, exciting way. \nMark your calendars—Art Haus will be a monthly celebration of local artistry that you won’t want to miss. We can’t wait to welcome you every First Friday of the month! \nArt Haus is free and open to the public.
URL:https://downtownnewbraunfels.com/event/art-haus/2025-10-03/
LOCATION:263 Main Plaza\, 263 Main Plaza\, New Braunfels\, TX\, 78130\, United States
CATEGORIES:Arts & Culture,Community,Family Friendly,Live Music
ATTACH;FMTTYPE=image/png:https://downtownnewbraunfels.com/wp-content/uploads/2024/12/scaled_768.png
GEO:29.7032958;-98.1238037
X-APPLE-STRUCTURED-LOCATION;VALUE=URI;X-ADDRESS=263 Main Plaza 263 Main Plaza New Braunfels TX 78130 United States;X-APPLE-RADIUS=500;X-TITLE=263 Main Plaza:geo:-98.1238037,29.7032958
END:VEVENT
BEGIN:VEVENT
DTSTART;TZID=America/Chicago:20251003T193000
DTEND;TZID=America/Chicago:20251003T193000
DTSTAMP:20260422T052828
CREATED:20250206T162543Z
LAST-MODIFIED:20250206T162543Z
UID:6411-1759519800-1759519800@downtownnewbraunfels.com
SUMMARY:Murder on the Orient Express at Circle Arts Theatre
DESCRIPTION:Murder on the Orient Express\nJust after midnight\, a snowdrift stops the Orient Express in its tracks\, and the luxurious train will have one fewer passenger by the morning. An American tycoon lies dead in his compartment\, stabbed eight times\, his door locked from the inside. Isolated and with a killer in their midst\, the passengers rely on detective Hercule Poirot to identify the murderer – in case he or she decides to strike again. Ages 12+ \nOctober 3rd- CHAMPAGNE OPENING- Join us after the show for food\, drinks and a meet and greet with the cast. \nOctober 4th- BENEFIT NIGHT- All proceeds this night will go to a local nonprofit organization. Seating will be general admission. To purchase tickets for this night\, please call 830-837-6172. \nOctober 11th- PAY WHAT YOU CAN- All tickets at the door will be available on a pay-what-you-can basis. Pre-purchases will be full price and flex passes will work as usual
URL:https://downtownnewbraunfels.com/event/murder-on-the-orient-express-at-circle-arts-theatre/
LOCATION:Circle Arts Theatre\, 124 Elizabeth Street\, New Braunfels\, Texas\, 78130
ATTACH;FMTTYPE=image/jpeg:https://downtownnewbraunfels.com/wp-content/uploads/2025/02/Murder-on-the-Orient-Express-Logo-980x980-1.jpg
GEO:29.7079031;-98.1314236
X-APPLE-STRUCTURED-LOCATION;VALUE=URI;X-ADDRESS=Circle Arts Theatre 124 Elizabeth Street New Braunfels Texas 78130;X-APPLE-RADIUS=500;X-TITLE=124 Elizabeth Street:geo:-98.1314236,29.7079031
END:VEVENT
BEGIN:VEVENT
DTSTART;TZID=America/Chicago:20251003T193000
DTEND;TZID=America/Chicago:20251003T213000
DTSTAMP:20260422T052828
CREATED:20250830T171241Z
LAST-MODIFIED:20250830T171241Z
UID:7597-1759519800-1759527000@downtownnewbraunfels.com
SUMMARY:DAVID BENOIT JAZZ
DESCRIPTION:SPONSORED BY CHARLIE P MAYER \nImmerse yourself in the sophisticated sounds of David Benoit\, a renowned jazz pianist and composer known for his contemporary jazz masterpieces. With a career spanning decades\, David’s expressive performances and innovative compositions have earned him a place among jazz legends. Experience an evening of musical brilliance that will leave you mesmerized.
URL:https://downtownnewbraunfels.com/event/david-benoit-jazz/
LOCATION:The Brauntex Theatre\, 290 W San Antonio St\, New Braunfels\, 78130\, United States
CATEGORIES:Live Music
ATTACH;FMTTYPE=image/jpeg:https://downtownnewbraunfels.com/wp-content/uploads/2025/08/DAVID-BENOIT-2-scaled.jpeg
GEO:29.7013707;-98.1265595
X-APPLE-STRUCTURED-LOCATION;VALUE=URI;X-ADDRESS=The Brauntex Theatre 290 W San Antonio St New Braunfels 78130 United States;X-APPLE-RADIUS=500;X-TITLE=290 W San Antonio St:geo:-98.1265595,29.7013707
END:VEVENT
BEGIN:VEVENT
DTSTART;TZID=America/Chicago:20251004T090000
DTEND;TZID=America/Chicago:20251004T210000
DTSTAMP:20260422T052828
CREATED:20250902T183000Z
LAST-MODIFIED:20250902T183000Z
UID:7687-1759568400-1759611600@downtownnewbraunfels.com
SUMMARY:Pumpkin Patch & Market
DESCRIPTION:Our annual pumpkin patch is getting ready to open weekends in October.  Join us for a downtown NEW BRAUNFELS experience for the whole family.  We will have food\, drinks\, photographers\, & lots of swoon worthy photo setups and OF COURSE loads of farm fresh Texas pumpkins.  Open October 4th through November 2nd.  The schedule of events will change daily\, so stay updated on our Facebook and instagram pages.  Discounted tickets are available now online.
URL:https://downtownnewbraunfels.com/event/pumpkin-patch-market/
LOCATION:Float In\, 462 E. Mill St.\, New Braunfels\, TX\, 78130\, United States
CATEGORIES:Family Friendly,Festival,Live Music
ATTACH;FMTTYPE=image/png:https://downtownnewbraunfels.com/wp-content/uploads/2025/09/2.png
GEO:29.7066537;-98.1228689
X-APPLE-STRUCTURED-LOCATION;VALUE=URI;X-ADDRESS=Float In 462 E. Mill St. New Braunfels TX 78130 United States;X-APPLE-RADIUS=500;X-TITLE=462 E. Mill St.:geo:-98.1228689,29.7066537
END:VEVENT
BEGIN:VEVENT
DTSTART;TZID=America/Chicago:20251004T100000
DTEND;TZID=America/Chicago:20251004T200000
DTSTAMP:20260422T052828
CREATED:20250929T201927Z
LAST-MODIFIED:20250929T203637Z
UID:7840-1759572000-1759608000@downtownnewbraunfels.com
SUMMARY:New Braunfels Style Show: Fashion-Jewelry-Art
DESCRIPTION:The New Braunfels Style Show presents an exclusive four-day art and design show in the heart of downtown New Braunfels. Held in the historic 1850’s German limestone and wood Lark Mason Gallery\, the event showcases Hill Country Exhibitors and compelling Speakers. In addition to visiting us during the day\, Friday\, Saturday\, Sunday\, we hope you will join us for the opening wine reception on Thursday at 7PM and on Friday when we are an official stop for the New Braunfels Wein & Bier Stroll. \nEvent Schedule  \nThursday\, October 2nd | 7:00–8:30 PM  \nOpening Night Wine Reception with Karen Akkerman\, Cellist‍ \nFriday\, October 3rd | 10 AM – 8 PM  \n●12:00-1:00 Brenda Coffee presents her biographical book Maya Blue: A Memoir of Survival (register for VIP seat and box lunch) \n● 3:00-3:30 Melissa Wilson: The Sophienburg Today and Tomorrow: a Vision for New Braunfels  \n● 4:00-4:30 Chef Kelyn Egbuka: She Leads: Female Creative Entrepreneurs in New Braunfels  \n● 5:00-8:00 New Braunfels Wein & Bier Stroll official stop \nSaturday\, October 4th | 10 AM – 8 PM  \n● 11:00-12:30 The Tea Charmer’s High Tea\, Jayna Owens\, owner \n(limited seating\, click here to purchase ticket)  \n● 1:00-1:45 Swanee Browning of The Hills Wedding Guide: Where to Start when Planning Your Event  \n● 2:30-3:00 John Wickham\, The Prince Solms Inn: Creating a Serene Escape in New Braunfels  \n● 3:30-4:00 Stacey Dicke: The New Braunfels Youth Collaborative  \n● 4:30-5:00 Cowboys and Cadillacs: Creating The Perfect Mocktail  \n● 5:15-5:45 April Ryan\, 2Tarts: New Braunfels\, An Entrepreneurial City: The Story of 2Tarts  \n● 6:00-6:30 Jacob Huereca\, Connections: Strengthening Communities\, One Youth and One Family at a Time  \n● 5:00-8:00 Cowboys and Cadillacs – Cash Bar  \n‍AND  \n● 5:00 – 8:00 Karen Akkerman\, Cellist \n‍Sunday\, October 5th | Noon–5:00 PM  \n● 12:15–12:45 Brandon Deitert\, Blumenmeisters: Flowers for a Beautiful Arrangement  \n● 1:00–1:45 Steven Ratliff: Fashioned in Flavor: A Wine Tasting Experience  \n● 2:30–3:00 Nataliya Borener\, Drift Home & Interiors: An Artisanal Eye: Designing Interiors for New Braunfels  \n● 3:15–4:00 Cameron Corzine\, Cowboys & Cadillacs: Building Your Personal Brand  \n● 4:00–4:45 Lark Mason\, Preserving New Braunfels: New Braunfels: A Cultural Experience\, A Vision for Our Future  \n‍ \nWe hope you will join us each day!
URL:https://downtownnewbraunfels.com/event/new-braunfels-style-show-fashion-jewelry-art/2025-10-04/
LOCATION:Meadowlark Garden and Gallery\, 210 W Mill Street\, New Braunfels\, TX\, 78130\, United States
ATTACH;FMTTYPE=image/jpeg:https://downtownnewbraunfels.com/wp-content/uploads/2025/09/NB-Style-Show_Final.jpg
GEO:29.7026691;-98.1270075
X-APPLE-STRUCTURED-LOCATION;VALUE=URI;X-ADDRESS=Meadowlark Garden and Gallery 210 W Mill Street New Braunfels TX 78130 United States;X-APPLE-RADIUS=500;X-TITLE=210 W Mill Street:geo:-98.1270075,29.7026691
END:VEVENT
BEGIN:VEVENT
DTSTART;TZID=America/Chicago:20251004T113000
DTEND;TZID=America/Chicago:20251004T143000
DTSTAMP:20260422T052828
CREATED:20250901T171044Z
LAST-MODIFIED:20250901T171044Z
UID:7676-1759577400-1759588200@downtownnewbraunfels.com
SUMMARY:Bucksnort Boogie Boys
DESCRIPTION:Bucksnort Boogie Boys is an Americana Roots string band comprised of a hillbilly\, a big city refugee\, a lovebird wrangler\, and a metal artist. The “Boys” all share a love of great music\, whether they write the song or someone else did. The audience can expect to hear a mix of tunes from the band’s extensive catalog of original music\, along with some surprising selections from other artists that are sure to bring a smile!
URL:https://downtownnewbraunfels.com/event/bucksnort-boogie-boys-13/
LOCATION:Krause’s Cafe\, 148 S. Castell Ave\, New Braunfels\, TX\, 78130
CATEGORIES:Live Music
ATTACH;FMTTYPE=image/jpeg:https://downtownnewbraunfels.com/wp-content/uploads/2025/09/1-Bucksnort-Boogie-Boys.jpg
GEO:29.7012853;-98.1250235
X-APPLE-STRUCTURED-LOCATION;VALUE=URI;X-ADDRESS=Krause’s Cafe 148 S. Castell Ave New Braunfels TX 78130;X-APPLE-RADIUS=500;X-TITLE=148 S. Castell Ave:geo:-98.1250235,29.7012853
END:VEVENT
BEGIN:VEVENT
DTSTART;TZID=America/Chicago:20251004T180000
DTEND;TZID=America/Chicago:20251004T210000
DTSTAMP:20260422T052828
CREATED:20250901T170940Z
LAST-MODIFIED:20250901T170940Z
UID:7670-1759600800-1759611600@downtownnewbraunfels.com
SUMMARY:Shakedown
DESCRIPTION:Shakedown Rock and Soul Revue is a dynamic band of talented musicians playing a mix of the best music: songs from the rock and Motown/soul eras\, and some country favorites. We cover the hits from the 60s\, 70s\, and 80s\, the music that entertains audiences of all ages!
URL:https://downtownnewbraunfels.com/event/shakedown-5/
LOCATION:Krause’s Cafe\, 148 S. Castell Ave\, New Braunfels\, TX\, 78130
CATEGORIES:Live Music
ATTACH;FMTTYPE=image/jpeg:https://downtownnewbraunfels.com/wp-content/uploads/2025/09/1-Shakedown.jpg
GEO:29.7012853;-98.1250235
X-APPLE-STRUCTURED-LOCATION;VALUE=URI;X-ADDRESS=Krause’s Cafe 148 S. Castell Ave New Braunfels TX 78130;X-APPLE-RADIUS=500;X-TITLE=148 S. Castell Ave:geo:-98.1250235,29.7012853
END:VEVENT
BEGIN:VEVENT
DTSTART;TZID=America/Chicago:20251004T193000
DTEND;TZID=America/Chicago:20251004T193000
DTSTAMP:20260422T052828
CREATED:20250206T162543Z
LAST-MODIFIED:20250206T162543Z
UID:6413-1759606200-1759606200@downtownnewbraunfels.com
SUMMARY:Murder on the Orient Express at Circle Arts Theatre
DESCRIPTION:Murder on the Orient Express\nJust after midnight\, a snowdrift stops the Orient Express in its tracks\, and the luxurious train will have one fewer passenger by the morning. An American tycoon lies dead in his compartment\, stabbed eight times\, his door locked from the inside. Isolated and with a killer in their midst\, the passengers rely on detective Hercule Poirot to identify the murderer – in case he or she decides to strike again. Ages 12+ \nOctober 3rd- CHAMPAGNE OPENING- Join us after the show for food\, drinks and a meet and greet with the cast. \nOctober 4th- BENEFIT NIGHT- All proceeds this night will go to a local nonprofit organization. Seating will be general admission. To purchase tickets for this night\, please call 830-837-6172. \nOctober 11th- PAY WHAT YOU CAN- All tickets at the door will be available on a pay-what-you-can basis. Pre-purchases will be full price and flex passes will work as usual
URL:https://downtownnewbraunfels.com/event/murder-on-the-orient-express-at-circle-arts-theatre/2025-10-04/
LOCATION:Circle Arts Theatre\, 124 Elizabeth Street\, New Braunfels\, Texas\, 78130
ATTACH;FMTTYPE=image/jpeg:https://downtownnewbraunfels.com/wp-content/uploads/2025/02/Murder-on-the-Orient-Express-Logo-980x980-1.jpg
GEO:29.7079031;-98.1314236
X-APPLE-STRUCTURED-LOCATION;VALUE=URI;X-ADDRESS=Circle Arts Theatre 124 Elizabeth Street New Braunfels Texas 78130;X-APPLE-RADIUS=500;X-TITLE=124 Elizabeth Street:geo:-98.1314236,29.7079031
END:VEVENT
BEGIN:VEVENT
DTSTART;TZID=America/Chicago:20251004T193000
DTEND;TZID=America/Chicago:20251004T213000
DTSTAMP:20260422T052828
CREATED:20250830T171304Z
LAST-MODIFIED:20250830T171304Z
UID:7599-1759606200-1759613400@downtownnewbraunfels.com
SUMMARY:RONSTADT REVUE
DESCRIPTION:Sponsored by 4Life Wealth Advisors \nExperience the magic of Linda Ronstadt’s legendary music with Ronstadt Revue\, returning to the Brauntex Theatre for its highly anticipated second performance. \nPowerhouse vocalist Gess Gerena and her band bring Ronstadt’s iconic hits to life with stunning authenticity\, performing in both English and Spanish. This Linda Ronstadt tribute show has been praised by three of Ronstadt’s original bandmates—two of whom co-produced and appear on the latest album\, featuring her nephew\, acclaimed cellist Michael G. Ronstadt. \nThis multimedia live concert takes you on a nostalgic journey through all-time favorites such as When Will I Be Loved?\, You’re No Good\, Blue Bayou\, Hay Unos Ojos\, Long\, Long Time\, Perfidia\, and the Eagles’ heart-wrenching Desperado. Fans will leave singing along to these beloved classics! \nLast time\, this show SOLD OUT—don’t wait! Get your tickets today!
URL:https://downtownnewbraunfels.com/event/ronstadt-revue/
LOCATION:The Brauntex Theatre\, 290 W San Antonio St\, New Braunfels\, 78130\, United States
CATEGORIES:Live Music
ATTACH;FMTTYPE=image/jpeg:https://downtownnewbraunfels.com/wp-content/uploads/2025/08/RONSTADT-REVUE-scaled.jpg
GEO:29.7013707;-98.1265595
X-APPLE-STRUCTURED-LOCATION;VALUE=URI;X-ADDRESS=The Brauntex Theatre 290 W San Antonio St New Braunfels 78130 United States;X-APPLE-RADIUS=500;X-TITLE=290 W San Antonio St:geo:-98.1265595,29.7013707
END:VEVENT
END:VCALENDAR