BEGIN:VCALENDAR
VERSION:2.0
PRODID:-//New Braunfels Downtown - ECPv6.15.18//NONSGML v1.0//EN
CALSCALE:GREGORIAN
METHOD:PUBLISH
X-ORIGINAL-URL:https://downtownnewbraunfels.com
X-WR-CALDESC:Events for New Braunfels Downtown
REFRESH-INTERVAL;VALUE=DURATION:PT1H
X-Robots-Tag:noindex
X-PUBLISHED-TTL:PT1H
BEGIN:VTIMEZONE
TZID:America/Chicago
BEGIN:DAYLIGHT
TZOFFSETFROM:-0600
TZOFFSETTO:-0500
TZNAME:CDT
DTSTART:20240310T080000
END:DAYLIGHT
BEGIN:STANDARD
TZOFFSETFROM:-0500
TZOFFSETTO:-0600
TZNAME:CST
DTSTART:20241103T070000
END:STANDARD
BEGIN:DAYLIGHT
TZOFFSETFROM:-0600
TZOFFSETTO:-0500
TZNAME:CDT
DTSTART:20250309T080000
END:DAYLIGHT
BEGIN:STANDARD
TZOFFSETFROM:-0500
TZOFFSETTO:-0600
TZNAME:CST
DTSTART:20251102T070000
END:STANDARD
BEGIN:DAYLIGHT
TZOFFSETFROM:-0600
TZOFFSETTO:-0500
TZNAME:CDT
DTSTART:20260308T080000
END:DAYLIGHT
BEGIN:STANDARD
TZOFFSETFROM:-0500
TZOFFSETTO:-0600
TZNAME:CST
DTSTART:20261101T070000
END:STANDARD
END:VTIMEZONE
BEGIN:VEVENT
DTSTART;TZID=America/Chicago:20251221T110000
DTEND;TZID=America/Chicago:20251221T140000
DTSTAMP:20260421T052818
CREATED:20251118T220656Z
LAST-MODIFIED:20251118T220656Z
UID:8004-1766314800-1766325600@downtownnewbraunfels.com
SUMMARY:Harfmann Duo
DESCRIPTION:Walt Harfmann\, born in St. Louis\, Missouri\, on the mostly German “south side”. He has played on stage many times with Grammy winner “America’s Polka King” Frank Yankovic\, Grammy winner “Canada’s Polka King” Walter Ostanek\, as well as many Polka leaders in the USA over the years. His music includes German\, Austrian\, Czech\, Slovenian\, Croatian\, Swiss\, Polkas and Waltzes\, Kolos\, Boarischers\, etc! Having traveled extensively in Europe many times he has added many historic European songs to his list!
URL:https://downtownnewbraunfels.com/event/harfmann-duo-16/
LOCATION:Krause’s Cafe\, 148 S. Castell Ave\, New Braunfels\, TX\, 78130
CATEGORIES:Live Music
ATTACH;FMTTYPE=image/jpeg:https://downtownnewbraunfels.com/wp-content/uploads/2025/11/1-Harfmann-Duo.jpg
GEO:29.7012853;-98.1250235
X-APPLE-STRUCTURED-LOCATION;VALUE=URI;X-ADDRESS=Krause’s Cafe 148 S. Castell Ave New Braunfels TX 78130;X-APPLE-RADIUS=500;X-TITLE=148 S. Castell Ave:geo:-98.1250235,29.7012853
END:VEVENT
BEGIN:VEVENT
DTSTART;TZID=America/Chicago:20251221T150000
DTEND;TZID=America/Chicago:20251221T180000
DTSTAMP:20260421T052818
CREATED:20251118T220844Z
LAST-MODIFIED:20251118T220844Z
UID:8010-1766329200-1766340000@downtownnewbraunfels.com
SUMMARY:Bill Caisse
DESCRIPTION:Bill Caisse has loved working full-time in the music industry for many years. He not only plays guitar and sings with a beautiful soulful voice\, he writes unique songs and helps produce their music for other artists. He has taught many students how to play guitar\, drums and voice lessons. He’s had the opportunity to play with local artists such as Chilton Vance\, Rick Rice\, Robert Demel\, among many others. While living in Nashville for many years\, he played in the Eddie Rabbitt’s band. There are local musicians who frequently hire him to be their sound engineer since he has a degree and is so adept at it.
URL:https://downtownnewbraunfels.com/event/bill-caisse-10/
LOCATION:Krause’s Cafe\, 148 S. Castell Ave\, New Braunfels\, TX\, 78130
CATEGORIES:Live Music
ATTACH;FMTTYPE=image/jpeg:https://downtownnewbraunfels.com/wp-content/uploads/2025/11/1-Bill-Caisse.jpg
GEO:29.7012853;-98.1250235
X-APPLE-STRUCTURED-LOCATION;VALUE=URI;X-ADDRESS=Krause’s Cafe 148 S. Castell Ave New Braunfels TX 78130;X-APPLE-RADIUS=500;X-TITLE=148 S. Castell Ave:geo:-98.1250235,29.7012853
END:VEVENT
BEGIN:VEVENT
DTSTART;TZID=America/Chicago:20251226T120000
DTEND;TZID=America/Chicago:20251226T150000
DTSTAMP:20260421T052818
CREATED:20251130T150915Z
LAST-MODIFIED:20251130T150915Z
UID:8024-1766750400-1766761200@downtownnewbraunfels.com
SUMMARY:Luke Leverett
DESCRIPTION:Luke Leverett’s troubadour stylings span folk-rock and soft rock from many decades\, featuring his trademark guitar virtuosity and strong tenor vocals\, bringing it all together with his onstage energy and passion for his craft.
URL:https://downtownnewbraunfels.com/event/luke-leverett-5/
LOCATION:Krause’s Cafe\, 148 S. Castell Ave\, New Braunfels\, TX\, 78130
CATEGORIES:Live Music
ATTACH;FMTTYPE=image/jpeg:https://downtownnewbraunfels.com/wp-content/uploads/2025/11/1-Luke-Leverett.jpg
GEO:29.7012853;-98.1250235
X-APPLE-STRUCTURED-LOCATION;VALUE=URI;X-ADDRESS=Krause’s Cafe 148 S. Castell Ave New Braunfels TX 78130;X-APPLE-RADIUS=500;X-TITLE=148 S. Castell Ave:geo:-98.1250235,29.7012853
END:VEVENT
BEGIN:VEVENT
DTSTART;TZID=America/Chicago:20251226T180000
DTEND;TZID=America/Chicago:20251226T210000
DTSTAMP:20260421T052818
CREATED:20251130T151011Z
LAST-MODIFIED:20251130T151011Z
UID:8028-1766772000-1766782800@downtownnewbraunfels.com
SUMMARY:Soul Sessions
DESCRIPTION:Soul Sessions is a unique group of Central Texas’ top R&B\, Soul and Funk musicians.
URL:https://downtownnewbraunfels.com/event/soul-sessions-9/
LOCATION:Krause’s Cafe\, 148 S. Castell Ave\, New Braunfels\, TX\, 78130
CATEGORIES:Live Music
ATTACH;FMTTYPE=image/jpeg:https://downtownnewbraunfels.com/wp-content/uploads/2025/11/1-Soul-sessions-updated.jpg
GEO:29.7012853;-98.1250235
X-APPLE-STRUCTURED-LOCATION;VALUE=URI;X-ADDRESS=Krause’s Cafe 148 S. Castell Ave New Braunfels TX 78130;X-APPLE-RADIUS=500;X-TITLE=148 S. Castell Ave:geo:-98.1250235,29.7012853
END:VEVENT
BEGIN:VEVENT
DTSTART;TZID=America/Chicago:20251227T113000
DTEND;TZID=America/Chicago:20251227T143000
DTSTAMP:20260421T052818
CREATED:20251130T151102Z
LAST-MODIFIED:20251130T151102Z
UID:8032-1766835000-1766845800@downtownnewbraunfels.com
SUMMARY:Tony Taylor
DESCRIPTION:Tony Taylor hails from Corsicana\, TX. A native of New Braunfels since 2010. A singer/songwriter and performer of what has come to be known as Americana Roots Music.
URL:https://downtownnewbraunfels.com/event/tony-taylor-16/
LOCATION:Krause’s Cafe\, 148 S. Castell Ave\, New Braunfels\, TX\, 78130
CATEGORIES:Live Music
ATTACH;FMTTYPE=image/jpeg:https://downtownnewbraunfels.com/wp-content/uploads/2025/11/1-tony-taylor.jpg
GEO:29.7012853;-98.1250235
X-APPLE-STRUCTURED-LOCATION;VALUE=URI;X-ADDRESS=Krause’s Cafe 148 S. Castell Ave New Braunfels TX 78130;X-APPLE-RADIUS=500;X-TITLE=148 S. Castell Ave:geo:-98.1250235,29.7012853
END:VEVENT
BEGIN:VEVENT
DTSTART;TZID=America/Chicago:20251227T180000
DTEND;TZID=America/Chicago:20251227T210000
DTSTAMP:20260421T052818
CREATED:20251130T151040Z
LAST-MODIFIED:20251130T151040Z
UID:8030-1766858400-1766869200@downtownnewbraunfels.com
SUMMARY:The Klocks
DESCRIPTION:The KLOCKS are a 5-Piece Top-40 Dance band that has been together since 1995. We play an Ultra-Wide variety of genres and all of the songs we perform are specifically picked for Popularity and Danceability. We have been performing in the Wedding and Corporate business ever since we started the band in 1995. We have performed in various venues around the Country. From small venues around Texas to Casinos in Shreveport\, LA\, and Oklahoma to The MGM Grand Garden Arena in Las Vegas. We continue our commitment to Performing songs that keep the Dance Floor packed all night long. Songs from Today’s Hits\, Disco\, Pop\, Rock\, Latin\, Country\, 80’s\, 70’s\, the list goes on… Whatever our clients musical needs may be\, we can and will provide at a very high production level.
URL:https://downtownnewbraunfels.com/event/the-klocks-6/
LOCATION:Krause’s Cafe\, 148 S. Castell Ave\, New Braunfels\, TX\, 78130
CATEGORIES:Live Music
ATTACH;FMTTYPE=image/jpeg:https://downtownnewbraunfels.com/wp-content/uploads/2025/11/1-The-Klocks.jpg
GEO:29.7012853;-98.1250235
X-APPLE-STRUCTURED-LOCATION;VALUE=URI;X-ADDRESS=Krause’s Cafe 148 S. Castell Ave New Braunfels TX 78130;X-APPLE-RADIUS=500;X-TITLE=148 S. Castell Ave:geo:-98.1250235,29.7012853
END:VEVENT
END:VCALENDAR