BEGIN:VCALENDAR
VERSION:2.0
PRODID:-//New Braunfels Downtown - ECPv6.15.18//NONSGML v1.0//EN
CALSCALE:GREGORIAN
METHOD:PUBLISH
X-WR-CALNAME:New Braunfels Downtown
X-ORIGINAL-URL:https://downtownnewbraunfels.com
X-WR-CALDESC:Events for New Braunfels Downtown
REFRESH-INTERVAL;VALUE=DURATION:PT1H
X-Robots-Tag:noindex
X-PUBLISHED-TTL:PT1H
BEGIN:VTIMEZONE
TZID:America/Chicago
BEGIN:DAYLIGHT
TZOFFSETFROM:-0600
TZOFFSETTO:-0500
TZNAME:CDT
DTSTART:20250309T080000
END:DAYLIGHT
BEGIN:STANDARD
TZOFFSETFROM:-0500
TZOFFSETTO:-0600
TZNAME:CST
DTSTART:20251102T070000
END:STANDARD
BEGIN:DAYLIGHT
TZOFFSETFROM:-0600
TZOFFSETTO:-0500
TZNAME:CDT
DTSTART:20260308T080000
END:DAYLIGHT
BEGIN:STANDARD
TZOFFSETFROM:-0500
TZOFFSETTO:-0600
TZNAME:CST
DTSTART:20261101T070000
END:STANDARD
BEGIN:DAYLIGHT
TZOFFSETFROM:-0600
TZOFFSETTO:-0500
TZNAME:CDT
DTSTART:20270314T080000
END:DAYLIGHT
BEGIN:STANDARD
TZOFFSETFROM:-0500
TZOFFSETTO:-0600
TZNAME:CST
DTSTART:20271107T070000
END:STANDARD
END:VTIMEZONE
BEGIN:VEVENT
DTSTART;TZID=America/Chicago:20260111T110000
DTEND;TZID=America/Chicago:20260111T140000
DTSTAMP:20260423T034631
CREATED:20251208T214138Z
LAST-MODIFIED:20251208T214138Z
UID:8058-1768129200-1768140000@downtownnewbraunfels.com
SUMMARY:Alli Mattice Duo
DESCRIPTION:Focused around Alli’s unique\, strong vocals. Performing an eclectic mix of originals and covering a long list of songs made popular by current and past artists.
URL:https://downtownnewbraunfels.com/event/alli-mattice-duo-3/
LOCATION:Krause’s Cafe\, 148 S. Castell Ave\, New Braunfels\, TX\, 78130
CATEGORIES:Live Music
ATTACH;FMTTYPE=image/jpeg:https://downtownnewbraunfels.com/wp-content/uploads/2025/12/1-Alli-Eric-Duo.jpg
GEO:29.7012853;-98.1250235
X-APPLE-STRUCTURED-LOCATION;VALUE=URI;X-ADDRESS=Krause’s Cafe 148 S. Castell Ave New Braunfels TX 78130;X-APPLE-RADIUS=500;X-TITLE=148 S. Castell Ave:geo:-98.1250235,29.7012853
END:VEVENT
BEGIN:VEVENT
DTSTART;TZID=America/Chicago:20260111T150000
DTEND;TZID=America/Chicago:20260111T180000
DTSTAMP:20260423T034631
CREATED:20251208T214200Z
LAST-MODIFIED:20251208T214200Z
UID:8060-1768143600-1768154400@downtownnewbraunfels.com
SUMMARY:Phil Luna
DESCRIPTION:Phil Luna is a singer-songwriter based out of the live music and cultural hub of Austin\, Texas. With a blend of influences from indie rock\, pop rock and soul\, his original music pairs ear-catching melodies with driving rhythms to create a sound that is both refreshingly new yet comfortably familiar. In addition to his original music\, Phil’s repertoire is comprised of many beloved songs from genres ranging between Motown and Classic Rock to 80’s New Wave\, 90’s Alt and contemporary hits.
URL:https://downtownnewbraunfels.com/event/phil-luna-13/
LOCATION:Krause’s Cafe\, 148 S. Castell Ave\, New Braunfels\, TX\, 78130
CATEGORIES:Live Music
ATTACH;FMTTYPE=image/jpeg:https://downtownnewbraunfels.com/wp-content/uploads/2025/12/1-Phil-Luna.jpg
GEO:29.7012853;-98.1250235
X-APPLE-STRUCTURED-LOCATION;VALUE=URI;X-ADDRESS=Krause’s Cafe 148 S. Castell Ave New Braunfels TX 78130;X-APPLE-RADIUS=500;X-TITLE=148 S. Castell Ave:geo:-98.1250235,29.7012853
END:VEVENT
BEGIN:VEVENT
DTSTART;TZID=America/Chicago:20260114T180000
DTEND;TZID=America/Chicago:20260114T210000
DTSTAMP:20260423T034631
CREATED:20251209T164207Z
LAST-MODIFIED:20251209T164209Z
UID:8078-1768413600-1768424400@downtownnewbraunfels.com
SUMMARY:Lederhosen Junkies
DESCRIPTION:The 2020 Big Squeeze Polka State Champion\, Isaak Klaus was born with a pretzel in one hand and a sausage-on-a-stick in the other. His love for polka music began from listening to his dad’s collection of polka CD’s and from watching all of the awesome bands at Wurstfest. The frontman for The Lederhosen Junkies\, Isaak\, has played at many festivals across Texas including the Tomball German Heritage Fest\, the Fredericksburg Oktoberfest\, the New Braunfels Christkindlmarkt\, and the New Braunfels Wurstfest. His zany outlook on life\, mixed with his unusual knowledge of historical facts\, and his love for all things German makes him one of the most interesting men in the world. With his easy going attitude and his irresistible charm\, his clean cut appearance gives the Junkies a resemblance of respectability.
URL:https://downtownnewbraunfels.com/event/lederhosen-junkies-15/
LOCATION:Krause’s Cafe\, 148 S. Castell Ave\, New Braunfels\, TX\, 78130
CATEGORIES:Live Music
ATTACH;FMTTYPE=image/jpeg:https://downtownnewbraunfels.com/wp-content/uploads/2025/12/1-lederhosen-new.jpg
GEO:29.7012853;-98.1250235
X-APPLE-STRUCTURED-LOCATION;VALUE=URI;X-ADDRESS=Krause’s Cafe 148 S. Castell Ave New Braunfels TX 78130;X-APPLE-RADIUS=500;X-TITLE=148 S. Castell Ave:geo:-98.1250235,29.7012853
END:VEVENT
BEGIN:VEVENT
DTSTART;TZID=America/Chicago:20260115T193000
DTEND;TZID=America/Chicago:20260115T213000
DTSTAMP:20260423T034631
CREATED:20251216T212646Z
LAST-MODIFIED:20251216T212646Z
UID:8120-1768505400-1768512600@downtownnewbraunfels.com
SUMMARY:AN ACOUSTIC EVENING WITH RADNEY FOSTER & WILLIAM BECKMANN
DESCRIPTION:Presented by our 2025-26 season sponsors\, Window World/Deborah & Martin Bomba \nSponsored by Nancy & Jerry Ford \nTwo remarkable Texas voices. \nOne unforgettable night. \nHailing from the border town of Del Rio\, Texas\, Radney Foster and William Beckmann share more than a hometown; they share a rare artistic connection built on storytelling\, mentorship\, and an abiding respect for the craft of songwriting. \nRadney Foster\, a Texas Heritage Songwriter’s Hall of Famer\, first burst onto the scene with Foster & Lloyd before launching a celebrated solo career with his landmark album Del Rio\, Texas 1959. With eight No. 1 singles to his name\, including “Nobody Wins” and “Crazy Over You”\, his songs have been recorded by everyone from Keith Urban and The Chicks to Marc Broussard and Los Lonely Boys\, selling over 50 million copies worldwide. A true Renaissance artist\, Foster continues to write\, produce\, act\, and publish\, proving his storytelling is as powerful as ever. \nFollowing in those footsteps\, but carving a path distinctly his own\, is rising star William Beckmann. Also born and raised in Del Rio\, Beckmann connected with Foster while he was \nstill in high school\, beginning a mentor-mentee relationship that helped shape his early artistry. Today\, he blends classic country\, Americana\, and the borderland sounds of his \nhometown with a voice and style that feel both timeless and new. Beckmann has become one of Texas’s most exciting young artists\, praised for his rich vocals\, heartfelt writing\, and magnetic stage presence. \nTogether\, Radney Foster and William Beckmann bring their shared roots and undeniable chemistry to the stage for an intimate acoustic performance filled with stories\, songs\, and the spirit of Del Rio. \nThis is a rare opportunity to experience two generations of Texas music\, side by side\, stripped down\, and straight from the heart.
URL:https://downtownnewbraunfels.com/event/an-acoustic-evening-with-radney-foster-william-beckmann/
LOCATION:The Brauntex Theatre\, 290 W San Antonio St\, New Braunfels\, 78130\, United States
CATEGORIES:Live Music
ATTACH;FMTTYPE=image/png:https://downtownnewbraunfels.com/wp-content/uploads/2025/12/BECK-RADNEY-1200-x-628-px-1.png
GEO:29.7013707;-98.1265595
X-APPLE-STRUCTURED-LOCATION;VALUE=URI;X-ADDRESS=The Brauntex Theatre 290 W San Antonio St New Braunfels 78130 United States;X-APPLE-RADIUS=500;X-TITLE=290 W San Antonio St:geo:-98.1265595,29.7013707
END:VEVENT
BEGIN:VEVENT
DTSTART;TZID=America/Chicago:20260117T113000
DTEND;TZID=America/Chicago:20260117T143000
DTSTAMP:20260423T034631
CREATED:20251209T164148Z
LAST-MODIFIED:20251209T164148Z
UID:8076-1768649400-1768660200@downtownnewbraunfels.com
SUMMARY:Monte Good
DESCRIPTION:This traditional country music singer draws on the rich tradition of the Texas dance halls of yesterday…..combining world class musicianship and true country music and western swing!! 2021 nominee for ‘Western Swing Artist / Band of the Year’ by the Texas County Music Association!!
URL:https://downtownnewbraunfels.com/event/monte-good-11/
LOCATION:Krause’s Cafe\, 148 S. Castell Ave\, New Braunfels\, TX\, 78130
CATEGORIES:Live Music
ATTACH;FMTTYPE=image/jpeg:https://downtownnewbraunfels.com/wp-content/uploads/2025/12/1-Monte-Good.jpg
GEO:29.7012853;-98.1250235
X-APPLE-STRUCTURED-LOCATION;VALUE=URI;X-ADDRESS=Krause’s Cafe 148 S. Castell Ave New Braunfels TX 78130;X-APPLE-RADIUS=500;X-TITLE=148 S. Castell Ave:geo:-98.1250235,29.7012853
END:VEVENT
BEGIN:VEVENT
DTSTART;TZID=America/Chicago:20260117T180000
DTEND;TZID=America/Chicago:20260117T210000
DTSTAMP:20260423T034631
CREATED:20251209T164057Z
LAST-MODIFIED:20251209T164057Z
UID:8070-1768672800-1768683600@downtownnewbraunfels.com
SUMMARY:X Factory
DESCRIPTION:X Factory plays Classic Rock & Blues from the 60’s to early 2000’s with a wide variety of genres\, with tasteful harmony guitars and vocals.
URL:https://downtownnewbraunfels.com/event/x-factory-8/
LOCATION:Krause’s Cafe\, 148 S. Castell Ave\, New Braunfels\, TX\, 78130
CATEGORIES:Live Music
ATTACH;FMTTYPE=image/jpeg:https://downtownnewbraunfels.com/wp-content/uploads/2025/12/1-X-Factory.jpg
GEO:29.7012853;-98.1250235
X-APPLE-STRUCTURED-LOCATION;VALUE=URI;X-ADDRESS=Krause’s Cafe 148 S. Castell Ave New Braunfels TX 78130;X-APPLE-RADIUS=500;X-TITLE=148 S. Castell Ave:geo:-98.1250235,29.7012853
END:VEVENT
END:VCALENDAR