BEGIN:VCALENDAR
VERSION:2.0
PRODID:-//New Braunfels Downtown - ECPv6.15.18//NONSGML v1.0//EN
CALSCALE:GREGORIAN
METHOD:PUBLISH
X-WR-CALNAME:New Braunfels Downtown
X-ORIGINAL-URL:https://downtownnewbraunfels.com
X-WR-CALDESC:Events for New Braunfels Downtown
REFRESH-INTERVAL;VALUE=DURATION:PT1H
X-Robots-Tag:noindex
X-PUBLISHED-TTL:PT1H
BEGIN:VTIMEZONE
TZID:America/Chicago
BEGIN:DAYLIGHT
TZOFFSETFROM:-0600
TZOFFSETTO:-0500
TZNAME:CDT
DTSTART:20170312T080000
END:DAYLIGHT
BEGIN:STANDARD
TZOFFSETFROM:-0500
TZOFFSETTO:-0600
TZNAME:CST
DTSTART:20171105T070000
END:STANDARD
BEGIN:DAYLIGHT
TZOFFSETFROM:-0600
TZOFFSETTO:-0500
TZNAME:CDT
DTSTART:20180311T080000
END:DAYLIGHT
BEGIN:STANDARD
TZOFFSETFROM:-0500
TZOFFSETTO:-0600
TZNAME:CST
DTSTART:20181104T070000
END:STANDARD
BEGIN:DAYLIGHT
TZOFFSETFROM:-0600
TZOFFSETTO:-0500
TZNAME:CDT
DTSTART:20190310T080000
END:DAYLIGHT
BEGIN:STANDARD
TZOFFSETFROM:-0500
TZOFFSETTO:-0600
TZNAME:CST
DTSTART:20191103T070000
END:STANDARD
BEGIN:DAYLIGHT
TZOFFSETFROM:-0600
TZOFFSETTO:-0500
TZNAME:CDT
DTSTART:20200308T080000
END:DAYLIGHT
BEGIN:STANDARD
TZOFFSETFROM:-0500
TZOFFSETTO:-0600
TZNAME:CST
DTSTART:20201101T070000
END:STANDARD
BEGIN:DAYLIGHT
TZOFFSETFROM:-0600
TZOFFSETTO:-0500
TZNAME:CDT
DTSTART:20210314T080000
END:DAYLIGHT
BEGIN:STANDARD
TZOFFSETFROM:-0500
TZOFFSETTO:-0600
TZNAME:CST
DTSTART:20211107T070000
END:STANDARD
BEGIN:DAYLIGHT
TZOFFSETFROM:-0600
TZOFFSETTO:-0500
TZNAME:CDT
DTSTART:20220313T080000
END:DAYLIGHT
BEGIN:STANDARD
TZOFFSETFROM:-0500
TZOFFSETTO:-0600
TZNAME:CST
DTSTART:20221106T070000
END:STANDARD
BEGIN:DAYLIGHT
TZOFFSETFROM:-0600
TZOFFSETTO:-0500
TZNAME:CDT
DTSTART:20230312T080000
END:DAYLIGHT
BEGIN:STANDARD
TZOFFSETFROM:-0500
TZOFFSETTO:-0600
TZNAME:CST
DTSTART:20231105T070000
END:STANDARD
BEGIN:DAYLIGHT
TZOFFSETFROM:-0600
TZOFFSETTO:-0500
TZNAME:CDT
DTSTART:20240310T080000
END:DAYLIGHT
BEGIN:STANDARD
TZOFFSETFROM:-0500
TZOFFSETTO:-0600
TZNAME:CST
DTSTART:20241103T070000
END:STANDARD
BEGIN:DAYLIGHT
TZOFFSETFROM:-0600
TZOFFSETTO:-0500
TZNAME:CDT
DTSTART:20250309T080000
END:DAYLIGHT
BEGIN:STANDARD
TZOFFSETFROM:-0500
TZOFFSETTO:-0600
TZNAME:CST
DTSTART:20251102T070000
END:STANDARD
BEGIN:DAYLIGHT
TZOFFSETFROM:-0600
TZOFFSETTO:-0500
TZNAME:CDT
DTSTART:20260308T080000
END:DAYLIGHT
BEGIN:STANDARD
TZOFFSETFROM:-0500
TZOFFSETTO:-0600
TZNAME:CST
DTSTART:20261101T070000
END:STANDARD
END:VTIMEZONE
BEGIN:VEVENT
DTSTART;TZID=America/Chicago:20250620T190000
DTEND;TZID=America/Chicago:20250620T220000
DTSTAMP:20260424T105419
CREATED:20250524T180538Z
LAST-MODIFIED:20250524T180538Z
UID:7004-1750446000-1750456800@downtownnewbraunfels.com
SUMMARY:GUNS-N-ROSES Tribute at Faust Brewing Company
DESCRIPTION:Guns N’ Roses Tribute Night – Important Info! \n\n\n\nRock fans\, don’t forget to grab your FREE general admission tickets if you’re planning to join us for this high-energy tribute to Guns N’ Roses!\n\n\nTable reservations are now open for those who’d like a guaranteed spot for their group. Picnic tables only—so snag one before they’re gone!\n\n\nWe’re expecting a packed house\, so feel free to bring your own folding chairs to relax and enjoy the music in comfort.\n\n\nLet’s make this an unforgettable night honoring one of rock’s most legendary bands—get your tickets and reserve your spot today!
URL:https://downtownnewbraunfels.com/event/guns-n-roses-tribute-at-faust-brewing-company/
LOCATION:Faust Brewing Company\, 499 S Castell Ave\, New Braunfels\, TX\, 78130\, United States
CATEGORIES:Arts & Culture
ATTACH;FMTTYPE=image/jpeg:https://downtownnewbraunfels.com/wp-content/uploads/2025/05/495090104_1303784187765107_5734216258115949579_n.jpg
GEO:29.6986971;-98.1203304
X-APPLE-STRUCTURED-LOCATION;VALUE=URI;X-ADDRESS=Faust Brewing Company 499 S Castell Ave New Braunfels TX 78130 United States;X-APPLE-RADIUS=500;X-TITLE=499 S Castell Ave:geo:-98.1203304,29.6986971
END:VEVENT
BEGIN:VEVENT
DTSTART;TZID=America/Chicago:20250614T180000
DTEND;TZID=America/Chicago:20250615T000000
DTSTAMP:20260424T105419
CREATED:20250524T180517Z
LAST-MODIFIED:20250524T180517Z
UID:7002-1749924000-1749945600@downtownnewbraunfels.com
SUMMARY:FAUST BREWERY 8YR ANNIVERSARY PARTY!
DESCRIPTION: Faust Brewing Company’s 8th Anniversary Party\n499 S. CASTELL AVE. NEW BRAUNFELS 78130\n\n Saturday\, June 14th Time: Party kicks off at 6:00 PM Keg Tapping: Begins at 6:30 PM Live Music: Starts at 7:00 PM\nJoin us as we celebrate 8 incredible years of craft\, community\, and cold beer!\nWe’re tapping four fan-favorite brews to mark the occasion: Swans Porter Pale Horizon Haze Weisse Owl ARIS – Aged Rye Imperial StoutThis special release was aged to perfection in Still Austin Rye barrels — a bold\, complex stout born from our collaboration with Still Austin Whiskey Co.\nThis is more than just a party — it’s a celebration of everything that’s made Faust Brewing what it is. Come out\, raise a glass\, and toast with us to eight unforgettable years (and many more to come).\n Great beer\, good company\, and live tunes — what more could you ask for?Prost!\n#sipsavorsocialize#faustbrewcrew#faustbrewingcompany#craftbeercelebration#breweryanniversary#barrelagedbeer#texasbrewed
URL:https://downtownnewbraunfels.com/event/faust-brewery-8yr-anniversary-party/
LOCATION:Faust Brewing Company\, 499 S Castell Ave\, New Braunfels\, TX\, 78130\, United States
CATEGORIES:Family Friendly,Festival,Live Music
ATTACH;FMTTYPE=image/jpeg:https://downtownnewbraunfels.com/wp-content/uploads/2025/05/500297245_1316740029802856_6864850847267545096_n.jpg
GEO:29.6986971;-98.1203304
X-APPLE-STRUCTURED-LOCATION;VALUE=URI;X-ADDRESS=Faust Brewing Company 499 S Castell Ave New Braunfels TX 78130 United States;X-APPLE-RADIUS=500;X-TITLE=499 S Castell Ave:geo:-98.1203304,29.6986971
END:VEVENT
BEGIN:VEVENT
DTSTART;TZID=America/Chicago:20250607T150000
DTEND;TZID=America/Chicago:20250607T180000
DTSTAMP:20260424T105419
CREATED:20250524T180451Z
LAST-MODIFIED:20250524T180451Z
UID:7000-1749308400-1749319200@downtownnewbraunfels.com
SUMMARY:JIMMY BUFFETT Tribute live at Faust Brewing Co
DESCRIPTION:Calling all Parrottheads!! Put this on your calendar NOW and join us for a tropical celebration of the one and only\, Jimmy Buffett! Don those Hawaiian shirts and khaki shorts\, and let’s have a grand time together!\n\n Jimmy Buffett Tribute – Important Info! \n\n\nParrotheads\, don’t forget to grab your FREE general admission tickets if you’re planning to join us for this tropical celebration!\n\n\nTable reservations are now open for those who’d like a guaranteed spot for their group. Picnic tables only—so grab one while they last!\n\n\nWe’re expecting a packed house\, so feel free to bring your own folding chairs to kick back and enjoy the island vibes in comfort.\n\n\nLet’s make this an unforgettable time honoring the legendary Jimmy Buffett—get your tickets and reserve your spot today!\n\n\nhttps://www.eventbrite.com/…/jimmy-buffett-tribute…\n\n\nFaust Brewing Company- Prost!
URL:https://downtownnewbraunfels.com/event/jimmy-buffett-tribute-live-at-faust-brewing-co/
LOCATION:Faust Brewing Company\, 499 S Castell Ave\, New Braunfels\, TX\, 78130\, United States
CATEGORIES:Arts & Culture
ATTACH;FMTTYPE=image/jpeg:https://downtownnewbraunfels.com/wp-content/uploads/2025/05/jimmy-buffett-band.jpg
GEO:29.6986971;-98.1203304
X-APPLE-STRUCTURED-LOCATION;VALUE=URI;X-ADDRESS=Faust Brewing Company 499 S Castell Ave New Braunfels TX 78130 United States;X-APPLE-RADIUS=500;X-TITLE=499 S Castell Ave:geo:-98.1203304,29.6986971
END:VEVENT
BEGIN:VEVENT
DTSTART;TZID=America/Chicago:20250528T200000
DTEND;TZID=America/Chicago:20250528T213000
DTSTAMP:20260424T105419
CREATED:20250524T180128Z
LAST-MODIFIED:20250524T180128Z
UID:6998-1748462400-1748467800@downtownnewbraunfels.com
SUMMARY:ABBA CADAVER Live at Faust Brewing Company
DESCRIPTION:Get ready for a night of mayhem and Mamma Mia!ABBA CADAVER takes the stage Wednesday\, May 28th at 8PM—and this isn’t your typical tribute show. This is ABBA like you’ve never heard before: reimagined with the raw power and electrifying energy of metal.\nThey’re debuting a few tracks for the first time\, and you won’t want to miss the headbanging harmonies and thunderous riffs.\nDancing Queen just got dangerous.No cover | All ages welcome | Come loud
URL:https://downtownnewbraunfels.com/event/abba-cadaver-live-at-faust-brewing-company/
LOCATION:Faust Brewing Company\, 499 S Castell Ave\, New Braunfels\, TX\, 78130\, United States
CATEGORIES:Arts & Culture,Live Music
ATTACH;FMTTYPE=image/jpeg:https://downtownnewbraunfels.com/wp-content/uploads/2025/05/abba-rock.jpg
GEO:29.6986971;-98.1203304
X-APPLE-STRUCTURED-LOCATION;VALUE=URI;X-ADDRESS=Faust Brewing Company 499 S Castell Ave New Braunfels TX 78130 United States;X-APPLE-RADIUS=500;X-TITLE=499 S Castell Ave:geo:-98.1203304,29.6986971
END:VEVENT
BEGIN:VEVENT
DTSTART;TZID=America/Chicago:20250524T190000
DTEND;TZID=America/Chicago:20250524T220000
DTSTAMP:20260424T105419
CREATED:20250524T180118Z
LAST-MODIFIED:20250524T180118Z
UID:6996-1748113200-1748124000@downtownnewbraunfels.com
SUMMARY:Amigo's Tex Mex Live at Faust Brewing Company Biergarten
DESCRIPTION:Enjoy your Memorial Day weekend chillin’ at Faust! Amigos will be playing your favorite Country\, Rock\, and Tex-Mex favorites!
URL:https://downtownnewbraunfels.com/event/amigos-tex-mex-live-at-faust-brewing-company-biergarten/
LOCATION:Faust Brewing Company\, 499 S Castell Ave\, New Braunfels\, TX\, 78130\, United States
CATEGORIES:Arts & Culture,Live Music
ATTACH;FMTTYPE=image/jpeg:https://downtownnewbraunfels.com/wp-content/uploads/2025/05/497588386_1313005133509679_2304178060409304666_n.jpg
GEO:29.6986971;-98.1203304
X-APPLE-STRUCTURED-LOCATION;VALUE=URI;X-ADDRESS=Faust Brewing Company 499 S Castell Ave New Braunfels TX 78130 United States;X-APPLE-RADIUS=500;X-TITLE=499 S Castell Ave:geo:-98.1203304,29.6986971
END:VEVENT
BEGIN:VEVENT
DTSTART;TZID=America/Chicago:20250523T150000
DTEND;TZID=America/Chicago:20250523T180000
DTSTAMP:20260424T105419
CREATED:20250524T180100Z
LAST-MODIFIED:20250524T180100Z
UID:6994-1748012400-1748023200@downtownnewbraunfels.com
SUMMARY:Colton's Kin at Faust Brewing Co. Biergarten
DESCRIPTION:Come out for some live music in the biergarten on Saturday\, May 24. It will be a relaxing Memorial Day weekend in the biergarten!
URL:https://downtownnewbraunfels.com/event/coltons-kin-at-faust-brewing-co-biergarten/
LOCATION:Faust Brewing Company\, 499 S Castell Ave\, New Braunfels\, TX\, 78130\, United States
CATEGORIES:Live Music
ATTACH;FMTTYPE=image/jpeg:https://downtownnewbraunfels.com/wp-content/uploads/2025/05/COLTONS-KIN.jpeg
GEO:29.6986971;-98.1203304
X-APPLE-STRUCTURED-LOCATION;VALUE=URI;X-ADDRESS=Faust Brewing Company 499 S Castell Ave New Braunfels TX 78130 United States;X-APPLE-RADIUS=500;X-TITLE=499 S Castell Ave:geo:-98.1203304,29.6986971
END:VEVENT
BEGIN:VEVENT
DTSTART;TZID=America/Chicago:20180303T120000
DTEND;TZID=America/Chicago:20180303T220000
DTSTAMP:20260424T105419
CREATED:20180301T191550Z
LAST-MODIFIED:20180301T191550Z
UID:1458-1520078400-1520114400@downtownnewbraunfels.com
SUMMARY:Faust Brewing Company - One Year Anniversary
DESCRIPTION:We invite you to join us as we celebrate one year of beer at Faust Brewing Company with a day of raucous festivities filled with fermented treats\, musical delights\, and delicious food to top it all off.\nIt all goes down Saturday\, March 3rd from noon to 10pm at 499 S Castell. \nMusic from:\nDJ b.read\n3 Man Front\nSoul Sessions \nFood from Texas PO’ Boys Food Truck\nGelato from Scoop Street \nTapping small batch collaborations with Altmeyer and Lewis\, Sean Patricks\, Middelton Brewing\, New Braunfels Brewing and more! \nBeer Releases: \nBarrel Aged Altered States \nApproximate-\nDouble Dry-Hopped Super-Double IPA \nShip Jumper-\nCoffee IPA \nRita Ballou Red IPA \nBig Kids Table Beer-\nSpiced Farmhouse ale \nSick Burn-\nChili Pequin Habanero Stout \nFrancis-\nPale Ale w/ Altmeyer & Lewis brewing \nChunkin Bugs-\nkettle soured whirlpool IPA w/ Middelton Brewing \nWherever You Go\, Belma You Are-\nRosemary Saison w/ New Braunfels Brewing \nStrawberry Foray-\nStrawberry Milkshake Beer w/ Sean Patricks Brewing
URL:https://downtownnewbraunfels.com/event/faust-brewing-company-one-year-anniversary/
LOCATION:Faust Brewing Company\, 499 S Castell Ave\, New Braunfels\, TX\, 78130\, United States
ATTACH;FMTTYPE=image/jpeg:https://downtownnewbraunfels.com/wp-content/uploads/2018/03/faust-anniversary.jpg
GEO:29.6986971;-98.1203304
X-APPLE-STRUCTURED-LOCATION;VALUE=URI;X-ADDRESS=Faust Brewing Company 499 S Castell Ave New Braunfels TX 78130 United States;X-APPLE-RADIUS=500;X-TITLE=499 S Castell Ave:geo:-98.1203304,29.6986971
END:VEVENT
BEGIN:VEVENT
DTSTART;VALUE=DATE:20180302
DTEND;VALUE=DATE:20180303
DTSTAMP:20260424T105419
CREATED:20180301T190459Z
LAST-MODIFIED:20180301T231101Z
UID:1452-1519948800-1520035199@downtownnewbraunfels.com
SUMMARY:Texas Independence Day at Faust Brewing Company
DESCRIPTION:Faust Brewing Company is celebrating 182 years of Texas independence this Friday and kicking off their anniversary weekend with music\, beer\, and a touch of Texas literature. Enjoy $4 beers all day long with music from Winnie Brave in the biergarten from 7-10. \nLocal author Jeremy Banas will also be in the house slinging copies of his latest book\, “Pearl; A History of San Antonio’s Iconic Beer”\, as well as speaking about Texas beer history.
URL:https://downtownnewbraunfels.com/event/1452/
LOCATION:Faust Brewing Company\, 499 S Castell Ave\, New Braunfels\, TX\, 78130\, United States
ATTACH;FMTTYPE=image/jpeg:https://downtownnewbraunfels.com/wp-content/uploads/2018/03/faust-independence-day.jpg
GEO:29.6986971;-98.1203304
X-APPLE-STRUCTURED-LOCATION;VALUE=URI;X-ADDRESS=Faust Brewing Company 499 S Castell Ave New Braunfels TX 78130 United States;X-APPLE-RADIUS=500;X-TITLE=499 S Castell Ave:geo:-98.1203304,29.6986971
END:VEVENT
END:VCALENDAR