BEGIN:VCALENDAR
VERSION:2.0
PRODID:-//New Braunfels Downtown - ECPv6.15.18//NONSGML v1.0//EN
CALSCALE:GREGORIAN
METHOD:PUBLISH
X-WR-CALNAME:New Braunfels Downtown
X-ORIGINAL-URL:https://downtownnewbraunfels.com
X-WR-CALDESC:Events for New Braunfels Downtown
REFRESH-INTERVAL;VALUE=DURATION:PT1H
X-Robots-Tag:noindex
X-PUBLISHED-TTL:PT1H
BEGIN:VTIMEZONE
TZID:America/Chicago
BEGIN:DAYLIGHT
TZOFFSETFROM:-0600
TZOFFSETTO:-0500
TZNAME:CDT
DTSTART:20230312T080000
END:DAYLIGHT
BEGIN:STANDARD
TZOFFSETFROM:-0500
TZOFFSETTO:-0600
TZNAME:CST
DTSTART:20231105T070000
END:STANDARD
BEGIN:DAYLIGHT
TZOFFSETFROM:-0600
TZOFFSETTO:-0500
TZNAME:CDT
DTSTART:20240310T080000
END:DAYLIGHT
BEGIN:STANDARD
TZOFFSETFROM:-0500
TZOFFSETTO:-0600
TZNAME:CST
DTSTART:20241103T070000
END:STANDARD
BEGIN:DAYLIGHT
TZOFFSETFROM:-0600
TZOFFSETTO:-0500
TZNAME:CDT
DTSTART:20250309T080000
END:DAYLIGHT
BEGIN:STANDARD
TZOFFSETFROM:-0500
TZOFFSETTO:-0600
TZNAME:CST
DTSTART:20251102T070000
END:STANDARD
BEGIN:DAYLIGHT
TZOFFSETFROM:-0600
TZOFFSETTO:-0500
TZNAME:CDT
DTSTART:20260308T080000
END:DAYLIGHT
BEGIN:STANDARD
TZOFFSETFROM:-0500
TZOFFSETTO:-0600
TZNAME:CST
DTSTART:20261101T070000
END:STANDARD
BEGIN:DAYLIGHT
TZOFFSETFROM:-0600
TZOFFSETTO:-0500
TZNAME:CDT
DTSTART:20270314T080000
END:DAYLIGHT
BEGIN:STANDARD
TZOFFSETFROM:-0500
TZOFFSETTO:-0600
TZNAME:CST
DTSTART:20271107T070000
END:STANDARD
END:VTIMEZONE
BEGIN:VEVENT
DTSTART;TZID=America/Chicago:20260212T120000
DTEND;TZID=America/Chicago:20260212T130000
DTSTAMP:20260421T145235
CREATED:20260202T224537Z
LAST-MODIFIED:20260202T224537Z
UID:8296-1770897600-1770901200@downtownnewbraunfels.com
SUMMARY:Real Estate Investing Seminar
DESCRIPTION:Thinking about real estate investing in 2026 but not sure where to start?\nJoin us for a Real Estate Investing Lunch & Learn where we’ll break down the steps\, numbers\, and strategies that actually work in today’s market—no fluff.\n February 12\, 2026 12:00–1:00 PM Sammelplatz Conference Room391 Landa St #1108\, New Braunfels\nWhat you’ll learn:* How investors are financing deals by leveraging existing assets* Tax advantages most people miss* Real strategies working right now in our local market\n Led by a Realtor\, CPA\, and Financial Advisors Lunch provided\n Scan the QR code or register here:https://forms.gle/wZRwSyBjVxje88i97\nIf investing is even loosely on your 2026–2027 plan\, this hour will be time well spent
URL:https://downtownnewbraunfels.com/event/real-estate-investing-seminar/
LOCATION:Sammelplatz Office Suites\, 391 Landa St\, New Braunfels\, TX\, 78130\, United States
ATTACH;FMTTYPE=image/jpeg:https://downtownnewbraunfels.com/wp-content/uploads/2026/02/Image.jpeg
GEO:29.7038771;-98.1384217
X-APPLE-STRUCTURED-LOCATION;VALUE=URI;X-ADDRESS=Sammelplatz Office Suites 391 Landa St New Braunfels TX 78130 United States;X-APPLE-RADIUS=500;X-TITLE=391 Landa St:geo:-98.1384217,29.7038771
END:VEVENT
BEGIN:VEVENT
DTSTART;TZID=America/Chicago:20251212T100000
DTEND;TZID=America/Chicago:20251212T120000
DTSTAMP:20260421T145235
CREATED:20251203T193820Z
LAST-MODIFIED:20251203T193820Z
UID:8053-1765533600-1765540800@downtownnewbraunfels.com
SUMMARY:Cookie Exchange
DESCRIPTION:https://www.eventbrite.com/e/cookie-exchange-tickets-1976463093317?aff=oddtdtcreator
URL:https://downtownnewbraunfels.com/event/cookie-exchange/
LOCATION:391 Landa Street\, 391 Landa Street\, New Braunfels\, TX\, United States
CATEGORIES:Family Friendly
ATTACH;FMTTYPE=image/png:https://downtownnewbraunfels.com/wp-content/uploads/2025/12/kindly-join-Our-HOSTS-for-a-3.png
END:VEVENT
BEGIN:VEVENT
DTSTART;TZID=America/Chicago:20250509T100000
DTEND;TZID=America/Chicago:20250509T120000
DTSTAMP:20260421T145235
CREATED:20250424T192629Z
LAST-MODIFIED:20250424T192629Z
UID:6828-1746784800-1746792000@downtownnewbraunfels.com
SUMMARY:Mother's Day Tea
DESCRIPTION:Welcome to Mother’s Day Tea! \nCome celebrate the amazing moms in your life with a delightful morning filled with tea\, treats\, flowers and quality time together. Our event will be held at 391 Landa St\, where you can enjoy a cozy atmosphere and create lasting memories. Join us for a special occasion to show appreciation for all that moms do. \nBrought to you by Wohlstand Wealth Strategies\, Nopa Leadership\, Parker Home + Design\, Groovy and Gorgeous Permanent Jewelry\, and Sister Rivers Realty.
URL:https://downtownnewbraunfels.com/event/mothers-day-tea/
LOCATION:391 Landa Street\, 391 Landa Street\, New Braunfels\, TX\, United States
CATEGORIES:Family Friendly
ATTACH;FMTTYPE=image/png:https://downtownnewbraunfels.com/wp-content/uploads/2025/04/WWS-Mothers-Day-Tea-2025-1.png
END:VEVENT
BEGIN:VEVENT
DTSTART;TZID=America/Chicago:20241213T100000
DTEND;TZID=America/Chicago:20241213T111500
DTSTAMP:20260421T145235
CREATED:20241114T180137Z
LAST-MODIFIED:20241114T180137Z
UID:6000-1734084000-1734088500@downtownnewbraunfels.com
SUMMARY:Holiday Cookie Exchange
DESCRIPTION:Join us for a deliciously fun event at Sammelplatz on Landa Street in New Braunfels\, TX. Get ready to indulge in a mouthwatering assortment of homemade cookies. Whether you’re a baking pro or a cookie connoisseur\, this event is for you! Bring a dozen of your favorite batch of cookies to swap with fellow cookie enthusiasts. It’s a great opportunity to taste a variety of flavors and discover new recipes. . Mark your calendar and get ready for a sweet time at the Cookie Exchange!
URL:https://downtownnewbraunfels.com/event/holiday-cookie-exchange/
LOCATION:391 Landa Street\, 391 Landa Street\, New Braunfels\, TX\, United States
CATEGORIES:Other
ATTACH;FMTTYPE=image/png:https://downtownnewbraunfels.com/wp-content/uploads/2024/11/Cookie-Exchange-1.png
END:VEVENT
BEGIN:VEVENT
DTSTART;TZID=America/Chicago:20241119T173000
DTEND;TZID=America/Chicago:20241119T193000
DTSTAMP:20260421T145235
CREATED:20240822T183332Z
LAST-MODIFIED:20241104T190153Z
UID:5593-1732037400-1732044600@downtownnewbraunfels.com
SUMMARY:Financial Planning 101 Seminar
DESCRIPTION:Financial Planning Seminar 101\n\nJoin us for an informative Financial Planning Seminar 101 where you can learn how to manage your finances like a pro! Our knowledgeable speakers will cover topics such as budgeting\, saving\, investing\, and retirement planning. Whether you’re just starting out or looking to enhance your financial knowledge\, this seminar is perfect for you. Don’t miss out on this opportunity to take control of your financial future!
URL:https://downtownnewbraunfels.com/event/financial-planning-101-seminar/
LOCATION:391 Landa Street\, 391 Landa Street\, New Braunfels\, TX\, United States
CATEGORIES:Seminar
ATTACH;FMTTYPE=image/png:https://downtownnewbraunfels.com/wp-content/uploads/2024/11/Financial-Planning-Invite-2.png
END:VEVENT
BEGIN:VEVENT
DTSTART;TZID=America/Chicago:20241014T090000
DTEND;TZID=America/Chicago:20241014T100000
DTSTAMP:20260421T145235
CREATED:20240923T203312Z
LAST-MODIFIED:20240923T203312Z
UID:5766-1728896400-1728900000@downtownnewbraunfels.com
SUMMARY:Coffee and Clean Beauty Event
DESCRIPTION:Come join us for a relaxing morning filled with coffee and clean beauty! This in-person event is perfect for anyone looking to learn more about natural skincare products and enjoy a cup of joe at the same time. Whether you’re a skincare enthusiast or just curious about clean beauty\, this event is for you. Don’t miss out on this opportunity to treat yourself to a morning of self-care and education. See you there!
URL:https://downtownnewbraunfels.com/event/coffee-and-clean-beauty-event/
LOCATION:Wohlstand Wealth Strategies\, 391 Landa St\, Suite 1116\, New Braunfels\, TX\, 78130\, United States
CATEGORIES:Other
ATTACH;FMTTYPE=image/jpeg:https://downtownnewbraunfels.com/wp-content/uploads/2024/09/Coffee-and-Clean-Beauty-Event-Invite-Draft-.jpeg
END:VEVENT
BEGIN:VEVENT
DTSTART;TZID=America/Chicago:20241008T120000
DTEND;TZID=America/Chicago:20241008T130000
DTSTAMP:20260421T145235
CREATED:20240926T151816Z
LAST-MODIFIED:20240926T151816Z
UID:5801-1728388800-1728392400@downtownnewbraunfels.com
SUMMARY:Wills and Trusts Seminar
DESCRIPTION:Join us for an informative Wills and Trusts Seminar with Attorney Amanda Batsche with Davidek Law Firm\, where you can learn how to safeguard your assets and plan your estate like a pro! Attorney Amanda Batsche will cover topics such as drafting wills\, establishing trusts\, and protecting your beneficiaries. Don’t miss out on this opportunity to take control of your legacy! \nThis Seminar is for informational purposes only and is presented by Attorney Amanda Batsche of Davidek Law Firm. Wohlstand Wealth Strategies does not provide\, legal\, tax or accounting advice. Amanda Batsche and the Davidek Law Firm are not affiliated with Wohlstand Wealth Strategies or its affiliates.
URL:https://downtownnewbraunfels.com/event/wills-and-trusts-seminar/
LOCATION:391 Landa Street\, 391 Landa Street\, New Braunfels\, TX\, United States
CATEGORIES:Seminar
ATTACH;FMTTYPE=image/png:https://downtownnewbraunfels.com/wp-content/uploads/2024/09/Wills-and-Trusts-Seminar-Invite-CORRECTED0.png
END:VEVENT
BEGIN:VEVENT
DTSTART;TZID=America/Chicago:20240730T120000
DTEND;TZID=America/Chicago:20240730T130000
DTSTAMP:20260421T145235
CREATED:20240621T152634Z
LAST-MODIFIED:20240626T140337Z
UID:5251-1722340800-1722344400@downtownnewbraunfels.com
SUMMARY:Financial Planning Seminar 101
DESCRIPTION:Join us for an informative Financial Planning Seminar 101 where you can learn how to manage your finances like a pro! Our expert speakers will cover topics such as budgeting\, saving\, investing\, and retirement planning. Whether you’re just starting out or looking to enhance your financial knowledge\, this seminar is perfect for you. Don’t miss out on this opportunity to take control of your financial future! \nRegister Here \n 
URL:https://downtownnewbraunfels.com/event/financial-planning-seminar-101/2024-07-30/
LOCATION:Wohlstand Wealth Strategies\, 391 Landa St\, Suite 1116\, New Braunfels\, TX\, 78130\, United States
ATTACH;FMTTYPE=image/jpeg:https://downtownnewbraunfels.com/wp-content/uploads/2024/06/Seminar-Invite-July-2024-SMRU-Approved-JPEG-.jpg
END:VEVENT
END:VCALENDAR