BEGIN:VCALENDAR
VERSION:2.0
PRODID:-//New Braunfels Downtown - ECPv6.15.18//NONSGML v1.0//EN
CALSCALE:GREGORIAN
METHOD:PUBLISH
X-ORIGINAL-URL:https://downtownnewbraunfels.com
X-WR-CALDESC:Events for New Braunfels Downtown
REFRESH-INTERVAL;VALUE=DURATION:PT1H
X-Robots-Tag:noindex
X-PUBLISHED-TTL:PT1H
BEGIN:VTIMEZONE
TZID:America/Chicago
BEGIN:DAYLIGHT
TZOFFSETFROM:-0600
TZOFFSETTO:-0500
TZNAME:CDT
DTSTART:20250309T080000
END:DAYLIGHT
BEGIN:STANDARD
TZOFFSETFROM:-0500
TZOFFSETTO:-0600
TZNAME:CST
DTSTART:20251102T070000
END:STANDARD
BEGIN:DAYLIGHT
TZOFFSETFROM:-0600
TZOFFSETTO:-0500
TZNAME:CDT
DTSTART:20260308T080000
END:DAYLIGHT
BEGIN:STANDARD
TZOFFSETFROM:-0500
TZOFFSETTO:-0600
TZNAME:CST
DTSTART:20261101T070000
END:STANDARD
BEGIN:DAYLIGHT
TZOFFSETFROM:-0600
TZOFFSETTO:-0500
TZNAME:CDT
DTSTART:20270314T080000
END:DAYLIGHT
BEGIN:STANDARD
TZOFFSETFROM:-0500
TZOFFSETTO:-0600
TZNAME:CST
DTSTART:20271107T070000
END:STANDARD
END:VTIMEZONE
BEGIN:VEVENT
DTSTART;TZID=America/Chicago:20260430T090000
DTEND;TZID=America/Chicago:20260430T190000
DTSTAMP:20260423T105836
CREATED:20260422T210511Z
LAST-MODIFIED:20260422T210511Z
UID:9072-1777539600-1777575600@downtownnewbraunfels.com
SUMMARY:Canopy Collective: A Day to Gather\, Work & Unwind
DESCRIPTION:Join us for a full day of connection\, productivity\, and community at Canopy Collective! From 9:00 AM to 6:00 PM\, we’re opening our doors for a come-and-go coworking experience designed to help you feel inspired\, refreshed\, and supported. \nSet along the beautiful Comal River\, this is your chance to step out of your usual routine and into a space where work and wellness meet. Whether you’re stopping by for an hour or settling in for the day\, you’ll have access to high-speed WiFi\, comfortable coworking spaces\, and a welcoming environment surrounded by like-minded individuals. \nStart your morning with complimentary coffee and breakfast\, stay fueled with a delicious food truck for lunch\, and enjoy afternoon snacks to keep you going. We’ll also be offering free Pilates classes at 9:00 AM and 6:00 PM\, perfect for beginning or ending your day with intention and movement. \nWhile you’re here\, take a tour of Canopy Collective and experience what makes this space so special. From its peaceful riverfront setting to its thoughtfully designed gathering areas\, you’ll quickly see why it’s a place people love to work\, connect\, and unwind. \nCome as you are\, stay as long as you’d like\, and make the day your own.
URL:https://downtownnewbraunfels.com/event/canopy-collective-a-day-to-gather-work-unwind/
LOCATION:Canopy on the Comal\, 444 E. San Antonio St.\, New Braunfels\, TX\, 78130\, United States
CATEGORIES:Community
ATTACH;FMTTYPE=image/jpeg:https://downtownnewbraunfels.com/wp-content/uploads/2026/04/Canpoy-Collective.jpg
END:VEVENT
BEGIN:VEVENT
DTSTART;TZID=America/Chicago:20260509T100000
DTEND;TZID=America/Chicago:20260509T130000
DTSTAMP:20260423T105836
CREATED:20260407T201019Z
LAST-MODIFIED:20260407T201019Z
UID:8755-1778320800-1778331600@downtownnewbraunfels.com
SUMMARY:Mommy & Me Royal Tea Party
DESCRIPTION:Celebrate Mother’s Day in the most magical way at our Mommy & Me Royal Tea Party on May 9th at 10:00 AM. This enchanting experience invites little royals and their grown-ups to step into a storybook morning filled with tea\, sweet treats\, and unforgettable moments together. \nEnjoy a delightful tea service as beloved princesses visit each table\, sharing stories and creating personal\, interactive moments. Throughout the event\, live royal performances will bring fairytales to life\, while themed activities and coloring keep little ones engaged and inspired. \nThe celebration continues with a lively royal dance party where guests can twirl and join in the fun\, along with beautiful photo opportunities to capture every magical memory. As a special touch\, each mom will receive a thoughtful gift to make the day even more meaningful. \nEvery detail is designed to create a whimsical\, intimate\, and elevated experience for both children and their grown-ups—perfect for making lasting memories together. \nTickets are $45.00 per guest\, and all attendees ages 2 and up require a ticket. Early access for the Princess Pamper Experience begins at 9:15 AM. \nJoin us for a truly royal celebration you won’t want to miss!
URL:https://downtownnewbraunfels.com/event/mommy-me-royal-tea-party/
LOCATION:Canopy on the Comal\, 444 E. San Antonio St.\, New Braunfels\, TX\, 78130\, United States
CATEGORIES:Community,Family Friendly
ATTACH;FMTTYPE=image/jpeg:https://downtownnewbraunfels.com/wp-content/uploads/2026/04/Mommy-Me-Event-Flyer.jpg
END:VEVENT
END:VCALENDAR