BEGIN:VCALENDAR
VERSION:2.0
PRODID:-//New Braunfels Downtown - ECPv6.15.18//NONSGML v1.0//EN
CALSCALE:GREGORIAN
METHOD:PUBLISH
X-ORIGINAL-URL:https://downtownnewbraunfels.com
X-WR-CALDESC:Events for New Braunfels Downtown
REFRESH-INTERVAL;VALUE=DURATION:PT1H
X-Robots-Tag:noindex
X-PUBLISHED-TTL:PT1H
BEGIN:VTIMEZONE
TZID:America/Chicago
BEGIN:DAYLIGHT
TZOFFSETFROM:-0600
TZOFFSETTO:-0500
TZNAME:CDT
DTSTART:20240310T080000
END:DAYLIGHT
BEGIN:STANDARD
TZOFFSETFROM:-0500
TZOFFSETTO:-0600
TZNAME:CST
DTSTART:20241103T070000
END:STANDARD
BEGIN:DAYLIGHT
TZOFFSETFROM:-0600
TZOFFSETTO:-0500
TZNAME:CDT
DTSTART:20250309T080000
END:DAYLIGHT
BEGIN:STANDARD
TZOFFSETFROM:-0500
TZOFFSETTO:-0600
TZNAME:CST
DTSTART:20251102T070000
END:STANDARD
BEGIN:DAYLIGHT
TZOFFSETFROM:-0600
TZOFFSETTO:-0500
TZNAME:CDT
DTSTART:20260308T080000
END:DAYLIGHT
BEGIN:STANDARD
TZOFFSETFROM:-0500
TZOFFSETTO:-0600
TZNAME:CST
DTSTART:20261101T070000
END:STANDARD
END:VTIMEZONE
BEGIN:VEVENT
DTSTART;TZID=America/Chicago:20250313T173000
DTEND;TZID=America/Chicago:20250313T190000
DTSTAMP:20260421T055851
CREATED:20250206T203020Z
LAST-MODIFIED:20250228T170617Z
UID:6426-1741887000-1741892400@downtownnewbraunfels.com
SUMMARY:Flow & Know Yoga: Headwaters at the Comal
DESCRIPTION:Join the Sophienburg Museum & Archives in celebrating New Braunfels history at the Flow & Know event held the second Thursday of the month September 2024 through June 2025. Enjoy a one-hour yoga class held at 10 significant historical sites\, then sit back and relax and partake in a beverage while listening to short history lessons on the birth and growth of this fair city. \nCost for Flow & Know is $15 cash\, check\, or online\,proceeds benefiting The Sophienburg Museum & Archives. \nYoga class is designed for adults\, attracting men and women\, Children ages 12 and older are welcome to attend with their parent or guardian. Wear workout/exercise clothing\, bring a yoga mat (and other personal props that make you comfortable) and a smile. It’s fun\, challenging and connects you to group of like-minded people interested in community\, giving back and elevating the mind\, body and spirit. \nClasses are rain or shine. Please check The Sophienburg Museum’s website at https://www.sophienburg.com or the Facebook page at https://www.facebook.com/sophienburg.museum for details.
URL:https://downtownnewbraunfels.com/event/flow-know-yoga-the-island/
LOCATION:Headwaters at the Comal\, 333 E. Klingemann St.\, New Braunfels\, TX\, 78130\, United States
CATEGORIES:Arts & Culture
ATTACH;FMTTYPE=image/jpeg:https://downtownnewbraunfels.com/wp-content/uploads/2025/02/Flow-Know-Yoga-1.jpg
ORGANIZER;CN="Sophienburg Museum & Archives":MAILTO:401 W Coll St
GEO:29.721506;-98.1242596
X-APPLE-STRUCTURED-LOCATION;VALUE=URI;X-ADDRESS=Headwaters at the Comal 333 E. Klingemann St. New Braunfels TX 78130 United States;X-APPLE-RADIUS=500;X-TITLE=333 E. Klingemann St.:geo:-98.1242596,29.721506
END:VEVENT
END:VCALENDAR