BEGIN:VCALENDAR
VERSION:2.0
PRODID:-//New Braunfels Downtown - ECPv6.15.18//NONSGML v1.0//EN
CALSCALE:GREGORIAN
METHOD:PUBLISH
X-ORIGINAL-URL:https://downtownnewbraunfels.com
X-WR-CALDESC:Events for New Braunfels Downtown
REFRESH-INTERVAL;VALUE=DURATION:PT1H
X-Robots-Tag:noindex
X-PUBLISHED-TTL:PT1H
BEGIN:VTIMEZONE
TZID:America/Chicago
BEGIN:DAYLIGHT
TZOFFSETFROM:-0600
TZOFFSETTO:-0500
TZNAME:CDT
DTSTART:20200308T080000
END:DAYLIGHT
BEGIN:STANDARD
TZOFFSETFROM:-0500
TZOFFSETTO:-0600
TZNAME:CST
DTSTART:20201101T070000
END:STANDARD
BEGIN:DAYLIGHT
TZOFFSETFROM:-0600
TZOFFSETTO:-0500
TZNAME:CDT
DTSTART:20210314T080000
END:DAYLIGHT
BEGIN:STANDARD
TZOFFSETFROM:-0500
TZOFFSETTO:-0600
TZNAME:CST
DTSTART:20211107T070000
END:STANDARD
BEGIN:DAYLIGHT
TZOFFSETFROM:-0600
TZOFFSETTO:-0500
TZNAME:CDT
DTSTART:20220313T080000
END:DAYLIGHT
BEGIN:STANDARD
TZOFFSETFROM:-0500
TZOFFSETTO:-0600
TZNAME:CST
DTSTART:20221106T070000
END:STANDARD
BEGIN:DAYLIGHT
TZOFFSETFROM:-0600
TZOFFSETTO:-0500
TZNAME:CDT
DTSTART:20230312T080000
END:DAYLIGHT
BEGIN:STANDARD
TZOFFSETFROM:-0500
TZOFFSETTO:-0600
TZNAME:CST
DTSTART:20231105T070000
END:STANDARD
BEGIN:DAYLIGHT
TZOFFSETFROM:-0600
TZOFFSETTO:-0500
TZNAME:CDT
DTSTART:20240310T080000
END:DAYLIGHT
BEGIN:STANDARD
TZOFFSETFROM:-0500
TZOFFSETTO:-0600
TZNAME:CST
DTSTART:20241103T070000
END:STANDARD
BEGIN:DAYLIGHT
TZOFFSETFROM:-0600
TZOFFSETTO:-0500
TZNAME:CDT
DTSTART:20250309T080000
END:DAYLIGHT
BEGIN:STANDARD
TZOFFSETFROM:-0500
TZOFFSETTO:-0600
TZNAME:CST
DTSTART:20251102T070000
END:STANDARD
BEGIN:DAYLIGHT
TZOFFSETFROM:-0600
TZOFFSETTO:-0500
TZNAME:CDT
DTSTART:20260308T080000
END:DAYLIGHT
BEGIN:STANDARD
TZOFFSETFROM:-0500
TZOFFSETTO:-0600
TZNAME:CST
DTSTART:20261101T070000
END:STANDARD
END:VTIMEZONE
BEGIN:VEVENT
DTSTART;TZID=America/Chicago:20251004T100000
DTEND;TZID=America/Chicago:20251004T200000
DTSTAMP:20260424T061636
CREATED:20250929T201927Z
LAST-MODIFIED:20250929T203637Z
UID:7840-1759572000-1759608000@downtownnewbraunfels.com
SUMMARY:New Braunfels Style Show: Fashion-Jewelry-Art
DESCRIPTION:The New Braunfels Style Show presents an exclusive four-day art and design show in the heart of downtown New Braunfels. Held in the historic 1850’s German limestone and wood Lark Mason Gallery\, the event showcases Hill Country Exhibitors and compelling Speakers. In addition to visiting us during the day\, Friday\, Saturday\, Sunday\, we hope you will join us for the opening wine reception on Thursday at 7PM and on Friday when we are an official stop for the New Braunfels Wein & Bier Stroll. \nEvent Schedule  \nThursday\, October 2nd | 7:00–8:30 PM  \nOpening Night Wine Reception with Karen Akkerman\, Cellist‍ \nFriday\, October 3rd | 10 AM – 8 PM  \n●12:00-1:00 Brenda Coffee presents her biographical book Maya Blue: A Memoir of Survival (register for VIP seat and box lunch) \n● 3:00-3:30 Melissa Wilson: The Sophienburg Today and Tomorrow: a Vision for New Braunfels  \n● 4:00-4:30 Chef Kelyn Egbuka: She Leads: Female Creative Entrepreneurs in New Braunfels  \n● 5:00-8:00 New Braunfels Wein & Bier Stroll official stop \nSaturday\, October 4th | 10 AM – 8 PM  \n● 11:00-12:30 The Tea Charmer’s High Tea\, Jayna Owens\, owner \n(limited seating\, click here to purchase ticket)  \n● 1:00-1:45 Swanee Browning of The Hills Wedding Guide: Where to Start when Planning Your Event  \n● 2:30-3:00 John Wickham\, The Prince Solms Inn: Creating a Serene Escape in New Braunfels  \n● 3:30-4:00 Stacey Dicke: The New Braunfels Youth Collaborative  \n● 4:30-5:00 Cowboys and Cadillacs: Creating The Perfect Mocktail  \n● 5:15-5:45 April Ryan\, 2Tarts: New Braunfels\, An Entrepreneurial City: The Story of 2Tarts  \n● 6:00-6:30 Jacob Huereca\, Connections: Strengthening Communities\, One Youth and One Family at a Time  \n● 5:00-8:00 Cowboys and Cadillacs – Cash Bar  \n‍AND  \n● 5:00 – 8:00 Karen Akkerman\, Cellist \n‍Sunday\, October 5th | Noon–5:00 PM  \n● 12:15–12:45 Brandon Deitert\, Blumenmeisters: Flowers for a Beautiful Arrangement  \n● 1:00–1:45 Steven Ratliff: Fashioned in Flavor: A Wine Tasting Experience  \n● 2:30–3:00 Nataliya Borener\, Drift Home & Interiors: An Artisanal Eye: Designing Interiors for New Braunfels  \n● 3:15–4:00 Cameron Corzine\, Cowboys & Cadillacs: Building Your Personal Brand  \n● 4:00–4:45 Lark Mason\, Preserving New Braunfels: New Braunfels: A Cultural Experience\, A Vision for Our Future  \n‍ \nWe hope you will join us each day!
URL:https://downtownnewbraunfels.com/event/new-braunfels-style-show-fashion-jewelry-art/2025-10-04/
LOCATION:Meadowlark Garden and Gallery\, 210 W Mill Street\, New Braunfels\, TX\, 78130\, United States
ATTACH;FMTTYPE=image/jpeg:https://downtownnewbraunfels.com/wp-content/uploads/2025/09/NB-Style-Show_Final.jpg
GEO:29.7026691;-98.1270075
X-APPLE-STRUCTURED-LOCATION;VALUE=URI;X-ADDRESS=Meadowlark Garden and Gallery 210 W Mill Street New Braunfels TX 78130 United States;X-APPLE-RADIUS=500;X-TITLE=210 W Mill Street:geo:-98.1270075,29.7026691
END:VEVENT
BEGIN:VEVENT
DTSTART;TZID=America/Chicago:20250801T170000
DTEND;TZID=America/Chicago:20250801T200000
DTSTAMP:20260424T061636
CREATED:20250729T135138Z
LAST-MODIFIED:20250729T135138Z
UID:7415-1754067600-1754078400@downtownnewbraunfels.com
SUMMARY:First Friday Art Reception at Lark Mason Gallery featuring JENKINS2D
DESCRIPTION:First Friday | August 1st\, 5–8 PM \nJoin us for the final evening of Beautifying Grief — an immersive installation by @jenkins2d — featuring live painting by the artist and sweet treats from @2tartsbakery 🍰 \nDon’t miss this last chance to experience the exhibition before it closes.
URL:https://downtownnewbraunfels.com/event/first-friday-art-reception-at-lark-mason-gallery-featuring-jenkins2d/
LOCATION:Meadowlark Garden and Gallery\, 210 W Mill Street\, New Braunfels\, TX\, 78130\, United States
CATEGORIES:Arts & Culture
ATTACH;FMTTYPE=image/jpeg:https://downtownnewbraunfels.com/wp-content/uploads/2025/07/Jenkins_First-Friday.jpeg
GEO:29.7026691;-98.1270075
X-APPLE-STRUCTURED-LOCATION;VALUE=URI;X-ADDRESS=Meadowlark Garden and Gallery 210 W Mill Street New Braunfels TX 78130 United States;X-APPLE-RADIUS=500;X-TITLE=210 W Mill Street:geo:-98.1270075,29.7026691
END:VEVENT
BEGIN:VEVENT
DTSTART;TZID=America/Chicago:20250524T190000
DTEND;TZID=America/Chicago:20250524T210000
DTSTAMP:20260424T061636
CREATED:20250520T182602Z
LAST-MODIFIED:20250521T145625Z
UID:6961-1748113200-1748120400@downtownnewbraunfels.com
SUMMARY:DAYDREAM: INDULGE IN A PRIVATE DINNER WITH CHEF COLTER PECK
DESCRIPTION:We are proud to announce an upcoming event on Saturday\, May 24th at 7 pm featuring award-winning private chef Colter Peck at the Lark Mason Gallery. \nIn a specially curated private dining event\, Chef Peck will highlight his culinary technique with live fire cooking.\nThis evening’s menu will range from caviar to openly grilled tri-tip\, with many ingredients sourced from local farms and ranches.\nGuests can observe his on-site cooking in The Meadowlark garden\, and the elegant dining experience will be held in the upstairs art gallery\, where 17th-century Spanish Colonial paintings grace the walls. \nYou may buy tickets to this exclusive dinner on the NOSHLY website\, and seating is limited! \nHave an inspired and delicious culinary experience at The Meadowlark / Lark Mason Gallery. We hope to see you here!
URL:https://downtownnewbraunfels.com/event/daydream-indulge-in-a-private-dinner-with-chef-colter-peck/
LOCATION:Meadowlark Garden and Gallery\, 210 W Mill Street\, New Braunfels\, TX\, 78130\, United States
ATTACH;FMTTYPE=image/jpeg:https://downtownnewbraunfels.com/wp-content/uploads/2025/05/Colter.jpg
GEO:29.7026691;-98.1270075
X-APPLE-STRUCTURED-LOCATION;VALUE=URI;X-ADDRESS=Meadowlark Garden and Gallery 210 W Mill Street New Braunfels TX 78130 United States;X-APPLE-RADIUS=500;X-TITLE=210 W Mill Street:geo:-98.1270075,29.7026691
END:VEVENT
BEGIN:VEVENT
DTSTART;TZID=America/Chicago:20250325T170000
DTEND;TZID=America/Chicago:20250325T193000
DTSTAMP:20260424T061636
CREATED:20250322T143857Z
LAST-MODIFIED:20250322T143857Z
UID:6683-1742922000-1742931000@downtownnewbraunfels.com
SUMMARY:Our Beautiful City | A Vision for New Braunfels
DESCRIPTION:An exhibition\, panel discussion\, and light refreshments sponsored by Preserving New Braunfels.
URL:https://downtownnewbraunfels.com/event/our-beautiful-city-a-vision-for-new-braunfels/
LOCATION:Meadowlark Garden and Gallery\, 210 W Mill Street\, New Braunfels\, TX\, 78130\, United States
CATEGORIES:Arts & Culture
ATTACH;FMTTYPE=image/jpeg:https://downtownnewbraunfels.com/wp-content/uploads/2025/03/SpeakerInvitation_Final-scaled.jpg
GEO:29.7026691;-98.1270075
X-APPLE-STRUCTURED-LOCATION;VALUE=URI;X-ADDRESS=Meadowlark Garden and Gallery 210 W Mill Street New Braunfels TX 78130 United States;X-APPLE-RADIUS=500;X-TITLE=210 W Mill Street:geo:-98.1270075,29.7026691
END:VEVENT
BEGIN:VEVENT
DTSTART;TZID=America/Chicago:20250320T100000
DTEND;TZID=America/Chicago:20250320T160000
DTSTAMP:20260424T061636
CREATED:20250225T142542Z
LAST-MODIFIED:20250225T142542Z
UID:6570-1742464800-1742486400@downtownnewbraunfels.com
SUMMARY:Exhibition of Important Spanish Colonial Paintings and Ancient Asian Art
DESCRIPTION:This exhibition features beautifully framed Spanish colonial paintings from the 17th – 19th centuries. Also on exhibit are original Japanese anime cels\, ancient Chinese bronzes circa 1000 B.C.\, and ceramics from the Han Dynasty.\n\n\n\n\n\n\n\n\n\n 
URL:https://downtownnewbraunfels.com/event/exhibition-of-important-spanish-colonial-paintings-and-ancient-asian-art/2025-03-20/
LOCATION:Meadowlark Garden and Gallery\, 210 W Mill Street\, New Braunfels\, TX\, 78130\, United States
CATEGORIES:Arts & Culture
ATTACH;FMTTYPE=image/jpeg:https://downtownnewbraunfels.com/wp-content/uploads/2025/02/SpanishColonial2.jpg
GEO:29.7026691;-98.1270075
X-APPLE-STRUCTURED-LOCATION;VALUE=URI;X-ADDRESS=Meadowlark Garden and Gallery 210 W Mill Street New Braunfels TX 78130 United States;X-APPLE-RADIUS=500;X-TITLE=210 W Mill Street:geo:-98.1270075,29.7026691
END:VEVENT
BEGIN:VEVENT
DTSTART;TZID=America/Chicago:20250306T100000
DTEND;TZID=America/Chicago:20250327T160000
DTSTAMP:20260424T061636
CREATED:20250322T143918Z
LAST-MODIFIED:20250322T143918Z
UID:6685-1741255200-1743091200@downtownnewbraunfels.com
SUMMARY:Important Spanish Colonial Paintings and Ancient Asian Art
DESCRIPTION:This Free Exhibition features beautifully framed Spanish colonial paintings (17-19th c.)\, original Japanese anime cels\, ancient Chinese bronzes (circa 1000 B.C.)\, and Han Dynasty ceramics.
URL:https://downtownnewbraunfels.com/event/important-spanish-colonial-paintings-and-ancient-asian-art/
LOCATION:Meadowlark Garden and Gallery\, 210 W Mill Street\, New Braunfels\, TX\, 78130\, United States
CATEGORIES:Arts & Culture
ATTACH;FMTTYPE=image/png:https://downtownnewbraunfels.com/wp-content/uploads/2025/03/Exhibtion_Post.png
GEO:29.7026691;-98.1270075
X-APPLE-STRUCTURED-LOCATION;VALUE=URI;X-ADDRESS=Meadowlark Garden and Gallery 210 W Mill Street New Braunfels TX 78130 United States;X-APPLE-RADIUS=500;X-TITLE=210 W Mill Street:geo:-98.1270075,29.7026691
END:VEVENT
BEGIN:VEVENT
DTSTART;TZID=America/Chicago:20231118T100000
DTEND;TZID=America/Chicago:20231218T160000
DTSTAMP:20260424T061636
CREATED:20231113T210601Z
LAST-MODIFIED:20231113T214930Z
UID:4824-1700301600-1702915200@downtownnewbraunfels.com
SUMMARY:The Collection of Anne Eisenhower including Property from President and Mrs. Dwight D. Eisenhower
DESCRIPTION:Exhibiting property from President and Mrs. Dwight D. Eisenhower and the collection of granddaughter Anne Eisenhower\, a prominent NYC designer \n\n\n\n\nSaturday November 18\, 2023 \nOpening night party – free to public\n5-7 pm\nLark Mason Gallery 210 W Mill St.\nExhibiting property from President and Mrs Dwight D. Eisenhower and the collection of their granddaughter Anne Eisenhower\, a prominent NYC designer\n\n\nSpecial talks related to the Eisenhower legacy: \n\n\n\n\nSpace is limited. Contact chandler.gray@gmail.com to reserve a seat at one or more of the talks.  \nThursday\, Nov. 30 2023 \n\n\n\n\nDwight D. Eisenhower\, The Indispensable Man    5-6:30 p.m. \nSpeaker: Jeff Hunt\, director of the Texas Military Forces Museum at Camp Mabry\, Austin \n \nWednesday\, Dec. 6 2023 \nThe Importance of Family During Recovery and at End of Life   5-6:30 p.m \nSpeaker: Fletcher Doud Gill\, co-founder and CEO of Luke’s Wings Inc. \n \nWednesday\, Dec. 13 2023 \nDwight David Eisenhower: The First Texas Born President       5-6:30 p.m. \nSpeaker: John Akers\, Site Manager\, Eisenhower Birthplace State Historic Site
URL:https://downtownnewbraunfels.com/event/the-collection-of-anne-eisenhower-including-property-from-president-and-mrs-dwight-d-eisenhower/
LOCATION:Meadowlark Garden and Gallery\, 210 W Mill Street\, New Braunfels\, TX\, 78130\, United States
CATEGORIES:Arts & Culture,Featured
ATTACH;FMTTYPE=image/jpeg:https://downtownnewbraunfels.com/wp-content/uploads/2023/11/unnamed2-scaled.jpg
GEO:29.7026691;-98.1270075
X-APPLE-STRUCTURED-LOCATION;VALUE=URI;X-ADDRESS=Meadowlark Garden and Gallery 210 W Mill Street New Braunfels TX 78130 United States;X-APPLE-RADIUS=500;X-TITLE=210 W Mill Street:geo:-98.1270075,29.7026691
END:VEVENT
BEGIN:VEVENT
DTSTART;VALUE=DATE:20230116
DTEND;VALUE=DATE:20230127
DTSTAMP:20260424T061636
CREATED:20230116T170204Z
LAST-MODIFIED:20230116T172831Z
UID:4364-1673827200-1674777599@downtownnewbraunfels.com
SUMMARY:Fine Art Exhibition and Online Auction
DESCRIPTION:Lark Mason Gallery has recently uploaded a new auction to the website and have a lovely exhibition of some of the top items on display at their downtown NB gallery. The exhibition has the following items on display: fine jewelry including a Patek Philippe pocket watch\, a large amount of Native American jewelry\, luxury handbags and suitcases including a large Louis Vuitton wardrobe trunk\, several beautiful Chinese robes\, a Martin Luther King Jr. Memorial Cube Bronze Maquette\, and a pair of Contemporary Velvet ‘Getsuen’ Lily Armchairs by Masanori Umeda. \nThe gallery is open Tues-Sat from 10-4pm and is located at 210 W. Mill Street\, New Braunfels \n  \n \n 
URL:https://downtownnewbraunfels.com/event/fine-art-exhibition-and-online-auction/
LOCATION:Meadowlark Garden and Gallery\, 210 W Mill Street\, New Braunfels\, TX\, 78130\, United States
ATTACH;FMTTYPE=image/jpeg:https://downtownnewbraunfels.com/wp-content/uploads/2023/01/Jan-2023-exhibition.jpg
GEO:29.7026691;-98.1270075
X-APPLE-STRUCTURED-LOCATION;VALUE=URI;X-ADDRESS=Meadowlark Garden and Gallery 210 W Mill Street New Braunfels TX 78130 United States;X-APPLE-RADIUS=500;X-TITLE=210 W Mill Street:geo:-98.1270075,29.7026691
END:VEVENT
BEGIN:VEVENT
DTSTART;TZID=America/Chicago:20220224T173000
DTEND;TZID=America/Chicago:20220224T193000
DTSTAMP:20260424T061636
CREATED:20220201T182401Z
LAST-MODIFIED:20220201T182401Z
UID:3824-1645723800-1645731000@downtownnewbraunfels.com
SUMMARY:Meet the Artists Art Mixer
DESCRIPTION:MEET THE ARTISTS! The Greater NB Arts Council is hosting our first ART MIXER of 2022! Come escape from reality with unique art\, mingle with talented artists\, and enjoy an evening of creative and inspirational conversation! A $5.00 donation fee gets you 1 beverage\, snacks and artistic company!
URL:https://downtownnewbraunfels.com/event/meet-the-artists-art-mixer/
LOCATION:Meadowlark Garden and Gallery\, 210 W Mill Street\, New Braunfels\, TX\, 78130\, United States
CATEGORIES:Arts & Culture,Featured
ATTACH;FMTTYPE=image/jpeg:https://downtownnewbraunfels.com/wp-content/uploads/2022/02/272478708_3123800607882620_1954309154667313672_n.jpg
GEO:29.7026691;-98.1270075
X-APPLE-STRUCTURED-LOCATION;VALUE=URI;X-ADDRESS=Meadowlark Garden and Gallery 210 W Mill Street New Braunfels TX 78130 United States;X-APPLE-RADIUS=500;X-TITLE=210 W Mill Street:geo:-98.1270075,29.7026691
END:VEVENT
BEGIN:VEVENT
DTSTART;TZID=America/Chicago:20210630T100000
DTEND;TZID=America/Chicago:20210707T160000
DTSTAMP:20260424T061636
CREATED:20210630T183207Z
LAST-MODIFIED:20210630T183207Z
UID:3741-1625047200-1625673600@downtownnewbraunfels.com
SUMMARY:Fine & Decorative Arts Auction Exhibition
DESCRIPTION:Now open\, an auction exhibition features highlights from a sale with over 400 lots of paintings\, sculpture\, furniture\, silver\, jewelry\, rugs\, Asian works of art and lighting–some of which belonged to a prominent Connecticut collector.\nThe exhibition is located at Lark Mason Gallery\, 210 W. Mill Street\, New Braunfels and is open to the public Tuesday to Saturday from 10-4pm now until July 7th. Please note\, some of the lots in the sale are located in our NYC gallery and are available for viewing by appointment only.\nClick here to view all lots in both sales: https://bid.igavelauctions.com/AuctionHelp.taf…\nFor any questions regarding the exhibition or sale\, please contact: 212-289-5524 or office@larkmasonassociates.com.
URL:https://downtownnewbraunfels.com/event/fine-decorative-arts-auction-exhibition/
LOCATION:Meadowlark Garden and Gallery\, 210 W Mill Street\, New Braunfels\, TX\, 78130\, United States
CATEGORIES:Arts & Culture
ATTACH;FMTTYPE=image/jpeg:https://downtownnewbraunfels.com/wp-content/uploads/2021/06/tempImagem1DCZO.jpg
GEO:29.7026691;-98.1270075
X-APPLE-STRUCTURED-LOCATION;VALUE=URI;X-ADDRESS=Meadowlark Garden and Gallery 210 W Mill Street New Braunfels TX 78130 United States;X-APPLE-RADIUS=500;X-TITLE=210 W Mill Street:geo:-98.1270075,29.7026691
END:VEVENT
BEGIN:VEVENT
DTSTART;TZID=America/Chicago:20210518T100000
DTEND;TZID=America/Chicago:20210615T160000
DTSTAMP:20260424T061636
CREATED:20210519T172833Z
LAST-MODIFIED:20210519T172833Z
UID:3694-1621332000-1623772800@downtownnewbraunfels.com
SUMMARY:Currier & Ives and Other Prints presented by Lark Mason Associates
DESCRIPTION:Now open\, an art exhibition featuring an important private collection of works by Currier & Ives\, with hundreds of prints including many of their iconic images. Also on exhibit are several decorative works of art that will be available for auction in an upcoming summer sale. The exhibition is located at Lark Mason Gallery\, 210 W. Mill Street\, New Braunfels and is open to the public Tuesday to Saturday from 10-4pm now until June 15. Please note\, some of the lots in the sale are located in our NYC gallery and are available for viewing by appointment only. \nAs there is such a large quantity of works in this sale\, it has been split into two sessions. Sale dates are as follows. \nSession One: May 18–June 3\, 2021\nSession Two: May 27–June 15\, 2021 \nClick here to view all lots in both sales: https://bid.igavelauctions.com/AuctionHelp.taf?keyword=C1V&days=10&st=1&S=N \nFor any questions regarding the exhibition or sale\, please contact: 212-289-5524 or office@larkmasonassociates.com.
URL:https://downtownnewbraunfels.com/event/currier-ives-and-other-prints-presented-by-lark-mason-associates/
LOCATION:Meadowlark Garden and Gallery\, 210 W Mill Street\, New Braunfels\, TX\, 78130\, United States
CATEGORIES:Arts & Culture
ATTACH;FMTTYPE=image/jpeg:https://downtownnewbraunfels.com/wp-content/uploads/2021/05/American-Forest-Game.jpg
GEO:29.7026691;-98.1270075
X-APPLE-STRUCTURED-LOCATION;VALUE=URI;X-ADDRESS=Meadowlark Garden and Gallery 210 W Mill Street New Braunfels TX 78130 United States;X-APPLE-RADIUS=500;X-TITLE=210 W Mill Street:geo:-98.1270075,29.7026691
END:VEVENT
BEGIN:VEVENT
DTSTART;TZID=America/Chicago:20210210T100000
DTEND;TZID=America/Chicago:20210330T160000
DTSTAMP:20260424T061636
CREATED:20210210T165604Z
LAST-MODIFIED:20210310T220135Z
UID:3567-1612951200-1617120000@downtownnewbraunfels.com
SUMMARY:Rare Books and Incunabula Exhibition
DESCRIPTION:Open to the public Tuesdays through Saturdays\, 10:00 am – 4:00 pm. \nRanging from extremely rare 15th and 16th century texts to signed first editions of Ayn Rand\, this sale encompasses 6 centuries of humanities drive to record and share information. The topics are varied\, including early15th century religious and historic texts such as S. Bonaventure’s Pauper’s Bible and History of Alexander the Great\, both 15th century\, a 1793 version of Adam Smith’s the Wealth of Nations\, and a mixed The Decline and Fall of the Roman Empire by Edward Gibbons\, including first editions. Many of the texts are very desirable and fit well into the classic western library such as John Dryden’s translation of the works of Virgil\, and Sir Walter Raleigh’s History of the World.  \nWorks like these influenced the founding fathers in their creation of our great Union and helped to form the foundation for the world as we know it today. They are held in great libraries throughout the world and seldom seen outside of their confines. We are happy to share this important collection with those able to visit our gallery in New Braunfels\, TX and if you can’t see them in person\, take a look online.
URL:https://downtownnewbraunfels.com/event/rare-books-and-incunabula-exhibition/
LOCATION:Meadowlark Garden and Gallery\, 210 W Mill Street\, New Braunfels\, TX\, 78130\, United States
ATTACH;FMTTYPE=image/jpeg:https://downtownnewbraunfels.com/wp-content/uploads/2021/02/DSC015462.jpg
GEO:29.7026691;-98.1270075
X-APPLE-STRUCTURED-LOCATION;VALUE=URI;X-ADDRESS=Meadowlark Garden and Gallery 210 W Mill Street New Braunfels TX 78130 United States;X-APPLE-RADIUS=500;X-TITLE=210 W Mill Street:geo:-98.1270075,29.7026691
END:VEVENT
BEGIN:VEVENT
DTSTART;TZID=America/Chicago:20210210T100000
DTEND;TZID=America/Chicago:20210218T160000
DTSTAMP:20260424T061636
CREATED:20210210T165716Z
LAST-MODIFIED:20210211T171827Z
UID:3564-1612951200-1613664000@downtownnewbraunfels.com
SUMMARY:Fine Art from a Texas Collector Exhibition
DESCRIPTION:Open to the Public Tuesdays through Saturdays\, 10:00 am – 4:00 pm.\n Featuring American and European artists alike with highlights from Edouard-Leon Cortes\, Marcel Dyf\, Antoine Blanchard\, Paul August Aizpiri\, Elias Newman\, Constantine Kluge\, and Raymond Thibesart. One of the most notable artists featured in the sale is F.L. “Doc” Spellmon\, a highly celebrated African American artist out of San Antonio. Spellmon was known as a Folk artist who painted in several styles\, exploring both abstraction and figural works. His art is appreciated because of various themes in his work\, including American life\, religion\, and the exploration of different cultures or communities within American society.
URL:https://downtownnewbraunfels.com/event/fine-art-from-a-texas-collector-exhibition/
LOCATION:Meadowlark Garden and Gallery\, 210 W Mill Street\, New Braunfels\, TX\, 78130\, United States
ATTACH;FMTTYPE=image/jpeg:https://downtownnewbraunfels.com/wp-content/uploads/2021/02/FD4A-banner.jpg
GEO:29.7026691;-98.1270075
X-APPLE-STRUCTURED-LOCATION;VALUE=URI;X-ADDRESS=Meadowlark Garden and Gallery 210 W Mill Street New Braunfels TX 78130 United States;X-APPLE-RADIUS=500;X-TITLE=210 W Mill Street:geo:-98.1270075,29.7026691
END:VEVENT
END:VCALENDAR