BEGIN:VCALENDAR
VERSION:2.0
PRODID:-//New Braunfels Downtown - ECPv6.15.18//NONSGML v1.0//EN
CALSCALE:GREGORIAN
METHOD:PUBLISH
X-WR-CALNAME:New Braunfels Downtown
X-ORIGINAL-URL:https://downtownnewbraunfels.com
X-WR-CALDESC:Events for New Braunfels Downtown
REFRESH-INTERVAL;VALUE=DURATION:PT1H
X-Robots-Tag:noindex
X-PUBLISHED-TTL:PT1H
BEGIN:VTIMEZONE
TZID:America/Chicago
BEGIN:DAYLIGHT
TZOFFSETFROM:-0600
TZOFFSETTO:-0500
TZNAME:CDT
DTSTART:20180311T080000
END:DAYLIGHT
BEGIN:STANDARD
TZOFFSETFROM:-0500
TZOFFSETTO:-0600
TZNAME:CST
DTSTART:20181104T070000
END:STANDARD
BEGIN:DAYLIGHT
TZOFFSETFROM:-0600
TZOFFSETTO:-0500
TZNAME:CDT
DTSTART:20190310T080000
END:DAYLIGHT
BEGIN:STANDARD
TZOFFSETFROM:-0500
TZOFFSETTO:-0600
TZNAME:CST
DTSTART:20191103T070000
END:STANDARD
BEGIN:DAYLIGHT
TZOFFSETFROM:-0600
TZOFFSETTO:-0500
TZNAME:CDT
DTSTART:20200308T080000
END:DAYLIGHT
BEGIN:STANDARD
TZOFFSETFROM:-0500
TZOFFSETTO:-0600
TZNAME:CST
DTSTART:20201101T070000
END:STANDARD
BEGIN:DAYLIGHT
TZOFFSETFROM:-0600
TZOFFSETTO:-0500
TZNAME:CDT
DTSTART:20210314T080000
END:DAYLIGHT
BEGIN:STANDARD
TZOFFSETFROM:-0500
TZOFFSETTO:-0600
TZNAME:CST
DTSTART:20211107T070000
END:STANDARD
BEGIN:DAYLIGHT
TZOFFSETFROM:-0600
TZOFFSETTO:-0500
TZNAME:CDT
DTSTART:20220313T080000
END:DAYLIGHT
BEGIN:STANDARD
TZOFFSETFROM:-0500
TZOFFSETTO:-0600
TZNAME:CST
DTSTART:20221106T070000
END:STANDARD
END:VTIMEZONE
BEGIN:VEVENT
DTSTART;TZID=America/Chicago:20210501T170000
DTEND;TZID=America/Chicago:20210501T210000
DTSTAMP:20260424T171149
CREATED:20210426T134209Z
LAST-MODIFIED:20210426T135039Z
UID:3682-1619888400-1619902800@downtownnewbraunfels.com
SUMMARY:Craft Biergarten at Wein & Saengerfest
DESCRIPTION:Wein & Saengerfest is Saturday\, May 1!\nJoin us at the New Braunfels Downtown Association’s Craft Biergarten from 5:00 – 9:00 pm \nBuy your commemorative\, limited-edition 2021 Craft Biergarten pint glass for $20.00\, which includes one beer. \nThis is a limited edition\, so reserve your glass now and pick it up at our booth on Main Plaza\nhttps://checkout.square.site/buy/3LMS5ELICUFTMBQVULTPNPTX
URL:https://downtownnewbraunfels.com/event/craft-biergarten-at-wein-saengerfest-2/
LOCATION:Main Plaza Downtown New Braunfels
CATEGORIES:Featured
ATTACH;FMTTYPE=image/jpeg:https://downtownnewbraunfels.com/wp-content/uploads/2021/04/IMG_1233-copy.jpg
END:VEVENT
BEGIN:VEVENT
DTSTART;TZID=America/Chicago:20190704T084500
DTEND;TZID=America/Chicago:20190704T110000
DTSTAMP:20260424T171149
CREATED:20190614T012231Z
LAST-MODIFIED:20190614T012231Z
UID:2785-1562229900-1562238000@downtownnewbraunfels.com
SUMMARY:Patriotic Parade and Program
DESCRIPTION:Patriotic Parade and Program\nThursday\, July 4\, 2019\n \n9:15 a.m.\, Main Plaza\, Downtown New Braunfels \nFun for the entire family!\nEveryone is welcome to walk or ride! \nParticipants must have a patriotic theme. \nAPPLICATION REQUIRED FOR ENTRY (PDF)\n**$75 entry fee for those campaigning for election or re-election**\nEvent sponsored by the Sophienburg Museum in coordination with the City of New Braunfels and the Parks and Recreation Department. \nParade entries line up in the church parking lot of Saints Peter and Paul Catholic Church (Bridge and Castell Streets). \nTo enter the parade\, stop by the Sophienburg Museum for an application or download the application. For more information\, please call 830-629-1572. \n8:45 a.m.\nThe Comal Community Band begins performing at the historic bandstand on the Plaza. \n9:15 a.m.\nParade Route: Begins in the Saints Peter and Paul Church parking lot\, goes down Castell Street\, turns left on San Antonio Street\, continues around the Plaza three-fourths of the way\, turns right on Seguin Avenue (between the Courthouse and New Braunfels Coffee). Parade disbands after the Courthouse at Seguin Avenue and Mill Street. Parade vehicles and trailers are to turn left on West Zink Street to reach the Saints Peter and Paul parking lot. Entrants will want to quickly return to the Plaza for the program. \n10:00 a.m.\nPatriotic Program at the Bandstand begins as soon as the parade is over. The program traditionally lasts about an hour and has included the presentation of the colors\, a welcome\, an invocation\, special music\, remarks by New Braunfels city officials\, a benediction\, retiring of the colors and playing of the bells.
URL:https://downtownnewbraunfels.com/event/patriotic-parade-and-program/
LOCATION:Main Plaza Downtown New Braunfels
CATEGORIES:Featured
END:VEVENT
BEGIN:VEVENT
DTSTART;TZID=America/Chicago:20190527T090000
DTEND;TZID=America/Chicago:20190527T100000
DTSTAMP:20260424T171149
CREATED:20190417T010911Z
LAST-MODIFIED:20190417T010911Z
UID:2685-1558947600-1558951200@downtownnewbraunfels.com
SUMMARY:Memorial Day on the Plaza
DESCRIPTION:
URL:https://downtownnewbraunfels.com/event/memorial-day-on-the-plaza/
LOCATION:Main Plaza Downtown New Braunfels
ATTACH;FMTTYPE=application/pdf:https://downtownnewbraunfels.com/wp-content/uploads/2019/04/Memorial-Day-on-the-Plaza.pdf
END:VEVENT
END:VCALENDAR