BEGIN:VCALENDAR
VERSION:2.0
PRODID:-//New Braunfels Downtown - ECPv6.15.18//NONSGML v1.0//EN
CALSCALE:GREGORIAN
METHOD:PUBLISH
X-ORIGINAL-URL:https://downtownnewbraunfels.com
X-WR-CALDESC:Events for New Braunfels Downtown
REFRESH-INTERVAL;VALUE=DURATION:PT1H
X-Robots-Tag:noindex
X-PUBLISHED-TTL:PT1H
BEGIN:VTIMEZONE
TZID:America/Chicago
BEGIN:DAYLIGHT
TZOFFSETFROM:-0600
TZOFFSETTO:-0500
TZNAME:CDT
DTSTART:20200308T080000
END:DAYLIGHT
BEGIN:STANDARD
TZOFFSETFROM:-0500
TZOFFSETTO:-0600
TZNAME:CST
DTSTART:20201101T070000
END:STANDARD
BEGIN:DAYLIGHT
TZOFFSETFROM:-0600
TZOFFSETTO:-0500
TZNAME:CDT
DTSTART:20210314T080000
END:DAYLIGHT
BEGIN:STANDARD
TZOFFSETFROM:-0500
TZOFFSETTO:-0600
TZNAME:CST
DTSTART:20211107T070000
END:STANDARD
BEGIN:DAYLIGHT
TZOFFSETFROM:-0600
TZOFFSETTO:-0500
TZNAME:CDT
DTSTART:20220313T080000
END:DAYLIGHT
BEGIN:STANDARD
TZOFFSETFROM:-0500
TZOFFSETTO:-0600
TZNAME:CST
DTSTART:20221106T070000
END:STANDARD
END:VTIMEZONE
BEGIN:VEVENT
DTSTART;TZID=America/Chicago:20210316T100000
DTEND;TZID=America/Chicago:20210416T170000
DTSTAMP:20260421T072829
CREATED:20210114T193346Z
LAST-MODIFIED:20210210T170246Z
UID:3530-1615888800-1618592400@downtownnewbraunfels.com
SUMMARY:Special Show:   Iconic New Braunfels 175th Celebration
DESCRIPTION:The New Braunfels Art League will be sponsoring a Special Show in March in recognition of the 175th Birthday of our special town. We will be encouraging artists to submit artwork that depicts the Iconic places and concepts that say “New Braunfels.”
URL:https://downtownnewbraunfels.com/event/special-show-iconic-new-braunfels-175th-celebration/
LOCATION:New Braunfels Art League\, 239 W San Antonio St\, New Braunfels\, TX\, 78130\, United States
ATTACH;FMTTYPE=image/jpeg:https://downtownnewbraunfels.com/wp-content/uploads/2021/01/2014NBAL_Logo_Universal.jpg
GEO:29.7014046;-98.1256422
X-APPLE-STRUCTURED-LOCATION;VALUE=URI;X-ADDRESS=New Braunfels Art League 239 W San Antonio St New Braunfels TX 78130 United States;X-APPLE-RADIUS=500;X-TITLE=239 W San Antonio St:geo:-98.1256422,29.7014046
END:VEVENT
END:VCALENDAR