BEGIN:VCALENDAR
VERSION:2.0
PRODID:-//New Braunfels Downtown - ECPv6.15.18//NONSGML v1.0//EN
CALSCALE:GREGORIAN
METHOD:PUBLISH
X-WR-CALNAME:New Braunfels Downtown
X-ORIGINAL-URL:https://downtownnewbraunfels.com
X-WR-CALDESC:Events for New Braunfels Downtown
REFRESH-INTERVAL;VALUE=DURATION:PT1H
X-Robots-Tag:noindex
X-PUBLISHED-TTL:PT1H
BEGIN:VTIMEZONE
TZID:America/Chicago
BEGIN:DAYLIGHT
TZOFFSETFROM:-0600
TZOFFSETTO:-0500
TZNAME:CDT
DTSTART:20170312T080000
END:DAYLIGHT
BEGIN:STANDARD
TZOFFSETFROM:-0500
TZOFFSETTO:-0600
TZNAME:CST
DTSTART:20171105T070000
END:STANDARD
BEGIN:DAYLIGHT
TZOFFSETFROM:-0600
TZOFFSETTO:-0500
TZNAME:CDT
DTSTART:20180311T080000
END:DAYLIGHT
BEGIN:STANDARD
TZOFFSETFROM:-0500
TZOFFSETTO:-0600
TZNAME:CST
DTSTART:20181104T070000
END:STANDARD
BEGIN:DAYLIGHT
TZOFFSETFROM:-0600
TZOFFSETTO:-0500
TZNAME:CDT
DTSTART:20190310T080000
END:DAYLIGHT
BEGIN:STANDARD
TZOFFSETFROM:-0500
TZOFFSETTO:-0600
TZNAME:CST
DTSTART:20191103T070000
END:STANDARD
BEGIN:DAYLIGHT
TZOFFSETFROM:-0600
TZOFFSETTO:-0500
TZNAME:CDT
DTSTART:20200308T080000
END:DAYLIGHT
BEGIN:STANDARD
TZOFFSETFROM:-0500
TZOFFSETTO:-0600
TZNAME:CST
DTSTART:20201101T070000
END:STANDARD
BEGIN:DAYLIGHT
TZOFFSETFROM:-0600
TZOFFSETTO:-0500
TZNAME:CDT
DTSTART:20210314T080000
END:DAYLIGHT
BEGIN:STANDARD
TZOFFSETFROM:-0500
TZOFFSETTO:-0600
TZNAME:CST
DTSTART:20211107T070000
END:STANDARD
BEGIN:DAYLIGHT
TZOFFSETFROM:-0600
TZOFFSETTO:-0500
TZNAME:CDT
DTSTART:20220313T080000
END:DAYLIGHT
BEGIN:STANDARD
TZOFFSETFROM:-0500
TZOFFSETTO:-0600
TZNAME:CST
DTSTART:20221106T070000
END:STANDARD
BEGIN:DAYLIGHT
TZOFFSETFROM:-0600
TZOFFSETTO:-0500
TZNAME:CDT
DTSTART:20230312T080000
END:DAYLIGHT
BEGIN:STANDARD
TZOFFSETFROM:-0500
TZOFFSETTO:-0600
TZNAME:CST
DTSTART:20231105T070000
END:STANDARD
BEGIN:DAYLIGHT
TZOFFSETFROM:-0600
TZOFFSETTO:-0500
TZNAME:CDT
DTSTART:20240310T080000
END:DAYLIGHT
BEGIN:STANDARD
TZOFFSETFROM:-0500
TZOFFSETTO:-0600
TZNAME:CST
DTSTART:20241103T070000
END:STANDARD
BEGIN:DAYLIGHT
TZOFFSETFROM:-0600
TZOFFSETTO:-0500
TZNAME:CDT
DTSTART:20250309T080000
END:DAYLIGHT
BEGIN:STANDARD
TZOFFSETFROM:-0500
TZOFFSETTO:-0600
TZNAME:CST
DTSTART:20251102T070000
END:STANDARD
BEGIN:DAYLIGHT
TZOFFSETFROM:-0600
TZOFFSETTO:-0500
TZNAME:CDT
DTSTART:20260308T080000
END:DAYLIGHT
BEGIN:STANDARD
TZOFFSETFROM:-0500
TZOFFSETTO:-0600
TZNAME:CST
DTSTART:20261101T070000
END:STANDARD
END:VTIMEZONE
BEGIN:VEVENT
DTSTART;TZID=America/Chicago:20250906T100000
DTEND;TZID=America/Chicago:20250906T150000
DTSTAMP:20260424T140811
CREATED:20250904T013143Z
LAST-MODIFIED:20250904T013143Z
UID:7694-1757152800-1757170800@downtownnewbraunfels.com
SUMMARY:Fiesta Patria: La Calera
DESCRIPTION:Sophienburg Museum & Archives Presents Fiesta Patria \nPlease Join Us! \nIn Celebrating the Hispanic Heritage of Comal County \n  \n“La Calera” \nEl Pueblo Que Era • The Town That Was \n  \nSaturday\, September 6\, 2025\, 10AM – 3PM \n  \nSophienburg Museum \n401 W. Coll St. \nNew Braunfels\, TX 78130 \n  \nFood • Activities • Entertainment \n  \nFree Museum Admission
URL:https://downtownnewbraunfels.com/event/fiesta-patria-la-calera-2/
LOCATION:Sophienburg Museum & Archives\, 401 W Coll St\, New Braunfels\, TX\, 78130\, United States
CATEGORIES:Arts & Culture,Community,Family Friendly,Live Music
ATTACH;FMTTYPE=image/jpeg:https://downtownnewbraunfels.com/wp-content/uploads/2025/09/1000012494-scaled.jpg
ORGANIZER;CN="Sophienburg Museum & Archives":MAILTO:401 W Coll St
GEO:29.6978209;-98.1241527
X-APPLE-STRUCTURED-LOCATION;VALUE=URI;X-ADDRESS=Sophienburg Museum & Archives 401 W Coll St New Braunfels TX 78130 United States;X-APPLE-RADIUS=500;X-TITLE=401 W Coll St:geo:-98.1241527,29.6978209
END:VEVENT
BEGIN:VEVENT
DTSTART;TZID=America/Chicago:20250906T100000
DTEND;TZID=America/Chicago:20250906T150000
DTSTAMP:20260424T140811
CREATED:20250904T013040Z
LAST-MODIFIED:20250904T013040Z
UID:7696-1757152800-1757170800@downtownnewbraunfels.com
SUMMARY:Fiesta Patria: La Calera
DESCRIPTION:Sophienburg Museum & Archives Presents Fiesta Patria \nPlease Join Us! \nIn Celebrating the Hispanic Heritage of Comal County \n  \n“La Calera” \nEl Pueblo Que Era • The Town That Was \n  \nSaturday\, September 6\, 2025\, 10AM – 3PM \n  \nSophienburg Museum \n401 W. Coll St. \nNew Braunfels\, TX 78130 \n  \nFood • Activities • Entertainment \n  \nFree Museum Admission
URL:https://downtownnewbraunfels.com/event/fiesta-patria-la-calera/
LOCATION:Sophienburg Museum & Archives\, 401 W Coll St\, New Braunfels\, TX\, 78130\, United States
CATEGORIES:Arts & Culture,Community,Family Friendly,Live Music
ATTACH;FMTTYPE=image/jpeg:https://downtownnewbraunfels.com/wp-content/uploads/2025/09/1000012494-1-scaled.jpg
ORGANIZER;CN="Sophienburg Museum & Archives":MAILTO:401 W Coll St
GEO:29.6978209;-98.1241527
X-APPLE-STRUCTURED-LOCATION;VALUE=URI;X-ADDRESS=Sophienburg Museum & Archives 401 W Coll St New Braunfels TX 78130 United States;X-APPLE-RADIUS=500;X-TITLE=401 W Coll St:geo:-98.1241527,29.6978209
END:VEVENT
BEGIN:VEVENT
DTSTART;TZID=America/Chicago:20250820T090000
DTEND;TZID=America/Chicago:20250820T103000
DTSTAMP:20260424T140811
CREATED:20250430T160832Z
LAST-MODIFIED:20250430T160832Z
UID:6846-1755680400-1755685800@downtownnewbraunfels.com
SUMMARY:Kaffeeklatsch
DESCRIPTION:Join us for a morning coffee break with a German twist.  Make new and meet old friends while creating a unique ornament.  Sip a cup of coffee and enjoy a sweet treat.  This month’s ornament will be a felted wool ball with embroidery ornament. \nDo all this at the historic Emmie Seele Faust Library at the Sophienburg Museum and Archives\, 401 W. Coll St.\, New Braunfels\, TX 78130. \n$10 per person \nReserve your spot by purchasing tickets online at:  Sophienburg Museum and Archives – Tickets
URL:https://downtownnewbraunfels.com/event/kaffeeklatsch-6/
LOCATION:Sophienburg Museum & Archives\, 401 W Coll St\, New Braunfels\, TX\, 78130\, United States
CATEGORIES:Arts & Culture,Community
ATTACH;FMTTYPE=image/png:https://downtownnewbraunfels.com/wp-content/uploads/2025/04/new-image-for-kaffeeklatsch-3.png
ORGANIZER;CN="Sophienburg Museum & Archives":MAILTO:401 W Coll St
GEO:29.6978209;-98.1241527
X-APPLE-STRUCTURED-LOCATION;VALUE=URI;X-ADDRESS=Sophienburg Museum & Archives 401 W Coll St New Braunfels TX 78130 United States;X-APPLE-RADIUS=500;X-TITLE=401 W Coll St:geo:-98.1241527,29.6978209
END:VEVENT
BEGIN:VEVENT
DTSTART;TZID=America/Chicago:20250716T090000
DTEND;TZID=America/Chicago:20250716T103000
DTSTAMP:20260424T140811
CREATED:20250430T160811Z
LAST-MODIFIED:20250430T160811Z
UID:6844-1752656400-1752661800@downtownnewbraunfels.com
SUMMARY:Kaffeeklatsch
DESCRIPTION:Join us for a morning coffee break with a German twist.  Make new and meet old friends while creating a unique ornament.  Sip a cup of coffee and enjoy a sweet treat.  This month’s ornament will be a terra cotta ornament. \nDo all this at the historic Emmie Seele Faust Library at the Sophienburg Museum and Archives\, 401 W. Coll St.\, New Braunfels\, TX 78130. \n$10 per person \nReserve your spot by purchasing tickets online at:  Sophienburg Museum and Archives – Tickets
URL:https://downtownnewbraunfels.com/event/kaffeeklatsch-5/
LOCATION:Sophienburg Museum & Archives\, 401 W Coll St\, New Braunfels\, TX\, 78130\, United States
CATEGORIES:Arts & Culture,Community
ATTACH;FMTTYPE=image/png:https://downtownnewbraunfels.com/wp-content/uploads/2025/04/new-image-for-kaffeeklatsch-2.png
ORGANIZER;CN="Sophienburg Museum & Archives":MAILTO:401 W Coll St
GEO:29.6978209;-98.1241527
X-APPLE-STRUCTURED-LOCATION;VALUE=URI;X-ADDRESS=Sophienburg Museum & Archives 401 W Coll St New Braunfels TX 78130 United States;X-APPLE-RADIUS=500;X-TITLE=401 W Coll St:geo:-98.1241527,29.6978209
END:VEVENT
BEGIN:VEVENT
DTSTART;TZID=America/Chicago:20250708T130000
DTEND;TZID=America/Chicago:20250710T160000
DTSTAMP:20260424T140811
CREATED:20250404T222015Z
LAST-MODIFIED:20250404T222015Z
UID:6729-1751979600-1752163200@downtownnewbraunfels.com
SUMMARY:Summer Camp-Printing & History Adventure 7th-8th grade
DESCRIPTION:Join us for an exciting 3-day summer camp that brings the fascinating world of printing and local history to life for incoming 7th-8th graders at The Sophienburg Museum\, 401 W. Coll St.  Cost is $75. per camper which includes all supplies\, snacks\, and t-shirt.  See The Sophienburg website for more details and registration. \nSophienburg Museum and Archives – Summer Camp – June 10-12\, 2025
URL:https://downtownnewbraunfels.com/event/summer-camp-printing-history-adventure-7th-8th-grade-2/
LOCATION:Sophienburg Museum & Archives\, 401 W Coll St\, New Braunfels\, TX\, 78130\, United States
CATEGORIES:Arts & Culture
ATTACH;FMTTYPE=image/png:https://downtownnewbraunfels.com/wp-content/uploads/2025/04/2025-Summer-Camps-3.png
ORGANIZER;CN="Sophienburg Museum & Archives":MAILTO:401 W Coll St
GEO:29.6978209;-98.1241527
X-APPLE-STRUCTURED-LOCATION;VALUE=URI;X-ADDRESS=Sophienburg Museum & Archives 401 W Coll St New Braunfels TX 78130 United States;X-APPLE-RADIUS=500;X-TITLE=401 W Coll St:geo:-98.1241527,29.6978209
END:VEVENT
BEGIN:VEVENT
DTSTART;TZID=America/Chicago:20250708T090000
DTEND;TZID=America/Chicago:20250710T120000
DTSTAMP:20260424T140811
CREATED:20250403T185620Z
LAST-MODIFIED:20250403T185620Z
UID:6718-1751965200-1752148800@downtownnewbraunfels.com
SUMMARY:Summer Camp-Printing & History Adventure 5th-6th grade
DESCRIPTION:Join us for an exciting 3-day summer camp that brings the fascinating world of printing and local history to life for incoming 5th-6th graders.  Located at The Sophienburg Museum at 401 W. Coll St.  Cost is $75. per camper which includes all supplies\, snacks\, and a t-shirt.  See Sophienburg website for more details and tickets. \nSophienburg Museum and Archives – Summer Camp – June 10-12\, 2025
URL:https://downtownnewbraunfels.com/event/summer-camp-printing-history-adventure-5th-6th-grade-2/
LOCATION:Sophienburg Museum & Archives\, 401 W Coll St\, New Braunfels\, TX\, 78130\, United States
CATEGORIES:Arts & Culture
ATTACH;FMTTYPE=image/png:https://downtownnewbraunfels.com/wp-content/uploads/2025/04/2025-Summer-Camps-1.png
ORGANIZER;CN="Sophienburg Museum & Archives":MAILTO:401 W Coll St
GEO:29.6978209;-98.1241527
X-APPLE-STRUCTURED-LOCATION;VALUE=URI;X-ADDRESS=Sophienburg Museum & Archives 401 W Coll St New Braunfels TX 78130 United States;X-APPLE-RADIUS=500;X-TITLE=401 W Coll St:geo:-98.1241527,29.6978209
END:VEVENT
BEGIN:VEVENT
DTSTART;TZID=America/Chicago:20250618T090000
DTEND;TZID=America/Chicago:20250618T103000
DTSTAMP:20260424T140811
CREATED:20250430T160734Z
LAST-MODIFIED:20250430T160734Z
UID:6842-1750237200-1750242600@downtownnewbraunfels.com
SUMMARY:Kaffeeklatsch
DESCRIPTION:Join us for a morning coffee break with a German twist.  Make new and meet old friends while creating a unique ornament.  Sip a cup of coffee and enjoy a sweet treat.  This month’s ornament will be a vellum paper origami bell ornament. \nDo all this at the historic Emmie Seele Faust Library at the Sophienburg Museum and Archives\, 401 W. Coll St.\, New Braunfels\, TX 78130. \n$10 per person \nReserve your spot by purchasing tickets online at:  Sophienburg Museum and Archives – Tickets
URL:https://downtownnewbraunfels.com/event/kaffeeklatsch-4/
LOCATION:Sophienburg Museum & Archives\, 401 W Coll St\, New Braunfels\, TX\, 78130\, United States
CATEGORIES:Arts & Culture,Community
ATTACH;FMTTYPE=image/png:https://downtownnewbraunfels.com/wp-content/uploads/2025/04/Kaffeeklatsch-image-.png
ORGANIZER;CN="Sophienburg Museum & Archives":MAILTO:401 W Coll St
GEO:29.6978209;-98.1241527
X-APPLE-STRUCTURED-LOCATION;VALUE=URI;X-ADDRESS=Sophienburg Museum & Archives 401 W Coll St New Braunfels TX 78130 United States;X-APPLE-RADIUS=500;X-TITLE=401 W Coll St:geo:-98.1241527,29.6978209
END:VEVENT
BEGIN:VEVENT
DTSTART;TZID=America/Chicago:20250610T130000
DTEND;TZID=America/Chicago:20250612T160000
DTSTAMP:20260424T140811
CREATED:20250403T185646Z
LAST-MODIFIED:20250403T185646Z
UID:6721-1749560400-1749744000@downtownnewbraunfels.com
SUMMARY:Summer Camp-Printing & History Adventure 7th-8th grade
DESCRIPTION:Join us for an exciting 3-day summer camp that brings the fascinating world of printing and local history to life for incoming 7th-8th graders at the Sophienburg Museum\, 401 W. Coll St.   See the Sophienburg Museum website for more details and registration. \nSophienburg Museum and Archives – Summer Camp – June 10-12\, 2025
URL:https://downtownnewbraunfels.com/event/summer-camp-printing-history-adventure-7th-8th-grade/
LOCATION:Sophienburg Museum & Archives\, 401 W Coll St\, New Braunfels\, TX\, 78130\, United States
CATEGORIES:Arts & Culture
ATTACH;FMTTYPE=image/png:https://downtownnewbraunfels.com/wp-content/uploads/2025/04/2025-Summer-Camps-2.png
ORGANIZER;CN="Sophienburg Museum & Archives":MAILTO:401 W Coll St
GEO:29.6978209;-98.1241527
X-APPLE-STRUCTURED-LOCATION;VALUE=URI;X-ADDRESS=Sophienburg Museum & Archives 401 W Coll St New Braunfels TX 78130 United States;X-APPLE-RADIUS=500;X-TITLE=401 W Coll St:geo:-98.1241527,29.6978209
END:VEVENT
BEGIN:VEVENT
DTSTART;TZID=America/Chicago:20250610T090000
DTEND;TZID=America/Chicago:20250612T120000
DTSTAMP:20260424T140811
CREATED:20250403T185526Z
LAST-MODIFIED:20250403T185526Z
UID:6714-1749546000-1749729600@downtownnewbraunfels.com
SUMMARY:Summer Camp-Printing & History Adventure 5th-6th grade
DESCRIPTION:Join us for an exciting 3-day summer camp that brings the fascinating world of printing and local history to life for incoming 5th-6th graders.  Located at the Sophienburg Museum\, 401 West Coll Street.  Cost is $75. per camper which includes all supplies\, snacks\, and a t-shirt.  See Sophienburg website for more information and tickets. \nSophienburg Museum and Archives – Summer Camp – June 10-12\, 2025
URL:https://downtownnewbraunfels.com/event/summer-camp-printing-history-adventure-5th-6th-grade/
LOCATION:Sophienburg Museum & Archives\, 401 W Coll St\, New Braunfels\, TX\, 78130\, United States
CATEGORIES:Arts & Culture
ATTACH;FMTTYPE=image/png:https://downtownnewbraunfels.com/wp-content/uploads/2025/04/2025-Summer-Camps.png
ORGANIZER;CN="Sophienburg Museum & Archives":MAILTO:401 W Coll St
GEO:29.6978209;-98.1241527
X-APPLE-STRUCTURED-LOCATION;VALUE=URI;X-ADDRESS=Sophienburg Museum & Archives 401 W Coll St New Braunfels TX 78130 United States;X-APPLE-RADIUS=500;X-TITLE=401 W Coll St:geo:-98.1241527,29.6978209
END:VEVENT
BEGIN:VEVENT
DTSTART;TZID=America/Chicago:20250604T180000
DTEND;TZID=America/Chicago:20250604T200000
DTSTAMP:20260424T140811
CREATED:20250521T235040Z
LAST-MODIFIED:20250521T235040Z
UID:6980-1749060000-1749067200@downtownnewbraunfels.com
SUMMARY:Mahjong at the Sophienburg Museum
DESCRIPTION:Join us for an exclusive open play Mahjong Night at the Museum. This is an open play event\, and you must already know how to play American Mahjong to participate. This open play event will be played with the NMJL 2025 card; please bring your own as there will only be limited extras on site day of. Enjoy drinks\, light bites\, and a friendly evening of competition. \nSpots are extremely limited\, so head to the link below and purchase tickets! Don’t know how to play just yet? Catch a Mahjong 101 course with The Mahj Duo of New Braunfels before you play with us at the museum. \nWe look forward to you joining us and supporting the Sophienburg Museum’s continued work to preserve the history of past generations to share with our future generations. \nTicket Price: $50\n\nTICKETS
URL:https://downtownnewbraunfels.com/event/mahjong-at-the-sophienburg-museum/
LOCATION:Sophienburg Museum & Archives\, 401 W Coll St\, New Braunfels\, TX\, 78130\, United States
CATEGORIES:Arts & Culture,Community,Nightlife,Theater
ATTACH;FMTTYPE=image/jpeg:https://downtownnewbraunfels.com/wp-content/uploads/2025/05/Mahjong-June.jpeg
ORGANIZER;CN="Sophienburg Museum & Archives":MAILTO:401 W Coll St
GEO:29.6978209;-98.1241527
X-APPLE-STRUCTURED-LOCATION;VALUE=URI;X-ADDRESS=Sophienburg Museum & Archives 401 W Coll St New Braunfels TX 78130 United States;X-APPLE-RADIUS=500;X-TITLE=401 W Coll St:geo:-98.1241527,29.6978209
END:VEVENT
BEGIN:VEVENT
DTSTART;TZID=America/Chicago:20250521T090000
DTEND;TZID=America/Chicago:20250521T103000
DTSTAMP:20260424T140811
CREATED:20250428T134305Z
LAST-MODIFIED:20250428T134305Z
UID:6836-1747818000-1747823400@downtownnewbraunfels.com
SUMMARY:Kaffeeklatsch
DESCRIPTION:Join us for a morning coffee break with a German twist.  Make new and meet old friends while creating a unique ornament.  Sip a cup of coffee and enjoy a sweet treat.  This month’s ornament will be a slat dough ornament using German Springerle roller. \nDo all this at the historic Emmie Seele Faust Library at the Sophienburg Museum and Archives\, 401 W. Coll St.\, New Braunfels\, TX 78130. \n$10 per person \nReserve your spot by purchasing tickets online at:  Sophienburg Museum and Archives – Tickets
URL:https://downtownnewbraunfels.com/event/kaffeeklatsch-3/
LOCATION:Sophienburg Museum & Archives\, 401 W Coll St\, New Braunfels\, TX\, 78130\, United States
CATEGORIES:Arts & Culture,Community
ATTACH;FMTTYPE=image/png:https://downtownnewbraunfels.com/wp-content/uploads/2025/04/new-image-for-kaffeeklatsch-1.png
ORGANIZER;CN="Sophienburg Museum & Archives":MAILTO:401 W Coll St
GEO:29.6978209;-98.1241527
X-APPLE-STRUCTURED-LOCATION;VALUE=URI;X-ADDRESS=Sophienburg Museum & Archives 401 W Coll St New Braunfels TX 78130 United States;X-APPLE-RADIUS=500;X-TITLE=401 W Coll St:geo:-98.1241527,29.6978209
END:VEVENT
BEGIN:VEVENT
DTSTART;TZID=America/Chicago:20250416T090000
DTEND;TZID=America/Chicago:20250416T103000
DTSTAMP:20260424T140811
CREATED:20250403T184634Z
LAST-MODIFIED:20250403T184634Z
UID:6712-1744794000-1744799400@downtownnewbraunfels.com
SUMMARY:Kaffeeklatsch
DESCRIPTION:Kaffeeklatsch-Coffee\, Conversation\, and Crafts \nJoin us for a morning coffee break with a German twist.  Make new and meet old friends while creating a unique ornament.  Sip a cup of coffee and enjoy a sweet treat. \nDo all this at the historic Emmie Seele Faust Library at the Sophienburg Museum and Archives. \nWednesday\, April 16\, 2025 from 9:00-10:30 AM. \n$10 per person. \nThis month our ornament will be Frida Kahlo mini pinata ornament. \nGet tickets at: Sophienburg Museum and Archives – Tickets \n 
URL:https://downtownnewbraunfels.com/event/kaffeeklatsch-2/
LOCATION:Sophienburg Museum & Archives\, 401 W Coll St\, New Braunfels\, TX\, 78130\, United States
CATEGORIES:Arts & Culture,Community
ATTACH;FMTTYPE=image/png:https://downtownnewbraunfels.com/wp-content/uploads/2025/04/new-image-for-kaffeeklatsch.png
ORGANIZER;CN="Sophienburg Museum & Archives":MAILTO:401 W Coll St
GEO:29.6978209;-98.1241527
X-APPLE-STRUCTURED-LOCATION;VALUE=URI;X-ADDRESS=Sophienburg Museum & Archives 401 W Coll St New Braunfels TX 78130 United States;X-APPLE-RADIUS=500;X-TITLE=401 W Coll St:geo:-98.1241527,29.6978209
END:VEVENT
BEGIN:VEVENT
DTSTART;TZID=America/Chicago:20250219T090000
DTEND;TZID=America/Chicago:20250219T103000
DTSTAMP:20260424T140811
CREATED:20250202T193746Z
LAST-MODIFIED:20250202T193746Z
UID:6364-1739955600-1739961000@downtownnewbraunfels.com
SUMMARY:Kaffeeklatsch
DESCRIPTION:Kaffeeklatsch-Coffee\, Conversation\, and Crafts. Join us for a morning coffee break with a German twist.\nSip a cup of coffee and enjoy a sweet treat while making a quilled shamrock ornament. \nDo all this at the historic Emmie Seele Faust Library at the Sophienburg Museum and Archives\, 401 W. Coll St.\, New Braunfels\, TX 78130. \n$10 per person
URL:https://downtownnewbraunfels.com/event/kaffeeklatsch/
LOCATION:Sophienburg Museum & Archives\, 401 W Coll St\, New Braunfels\, TX\, 78130\, United States
CATEGORIES:Arts & Culture,Community
ATTACH;FMTTYPE=image/png:https://downtownnewbraunfels.com/wp-content/uploads/2025/01/Kaffeeklatsch-image-.png
ORGANIZER;CN="Sophienburg Museum & Archives":MAILTO:401 W Coll St
GEO:29.6978209;-98.1241527
X-APPLE-STRUCTURED-LOCATION;VALUE=URI;X-ADDRESS=Sophienburg Museum & Archives 401 W Coll St New Braunfels TX 78130 United States;X-APPLE-RADIUS=500;X-TITLE=401 W Coll St:geo:-98.1241527,29.6978209
END:VEVENT
BEGIN:VEVENT
DTSTART;TZID=America/Chicago:20240907T100000
DTEND;TZID=America/Chicago:20240907T140000
DTSTAMP:20260424T140811
CREATED:20240905T193851Z
LAST-MODIFIED:20240905T193851Z
UID:5606-1725703200-1725717600@downtownnewbraunfels.com
SUMMARY:Fiesta Patria-El Hilo de Vida
DESCRIPTION:Join us as we celebrate Hispanic Heritage Month at the annual Fiesta Patria on Saturday\, September 7th from 10:00 a.m. – 2:00 p.m.  The day will hold live entertainment\, dancing\, food trucks\, the opportunity to learn about genealogy and so much more.  It’s a free museum day…bring the whole family! \n 
URL:https://downtownnewbraunfels.com/event/fiesta-patria-el-hilo-de-vida/
LOCATION:Sophienburg Museum & Archives\, 401 W Coll St\, New Braunfels\, TX\, 78130\, United States
CATEGORIES:Arts & Culture
ATTACH;FMTTYPE=image/png:https://downtownnewbraunfels.com/wp-content/uploads/2024/09/El-hilo-de-vida-single.png
ORGANIZER;CN="Sophienburg Museum & Archives":MAILTO:401 W Coll St
GEO:29.6978209;-98.1241527
X-APPLE-STRUCTURED-LOCATION;VALUE=URI;X-ADDRESS=Sophienburg Museum & Archives 401 W Coll St New Braunfels TX 78130 United States;X-APPLE-RADIUS=500;X-TITLE=401 W Coll St:geo:-98.1241527,29.6978209
END:VEVENT
BEGIN:VEVENT
DTSTART;TZID=America/Chicago:20230729T100000
DTEND;TZID=America/Chicago:20230729T160000
DTSTAMP:20260424T140811
CREATED:20230711T203800Z
LAST-MODIFIED:20230711T203800Z
UID:4725-1690624800-1690646400@downtownnewbraunfels.com
SUMMARY:Books at the Burg and Free Museum Day
DESCRIPTION:Local authors will be on site to sign books and answers questions with free entry for all guests that day
URL:https://downtownnewbraunfels.com/event/books-at-the-burg-and-free-museum-day/
LOCATION:Sophienburg Museum & Archives\, 401 W Coll St\, New Braunfels\, TX\, 78130\, United States
ATTACH;FMTTYPE=image/jpeg:https://downtownnewbraunfels.com/wp-content/uploads/2023/07/305409730_172659028644365_5413077287266139745_n.jpg
GEO:29.6978209;-98.1241527
X-APPLE-STRUCTURED-LOCATION;VALUE=URI;X-ADDRESS=Sophienburg Museum & Archives 401 W Coll St New Braunfels TX 78130 United States;X-APPLE-RADIUS=500;X-TITLE=401 W Coll St:geo:-98.1241527,29.6978209
END:VEVENT
BEGIN:VEVENT
DTSTART;TZID=America/Chicago:20220910T100000
DTEND;TZID=America/Chicago:20220910T140000
DTSTAMP:20260424T140811
CREATED:20220906T164133Z
LAST-MODIFIED:20220906T164133Z
UID:4036-1662804000-1662818400@downtownnewbraunfels.com
SUMMARY:Jardin de las Almas
DESCRIPTION:
URL:https://downtownnewbraunfels.com/event/jardin-de-las-almas/
LOCATION:Sophienburg Museum & Archives\, 401 W Coll St\, New Braunfels\, TX\, 78130\, United States
ATTACH;FMTTYPE=image/png:https://downtownnewbraunfels.com/wp-content/uploads/2022/09/A82FDD67-4B67-45DA-804C-E294765BC548.png
GEO:29.6978209;-98.1241527
X-APPLE-STRUCTURED-LOCATION;VALUE=URI;X-ADDRESS=Sophienburg Museum & Archives 401 W Coll St New Braunfels TX 78130 United States;X-APPLE-RADIUS=500;X-TITLE=401 W Coll St:geo:-98.1241527,29.6978209
END:VEVENT
BEGIN:VEVENT
DTSTART;TZID=America/Chicago:20180627T183000
DTEND;TZID=America/Chicago:20180627T203000
DTSTAMP:20260424T140811
CREATED:20180627T033626Z
LAST-MODIFIED:20180627T033626Z
UID:1998-1530124200-1530131400@downtownnewbraunfels.com
SUMMARY:Yoga at The Emmie
DESCRIPTION:Yoga @ The Emmie on the grounds of The Sophienburg Museum in historic downtown New Braunfels is a community yoga vinyasa class. \nCost for the class is $10 cash or check with proceeds benefiting The Sophienburg Museum & Archives. For those living in the downtown neighborhoods\, it’s easy to walk or ride bikes. Parking is available on the museum grounds. \nThe class is one hour and fifteen minutes and is designed for adults\, attracting men and women. Children ages 12 and older are welcome to attend with their parent or guardian. \nWear workout/exercise clothing\, bring a yoga mat (and other props that make you comfortable) and a smile. It’s fun\, challenging and connects you to a group of like-minded people interested in community\, giving back and elevating the mind\, body\, and spirit.
URL:https://downtownnewbraunfels.com/event/yoga-at-the-emmie/2018-06-27/
LOCATION:Sophienburg Museum & Archives\, 401 W Coll St\, New Braunfels\, TX\, 78130\, United States
ATTACH;FMTTYPE=image/jpeg:https://downtownnewbraunfels.com/wp-content/uploads/2018/06/sophienburg.jpg
ORGANIZER;CN="Sophienburg Museum & Archives":MAILTO:401 W Coll St
GEO:29.6978209;-98.1241527
X-APPLE-STRUCTURED-LOCATION;VALUE=URI;X-ADDRESS=Sophienburg Museum & Archives 401 W Coll St New Braunfels TX 78130 United States;X-APPLE-RADIUS=500;X-TITLE=401 W Coll St:geo:-98.1241527,29.6978209
END:VEVENT
END:VCALENDAR