BEGIN:VCALENDAR
VERSION:2.0
PRODID:-//New Braunfels Downtown - ECPv6.15.18//NONSGML v1.0//EN
CALSCALE:GREGORIAN
METHOD:PUBLISH
X-WR-CALNAME:New Braunfels Downtown
X-ORIGINAL-URL:https://downtownnewbraunfels.com
X-WR-CALDESC:Events for New Braunfels Downtown
REFRESH-INTERVAL;VALUE=DURATION:PT1H
X-Robots-Tag:noindex
X-PUBLISHED-TTL:PT1H
BEGIN:VTIMEZONE
TZID:America/Chicago
BEGIN:DAYLIGHT
TZOFFSETFROM:-0600
TZOFFSETTO:-0500
TZNAME:CDT
DTSTART:20170312T080000
END:DAYLIGHT
BEGIN:STANDARD
TZOFFSETFROM:-0500
TZOFFSETTO:-0600
TZNAME:CST
DTSTART:20171105T070000
END:STANDARD
BEGIN:DAYLIGHT
TZOFFSETFROM:-0600
TZOFFSETTO:-0500
TZNAME:CDT
DTSTART:20180311T080000
END:DAYLIGHT
BEGIN:STANDARD
TZOFFSETFROM:-0500
TZOFFSETTO:-0600
TZNAME:CST
DTSTART:20181104T070000
END:STANDARD
BEGIN:DAYLIGHT
TZOFFSETFROM:-0600
TZOFFSETTO:-0500
TZNAME:CDT
DTSTART:20190310T080000
END:DAYLIGHT
BEGIN:STANDARD
TZOFFSETFROM:-0500
TZOFFSETTO:-0600
TZNAME:CST
DTSTART:20191103T070000
END:STANDARD
BEGIN:DAYLIGHT
TZOFFSETFROM:-0600
TZOFFSETTO:-0500
TZNAME:CDT
DTSTART:20200308T080000
END:DAYLIGHT
BEGIN:STANDARD
TZOFFSETFROM:-0500
TZOFFSETTO:-0600
TZNAME:CST
DTSTART:20201101T070000
END:STANDARD
END:VTIMEZONE
BEGIN:VEVENT
DTSTART;TZID=America/Chicago:20190705T190000
DTEND;TZID=America/Chicago:20190705T210000
DTSTAMP:20260421T060025
CREATED:20190702T171417Z
LAST-MODIFIED:20190702T171417Z
UID:2793-1562353200-1562360400@downtownnewbraunfels.com
SUMMARY:First Friday Live Music
DESCRIPTION:Come out and Sip\, Shop and Stroll at our downtown First Friday Event. Enjoy live music from Ryan Wayguespack starting at 6:45pm \n  \n 
URL:https://downtownnewbraunfels.com/event/first-friday-live-music/
LOCATION:Water 2 Wine\, 185 S Seguin Ave\, New Braunfels\, TX\, 78130\, United States
GEO:29.7023552;-98.1233382
X-APPLE-STRUCTURED-LOCATION;VALUE=URI;X-ADDRESS=Water 2 Wine 185 S Seguin Ave New Braunfels TX 78130 United States;X-APPLE-RADIUS=500;X-TITLE=185 S Seguin Ave:geo:-98.1233382,29.7023552
END:VEVENT
BEGIN:VEVENT
DTSTART;TZID=America/Chicago:20190704T100000
DTEND;TZID=America/Chicago:20190704T170000
DTSTAMP:20260421T060025
CREATED:20190702T171629Z
LAST-MODIFIED:20190702T171629Z
UID:2796-1562234400-1562259600@downtownnewbraunfels.com
SUMMARY:Red\, White & Blue Sangria
DESCRIPTION:Join us after the downtown parade for $5 Sangrias and Mimosas (plus juice boxes for the kids). Water 2 Wine will be open from 10:00 am to 5:00 pm!
URL:https://downtownnewbraunfels.com/event/red-white-blue-sangria/
LOCATION:Water 2 Wine\, 185 S Seguin Ave\, New Braunfels\, TX\, 78130\, United States
GEO:29.7023552;-98.1233382
X-APPLE-STRUCTURED-LOCATION;VALUE=URI;X-ADDRESS=Water 2 Wine 185 S Seguin Ave New Braunfels TX 78130 United States;X-APPLE-RADIUS=500;X-TITLE=185 S Seguin Ave:geo:-98.1233382,29.7023552
END:VEVENT
BEGIN:VEVENT
DTSTART;TZID=America/Chicago:20181118T130000
DTEND;TZID=America/Chicago:20181118T170000
DTSTAMP:20260421T060025
CREATED:20180626T150105Z
LAST-MODIFIED:20180626T150134Z
UID:1884-1542546000-1542560400@downtownnewbraunfels.com
SUMMARY:Rooted in Gratitude
DESCRIPTION:Join River City Advocacy at Water 2 Wine as they celebrate the healing power of artistic expression and the beauty of showing gratitude for many things.
URL:https://downtownnewbraunfels.com/event/rooted-in-gratitude/
LOCATION:Water 2 Wine\, 185 S Seguin Ave\, New Braunfels\, TX\, 78130\, United States
ATTACH;FMTTYPE=image/jpeg:https://downtownnewbraunfels.com/wp-content/uploads/2018/06/river-city-advocacy-rooted-in-gratitude.jpg
GEO:29.7023552;-98.1233382
X-APPLE-STRUCTURED-LOCATION;VALUE=URI;X-ADDRESS=Water 2 Wine 185 S Seguin Ave New Braunfels TX 78130 United States;X-APPLE-RADIUS=500;X-TITLE=185 S Seguin Ave:geo:-98.1233382,29.7023552
END:VEVENT
BEGIN:VEVENT
DTSTART;TZID=America/Chicago:20180303T183000
DTEND;TZID=America/Chicago:20180303T210000
DTSTAMP:20260421T060025
CREATED:20180219T171020Z
LAST-MODIFIED:20180301T184512Z
UID:1374-1520101800-1520110800@downtownnewbraunfels.com
SUMMARY:Saturday Wine Down
DESCRIPTION:Come wine down and enjoy music from singer/songwriter Dakota Drummond and some new wine releases at Water 2 Wine. Dakota’s sound is influenced from the likes of Merle Haggard\, George Strait\, and Chris LeDoux.
URL:https://downtownnewbraunfels.com/event/saturday-wine-down/
LOCATION:Water 2 Wine\, 185 S Seguin Ave\, New Braunfels\, TX\, 78130\, United States
ATTACH;FMTTYPE=image/jpeg:https://downtownnewbraunfels.com/wp-content/uploads/2018/02/Wine-Down.jpg
GEO:29.7023552;-98.1233382
X-APPLE-STRUCTURED-LOCATION;VALUE=URI;X-ADDRESS=Water 2 Wine 185 S Seguin Ave New Braunfels TX 78130 United States;X-APPLE-RADIUS=500;X-TITLE=185 S Seguin Ave:geo:-98.1233382,29.7023552
END:VEVENT
END:VCALENDAR